BEGIN:VCALENDAR
VERSION:2.0
PRODID:icalendar-ruby
CALSCALE:GREGORIAN
BEGIN:VTIMEZONE
TZID:America/Chicago
BEGIN:DAYLIGHT
DTSTART:20260308T030000
TZOFFSETFROM:-0600
TZOFFSETTO:-0500
RRULE:FREQ=YEARLY;BYDAY=2SU;BYMONTH=3
TZNAME:CDT
END:DAYLIGHT
BEGIN:STANDARD
DTSTART:20261101T010000
TZOFFSETFROM:-0500
TZOFFSETTO:-0600
RRULE:FREQ=YEARLY;BYDAY=1SU;BYMONTH=11
TZNAME:CST
END:STANDARD
END:VTIMEZONE
BEGIN:VEVENT
DTSTAMP:20260423T124439Z
UID:ffce7d19-60b2-443e-8b48-9191e5264286
DTSTART:20260423T183000
DTEND:20260423T203000
DESCRIPTION:
LOCATION:Alma High School Student Union
SUMMARY:High School Band Banquet
END:VEVENT
BEGIN:VEVENT
DTSTAMP:20260423T124439Z
UID:ec270a14-8d08-445b-8c25-7798ea468dd4
DTSTART;VALUE=DATE:20260425
DTEND;VALUE=DATE:20260426
DESCRIPTION:
LOCATION:
SUMMARY:Navy Ball (AHS Union)
END:VEVENT
BEGIN:VEVENT
DTSTAMP:20260423T124439Z
UID:f38d089c-123b-4224-a822-41c476e2f273
DTSTART:20260507T130000
DTEND:20260507T150000
DESCRIPTION:
LOCATION:
SUMMARY:Senior Awards Assembly
END:VEVENT
BEGIN:VEVENT
DTSTAMP:20260423T124439Z
UID:6eccbdef-7552-48bc-9aa3-f7bdefa6d367
DTSTART:20260507T190000
DTEND:20260507T200000
DESCRIPTION:
LOCATION:Skokos Performing Arts Center\, 103 E Main St\, Alma\, AR 72921\, 
 USA
SUMMARY:Spring  Band Concert
END:VEVENT
BEGIN:VEVENT
DTSTAMP:20260423T124439Z
UID:c5082f48-bf29-4992-bf1a-5083ce15de1c
DTSTART:20260510T180000
DTEND:20260510T190000
DESCRIPTION:
LOCATION:
SUMMARY:Baccalaureate 
END:VEVENT
BEGIN:VEVENT
DTSTAMP:20260423T124439Z
UID:d8d55b52-2cdd-4397-85df-811a9e4d8ccb
DTSTART:20260512T180000
DTEND:20260512T200000
DESCRIPTION:
LOCATION:
SUMMARY:Exchange Student Banquet (Union) 
END:VEVENT
BEGIN:VEVENT
DTSTAMP:20260423T124439Z
UID:ab027e4b-8b79-4cb9-a819-6d0c19eb2c49
DTSTART;VALUE=DATE:20260516
DTEND;VALUE=DATE:20260517
DESCRIPTION:
LOCATION:
SUMMARY:Graduation
END:VEVENT
BEGIN:VEVENT
DTSTAMP:20260423T124439Z
UID:7e1f02e5-f1ca-4a51-81e8-b74396abcec9
DTSTART:20260519T154500
DTEND:20260519T163000
DESCRIPTION:
LOCATION:
SUMMARY:AHS Retirement Reception (union)
END:VEVENT
BEGIN:VEVENT
DTSTAMP:20260423T124439Z
UID:c87766c1-75aa-4422-af61-4336a9694d37
DTSTART:20260923T073000
DTEND:20260923T143000
DESCRIPTION:
LOCATION:
SUMMARY:College @ Career Day 
END:VEVENT
BEGIN:VEVENT
DTSTAMP:20260423T124439Z
UID:f80070fc-af80-462f-85b6-1da88dcdec2c
DTSTART:20260925T190000
DTEND:20260925T200000
DESCRIPTION:
LOCATION:
SUMMARY:Homecoming
END:VEVENT
BEGIN:VEVENT
DTSTAMP:20260423T124439Z
UID:4290a013-a59a-4cf7-ae8e-1857aa0d046d
DTSTART;VALUE=DATE:20261107
DTEND;VALUE=DATE:20261108
DESCRIPTION:
LOCATION:101 E Main St\, Alma\, AR 72921\, USA
SUMMARY:NJROTC Alma Drill Meet
END:VEVENT
END:VCALENDAR
