BEGIN:VCALENDAR
VERSION:2.0
PRODID:icalendar-ruby
CALSCALE:GREGORIAN
BEGIN:VTIMEZONE
TZID:America/Chicago
BEGIN:DAYLIGHT
DTSTART:20260308T030000
TZOFFSETFROM:-0600
TZOFFSETTO:-0500
RRULE:FREQ=YEARLY;BYDAY=2SU;BYMONTH=3
TZNAME:CDT
END:DAYLIGHT
BEGIN:STANDARD
DTSTART:20261101T010000
TZOFFSETFROM:-0500
TZOFFSETTO:-0600
RRULE:FREQ=YEARLY;BYDAY=1SU;BYMONTH=11
TZNAME:CST
END:STANDARD
END:VTIMEZONE
BEGIN:VEVENT
DTSTAMP:20260419T182103Z
UID:94100078-45b2-4c1b-87ca-c0b27ae3df62
DTSTART:20260513T151500
DTEND:20260513T161500
DESCRIPTION:<p>Distribution will be located on the East Side of the school 
 (the former OC Middle School\, current SOAR Academy). Please enter the cam
 pus at the northeast entrance on Rupple Road. Upon arrival\, please remain
  in your vehicle. Hope to see you there! Thank you!</p>
LOCATION:
SUMMARY:Mobile Food Pantry 
END:VEVENT
BEGIN:VEVENT
DTSTAMP:20260419T182103Z
UID:55e7d355-7528-4f46-a0f2-bc809617a877
DTSTART:20260514T173000
DTEND:20260514T181500
DESCRIPTION:
LOCATION:
SUMMARY:Eco Home Project Night 
END:VEVENT
BEGIN:VEVENT
DTSTAMP:20260419T182103Z
UID:6570d189-e8de-48a4-9ef8-db755a128d4d
DTSTART;VALUE=DATE:20260704
DTEND;VALUE=DATE:20260705
DESCRIPTION:
LOCATION:
SUMMARY:Independence Day Holiday
END:VEVENT
BEGIN:VEVENT
DTSTAMP:20260419T182103Z
UID:06e7247f-4aa1-483b-8283-160eab91b8c6
DTSTART;VALUE=DATE:20261001
DTEND;VALUE=DATE:20261002
DESCRIPTION:Create banner and News items for website\nSend something to all
  PRINCIPALS
LOCATION:
SUMMARY:National Principals Month
END:VEVENT
BEGIN:VEVENT
DTSTAMP:20260419T182103Z
UID:e55e436c-b342-41de-92bd-6b79cf23fb52
DTSTART;VALUE=DATE:20270109
DTEND;VALUE=DATE:20270110
DESCRIPTION:
LOCATION:
SUMMARY:National School Resource Officer Day
END:VEVENT
BEGIN:VEVENT
DTSTAMP:20260419T182103Z
UID:0e4c517b-e158-4003-9770-7155633dcf3b
DTSTART;VALUE=DATE:20270118
DTEND;VALUE=DATE:20270119
DESCRIPTION:
LOCATION:
SUMMARY:Martin Luther King Day - No School for Students
END:VEVENT
END:VCALENDAR
