BEGIN:VCALENDAR
VERSION:2.0
PRODID:icalendar-ruby
CALSCALE:GREGORIAN
BEGIN:VTIMEZONE
TZID:America/New_York
BEGIN:DAYLIGHT
DTSTART:20260308T030000
TZOFFSETFROM:-0500
TZOFFSETTO:-0400
RRULE:FREQ=YEARLY;BYDAY=2SU;BYMONTH=3
TZNAME:EDT
END:DAYLIGHT
BEGIN:STANDARD
DTSTART:20261101T010000
TZOFFSETFROM:-0400
TZOFFSETTO:-0500
RRULE:FREQ=YEARLY;BYDAY=1SU;BYMONTH=11
TZNAME:EST
END:STANDARD
END:VTIMEZONE
BEGIN:VEVENT
DTSTAMP:20260423T115718Z
UID:fdc2fd2e-dc77-4c67-8a6c-c952c23b2948
DTSTART;VALUE=DATE:20260424
DTEND;VALUE=DATE:20260425
DESCRIPTION:
LOCATION:
SUMMARY:Blind Swim @ ISD 
END:VEVENT
BEGIN:VEVENT
DTSTAMP:20260423T115718Z
UID:6b9a1c1d-0b31-4350-92fc-7becc78896cb
DTSTART:20260424T093000
DTEND:20260424T113000
DESCRIPTION:Kevin Buchanan Presents
LOCATION:
SUMMARY:Music Spanning Multiple Genres - Auditorium
END:VEVENT
BEGIN:VEVENT
DTSTAMP:20260423T115718Z
UID:d97e1534-6605-44d0-89d8-5e4e10e2b6cc
DTSTART:20260424T120000
DTEND:20260424T130000
DESCRIPTION:
LOCATION:
SUMMARY:Homegoing
END:VEVENT
BEGIN:VEVENT
DTSTAMP:20260423T115718Z
UID:b9033418-4325-48eb-b31a-c2940d30a036
DTSTART;VALUE=DATE:20260425
DTEND;VALUE=DATE:20260426
DESCRIPTION:
LOCATION:
SUMMARY:Blind Swim @ ISD 
END:VEVENT
BEGIN:VEVENT
DTSTAMP:20260423T115718Z
UID:50aabbda-27b6-40e9-8a55-ed5147f9d705
DTSTART;VALUE=DATE:20260426
DTEND;VALUE=DATE:20260427
DESCRIPTION:
LOCATION:
SUMMARY:Blind Swim @ ISD 
END:VEVENT
BEGIN:VEVENT
DTSTAMP:20260423T115718Z
UID:5e31118e-c497-4fa8-b576-d16a3ab8c20c
DTSTART:20260426T140000
DTEND:20260426T180000
DESCRIPTION:
LOCATION:
SUMMARY:Residential Bus Pickup
END:VEVENT
BEGIN:VEVENT
DTSTAMP:20260423T115718Z
UID:1cad2f67-2179-41fe-af0f-74144573d121
DTSTART:20260428T160000
DTEND:20260428T170000
DESCRIPTION:
LOCATION:
SUMMARY:Girls Flag Football vs WVSDB @ Home
END:VEVENT
BEGIN:VEVENT
DTSTAMP:20260423T115718Z
UID:eddeb1b3-3b54-4c49-97c0-0208ebff57ed
DTSTART:20260429T151500
DTEND:20260429T161500
DESCRIPTION:
LOCATION:
SUMMARY:CROPS Market - Yates Lobby - 3:15p - 4:00p
END:VEVENT
BEGIN:VEVENT
DTSTAMP:20260423T115718Z
UID:9f635c5e-5529-495e-9e39-a43f7743362c
DTSTART:20260429T180000
DTEND:20260429T193000
DESCRIPTION:Contact Julie Saum\, Family Engagement Specialist\, at julie.sa
 um@vsdb.k12.va.us for more information
LOCATION:
SUMMARY:Family ASL
END:VEVENT
BEGIN:VEVENT
DTSTAMP:20260423T115718Z
UID:a84a6781-54fd-487b-8523-39f6a267f9f1
DTSTART:20260430T080000
DTEND:20260430T170000
DESCRIPTION:
LOCATION:
SUMMARY:Blind Department Senior Trip
END:VEVENT
BEGIN:VEVENT
DTSTAMP:20260423T115718Z
UID:f8023e6f-2107-4aab-a16e-77cf60aa9750
DTSTART:20260430T160000
DTEND:20260430T170000
DESCRIPTION:
LOCATION:
SUMMARY:Girls Flag Football @ Tennessee 
END:VEVENT
BEGIN:VEVENT
DTSTAMP:20260423T115718Z
UID:a9c9adc5-9fce-4437-a2e4-e1ee3ab4aaf4
DTSTART:20260430T170000
DTEND:20260430T180000
DESCRIPTION:
LOCATION:
SUMMARY:Boys Volleyball @WPSD
END:VEVENT
BEGIN:VEVENT
DTSTAMP:20260423T115718Z
UID:0b2744ab-421c-471c-aa88-74c2737c31cf
DTSTART;VALUE=DATE:20260501
DTEND;VALUE=DATE:20260504
DESCRIPTION:
LOCATION:
SUMMARY:BVB and GFF Invitational @ ASD 
END:VEVENT
BEGIN:VEVENT
DTSTAMP:20260423T115718Z
UID:a58cfd98-96c5-4eb4-8ab1-c5837ce2a834
DTSTART:20260501T120000
DTEND:20260501T130000
DESCRIPTION:
LOCATION:
SUMMARY:Homegoing
END:VEVENT
BEGIN:VEVENT
DTSTAMP:20260423T115718Z
UID:edf204a7-84ef-4f46-aed9-3673b19f3dc4
DTSTART:20260503T140000
DTEND:20260503T180000
DESCRIPTION:
LOCATION:
SUMMARY:Residential Bus Pickup
END:VEVENT
BEGIN:VEVENT
DTSTAMP:20260423T115718Z
UID:167d11fb-8123-4da9-8e75-5d5dd72e4fc9
DTSTART:20260504T153000
DTEND:20260504T171500
DESCRIPTION:
LOCATION:
SUMMARY:Sudents and staff vs Boys Volleyball
END:VEVENT
BEGIN:VEVENT
DTSTAMP:20260423T115718Z
UID:8130648c-7b2e-4685-9628-9b3d9b590b9b
DTSTART:20260505T133000
DTEND:20260505T150000
DESCRIPTION:
LOCATION:
SUMMARY:2026 Yearbook Dedication - Healy Auditorium
END:VEVENT
BEGIN:VEVENT
DTSTAMP:20260423T115718Z
UID:eee3857a-374d-40f8-b7ef-adabcdb1a19b
DTSTART:20260505T153000
DTEND:20260505T171500
DESCRIPTION:
LOCATION:
SUMMARY:students and staff vs GFF
END:VEVENT
BEGIN:VEVENT
DTSTAMP:20260423T115718Z
UID:4e312120-da79-452d-9c24-356c76d4947a
DTSTART:20260506T151500
DTEND:20260506T161500
DESCRIPTION:
LOCATION:
SUMMARY:CROPS Market - Yates Lobby - 3:15p - 4:00p
END:VEVENT
BEGIN:VEVENT
DTSTAMP:20260423T115718Z
UID:4c4c8acd-5763-44e1-9822-4e9d09d21cec
DTSTART:20260507T130000
DTEND:20260507T150000
DESCRIPTION:
LOCATION:
SUMMARY:Spring Concert - Healy Auditorium - 1:00pm - 3:00pm
END:VEVENT
BEGIN:VEVENT
DTSTAMP:20260423T115718Z
UID:ecb2deb3-6c06-43f7-a5bd-29d69c248632
DTSTART:20260507T190000
DTEND:20260507T213000
DESCRIPTION:
LOCATION:Verona Volunteer Fire Department\, 465 Parker St\, Verona\, PA 151
 47\, USA
SUMMARY:2026 Prom - VFD in Verona
END:VEVENT
BEGIN:VEVENT
DTSTAMP:20260423T115718Z
UID:f8b1aa4b-fc5e-4352-8ae6-5aed7222bf84
DTSTART:20260508T090000
DTEND:20260508T113000
DESCRIPTION:
LOCATION:
SUMMARY:2026 Work Study Breakfast - Chapel
END:VEVENT
BEGIN:VEVENT
DTSTAMP:20260423T115718Z
UID:11d74223-0b40-40dc-b805-4597b3ccbef7
DTSTART:20260508T120000
DTEND:20260508T130000
DESCRIPTION:
LOCATION:
SUMMARY:Homegoing
END:VEVENT
BEGIN:VEVENT
DTSTAMP:20260423T115718Z
UID:c05b0918-aae8-418e-a89f-c781810df60d
DTSTART:20260510T140000
DTEND:20260510T180000
DESCRIPTION:
LOCATION:
SUMMARY:Residential Bus Pickup
END:VEVENT
BEGIN:VEVENT
DTSTAMP:20260423T115718Z
UID:aaac1db5-2a74-4bea-9c40-24cb83b4c3d1
DTSTART:20260511T053000
DTEND:20260511T230000
DESCRIPTION:
LOCATION:
SUMMARY:Deaf Department Senior Trip
END:VEVENT
BEGIN:VEVENT
DTSTAMP:20260423T115718Z
UID:81f4e269-405f-40fe-b961-74a2cfe73aab
DTSTART:20260511T130000
DTEND:20260511T150000
DESCRIPTION:
LOCATION:
SUMMARY:JMU storytelling presentation
END:VEVENT
BEGIN:VEVENT
DTSTAMP:20260423T115718Z
UID:32f1950c-34a5-47c4-82bc-9f21815946ea
DTSTART:20260513T080000
DTEND:20260513T113000
DESCRIPTION:
LOCATION:
SUMMARY:Blind Department Moving Up Ceremony
END:VEVENT
BEGIN:VEVENT
DTSTAMP:20260423T115718Z
UID:2f60f24b-fcba-45e6-adc0-a9229393bc96
DTSTART:20260513T083000
DTEND:20260513T111500
DESCRIPTION:
LOCATION:
SUMMARY:2026 Blind Department Moving Up Ceremony
END:VEVENT
BEGIN:VEVENT
DTSTAMP:20260423T115718Z
UID:d5eeef39-a441-4e8c-a5d1-cd6860927ba5
DTSTART:20260513T120000
DTEND:20260513T150000
DESCRIPTION:
LOCATION:
SUMMARY:2026 Deaf Department Moving Up Ceremony
END:VEVENT
BEGIN:VEVENT
DTSTAMP:20260423T115718Z
UID:02f40879-f7e4-4099-9166-8bffa18db92a
DTSTART:20260513T120000
DTEND:20260513T143000
DESCRIPTION:
LOCATION:
SUMMARY:Deaf Department Moving Up Ceremony
END:VEVENT
BEGIN:VEVENT
DTSTAMP:20260423T115718Z
UID:0c5a7edb-ef9d-49a3-985c-1a1d784d5def
DTSTART:20260513T151500
DTEND:20260513T161500
DESCRIPTION:
LOCATION:
SUMMARY:CROPS Market - Yates Lobby - 3:15p - 4:00p
END:VEVENT
BEGIN:VEVENT
DTSTAMP:20260423T115718Z
UID:7fde5007-e9c8-46b5-8fb8-b55af5b2e5f5
DTSTART:20260514T180000
DTEND:20260514T210000
DESCRIPTION:
LOCATION:
SUMMARY:Senior Night! 
END:VEVENT
BEGIN:VEVENT
DTSTAMP:20260423T115718Z
UID:5f32af4a-db21-4006-afe3-72e3ea8a6110
DTSTART;VALUE=DATE:20260515
DTEND;VALUE=DATE:20260516
DESCRIPTION:
LOCATION:
SUMMARY:Last day of School for Students
END:VEVENT
BEGIN:VEVENT
DTSTAMP:20260423T115718Z
UID:a6eac4a3-b408-4d76-a81c-e7cc81f6b5f5
DTSTART:20260515T100000
DTEND:20260515T113000
DESCRIPTION:
LOCATION:
SUMMARY:Graduation
END:VEVENT
BEGIN:VEVENT
DTSTAMP:20260423T115718Z
UID:3a7de915-93a5-4eda-8c34-ec8244173f85
DTSTART:20260515T120000
DTEND:20260515T130000
DESCRIPTION:
LOCATION:
SUMMARY:Homegoing
END:VEVENT
END:VCALENDAR
