BEGIN:VCALENDAR
VERSION:2.0
PRODID:icalendar-ruby
CALSCALE:GREGORIAN
BEGIN:VTIMEZONE
TZID:America/New_York
BEGIN:DAYLIGHT
DTSTART:20260308T030000
TZOFFSETFROM:-0500
TZOFFSETTO:-0400
RRULE:FREQ=YEARLY;BYDAY=2SU;BYMONTH=3
TZNAME:EDT
END:DAYLIGHT
BEGIN:STANDARD
DTSTART:20261101T010000
TZOFFSETFROM:-0400
TZOFFSETTO:-0500
RRULE:FREQ=YEARLY;BYDAY=1SU;BYMONTH=11
TZNAME:EST
END:STANDARD
END:VTIMEZONE
BEGIN:VEVENT
DTSTAMP:20260425T151300Z
UID:3deea14c-5adf-41b7-b93e-25421db50932
DTSTART:20260504T183000
DTEND:20260504T193000
DESCRIPTION:
LOCATION:
SUMMARY:Grades 5-8 Spring Chorus Concert
END:VEVENT
BEGIN:VEVENT
DTSTAMP:20260425T151300Z
UID:3559b39d-6a54-41fa-85aa-22566b8b437e
DTSTART:20260507T183000
DTEND:20260507T193000
DESCRIPTION:
LOCATION:
SUMMARY:Grades 5-8 Spring Band Concert
END:VEVENT
BEGIN:VEVENT
DTSTAMP:20260425T151300Z
UID:578df782-4ea5-4571-bd88-0fef1b935307
DTSTART:20260520T110000
DTEND:20260520T143000
DESCRIPTION:
LOCATION:
SUMMARY:Early Release Day
END:VEVENT
BEGIN:VEVENT
DTSTAMP:20260425T151300Z
UID:1212147e-8e9a-403c-a97c-22e55c872d63
DTSTART;VALUE=DATE:20260525
DTEND;VALUE=DATE:20260526
DESCRIPTION:
LOCATION:
SUMMARY:No School - Holiday
END:VEVENT
BEGIN:VEVENT
DTSTAMP:20260425T151300Z
UID:d39c169e-8c0a-4b1b-a5b6-c04c6dfb5f3d
DTSTART:20260604T090000
DTEND:20260604T190000
DESCRIPTION:
LOCATION:
SUMMARY:7/8 Great East Music Festival
END:VEVENT
BEGIN:VEVENT
DTSTAMP:20260425T151300Z
UID:2d672809-e2c5-4a24-b331-0701422a3537
DTSTART;VALUE=DATE:20260616
DTEND;VALUE=DATE:20260617
DESCRIPTION:
LOCATION:
SUMMARY:LAST Day of School with NO STORM DAYS - 11am dismissal
END:VEVENT
END:VCALENDAR
