BEGIN:VCALENDAR
VERSION:2.0
PRODID:icalendar-ruby
CALSCALE:GREGORIAN
BEGIN:VTIMEZONE
TZID:America/New_York
BEGIN:DAYLIGHT
DTSTART:20260308T030000
TZOFFSETFROM:-0500
TZOFFSETTO:-0400
RRULE:FREQ=YEARLY;BYDAY=2SU;BYMONTH=3
TZNAME:EDT
END:DAYLIGHT
BEGIN:STANDARD
DTSTART:20261101T010000
TZOFFSETFROM:-0400
TZOFFSETTO:-0500
RRULE:FREQ=YEARLY;BYDAY=1SU;BYMONTH=11
TZNAME:EST
END:STANDARD
END:VTIMEZONE
BEGIN:VEVENT
DTSTAMP:20260423T225431Z
UID:df35411e-584d-420b-a328-2dd213fd7fe8
DTSTART;VALUE=DATE:20260420
DTEND;VALUE=DATE:20260425
DESCRIPTION:
LOCATION:
SUMMARY:No School - Spring Break
END:VEVENT
BEGIN:VEVENT
DTSTAMP:20260423T225431Z
UID:8daeb8bc-d10e-4605-9c3f-4beda6e9eef7
DTSTART;VALUE=DATE:20260504
DTEND;VALUE=DATE:20260509
DESCRIPTION:
LOCATION:
SUMMARY:USNS Testing
END:VEVENT
BEGIN:VEVENT
DTSTAMP:20260423T225431Z
UID:03a72df1-1f1d-423c-ac2c-e63b7cc9b8b9
DTSTART;VALUE=DATE:20260508
DTEND;VALUE=DATE:20260510
DESCRIPTION:
LOCATION:
SUMMARY:Spring Musical
END:VEVENT
BEGIN:VEVENT
DTSTAMP:20260423T225431Z
UID:e7dd61c6-4e77-4549-a7c6-543546dc90d6
DTSTART;VALUE=DATE:20260512
DTEND;VALUE=DATE:20260516
DESCRIPTION:
LOCATION:
SUMMARY:NHSAS Testing MS
END:VEVENT
BEGIN:VEVENT
DTSTAMP:20260423T225431Z
UID:23a2b7ee-7385-497c-a1e6-d13b4b6ea4f1
DTSTART:20260512T173000
DTEND:20260512T182000
DESCRIPTION:
LOCATION:
SUMMARY:5th Grade Families Meeting (Library Commons)
END:VEVENT
BEGIN:VEVENT
DTSTAMP:20260423T225431Z
UID:8d028cf4-479c-4dd9-a23c-a985db2353c4
DTSTART:20260512T190000
DTEND:20260512T210000
DESCRIPTION:
LOCATION:
SUMMARY:Lyme School Board Meeting
END:VEVENT
BEGIN:VEVENT
DTSTAMP:20260423T225431Z
UID:2a92d265-67a1-4396-a969-7dc14a9aeed3
DTSTART:20260515T190000
DTEND:20260515T203000
DESCRIPTION:
LOCATION:
SUMMARY:Activity Night 5th Invited
END:VEVENT
BEGIN:VEVENT
DTSTAMP:20260423T225431Z
UID:905fd091-a5a9-4933-9015-b8cf96dbceee
DTSTART;VALUE=DATE:20260518
DTEND;VALUE=DATE:20260523
DESCRIPTION:
LOCATION:
SUMMARY:DC Trip
END:VEVENT
BEGIN:VEVENT
DTSTAMP:20260423T225431Z
UID:9b97b1e2-a501-4de0-ab68-778042b0f337
DTSTART:20260518T193000
DTEND:20260518T203000
DESCRIPTION:
LOCATION:https://meet.google.com/vnf-gfys-zqd
SUMMARY:PTO Meeting
END:VEVENT
BEGIN:VEVENT
DTSTAMP:20260423T225431Z
UID:41dec96f-a85b-4ad6-8056-231b77ebbf7a
DTSTART;VALUE=DATE:20260525
DTEND;VALUE=DATE:20260526
DESCRIPTION:
LOCATION:
SUMMARY:No School - Memorial Day
END:VEVENT
BEGIN:VEVENT
DTSTAMP:20260423T225431Z
UID:8cbbb409-cd4a-4e22-815f-492b13ff97b4
DTSTART:20260526T130000
DTEND:20260526T150000
DESCRIPTION:
LOCATION:
SUMMARY:Step Up Day HHS
END:VEVENT
BEGIN:VEVENT
DTSTAMP:20260423T225431Z
UID:268cf84e-6d7d-400e-9073-1254b064be5c
DTSTART:20260528T131500
DTEND:20260528T134500
DESCRIPTION:
LOCATION:
SUMMARY:Maypole
END:VEVENT
BEGIN:VEVENT
DTSTAMP:20260423T225431Z
UID:6d3e0a89-ab32-4bea-a3e0-f78e5d5531f1
DTSTART:20260529T141500
DTEND:20260529T144500
DESCRIPTION:
LOCATION:
SUMMARY:Maypole Rain Date
END:VEVENT
BEGIN:VEVENT
DTSTAMP:20260423T225431Z
UID:2afbc63e-c679-489b-8076-8f65c683c760
DTSTART;VALUE=DATE:20260602
DTEND;VALUE=DATE:20260603
DESCRIPTION:
LOCATION:
SUMMARY:4th Grade Field Trip
END:VEVENT
BEGIN:VEVENT
DTSTAMP:20260423T225431Z
UID:0d9c939e-8443-4654-8751-9e14c62b475f
DTSTART;VALUE=DATE:20260605
DTEND;VALUE=DATE:20260606
DESCRIPTION:
LOCATION:
SUMMARY:Band Field Trip
END:VEVENT
BEGIN:VEVENT
DTSTAMP:20260423T225431Z
UID:44288750-7969-4f19-acfb-9e2a4f3c9997
DTSTART:20260605T190000
DTEND:20260605T210000
DESCRIPTION:
LOCATION:
SUMMARY:HHS 8th Grade Dance
END:VEVENT
BEGIN:VEVENT
DTSTAMP:20260423T225431Z
UID:a193fdb0-7901-4537-bd73-e83e22a92e72
DTSTART:20260609T190000
DTEND:20260609T210000
DESCRIPTION:
LOCATION:
SUMMARY:Lyme School Board Meeting
END:VEVENT
BEGIN:VEVENT
DTSTAMP:20260423T225431Z
UID:4dec5499-f89b-415a-b950-29a3451c7f01
DTSTART;VALUE=DATE:20260611
DTEND;VALUE=DATE:20260612
DESCRIPTION:
LOCATION:
SUMMARY:4th Grade Field Trip
END:VEVENT
BEGIN:VEVENT
DTSTAMP:20260423T225431Z
UID:84c50672-d5c4-485d-abae-8a9e3336871d
DTSTART;VALUE=DATE:20260618
DTEND;VALUE=DATE:20260619
DESCRIPTION:
LOCATION:
SUMMARY:3rd Trimester Ends
END:VEVENT
BEGIN:VEVENT
DTSTAMP:20260423T225431Z
UID:97c13ba9-35b7-4dd3-a72a-5f82031d7614
DTSTART;VALUE=DATE:20260618
DTEND;VALUE=DATE:20260619
DESCRIPTION:
LOCATION:
SUMMARY:8th Grade Graduation
END:VEVENT
BEGIN:VEVENT
DTSTAMP:20260423T225431Z
UID:77195249-796f-4ae5-94b7-ecb9639aafb6
DTSTART;VALUE=DATE:20260618
DTEND;VALUE=DATE:20260619
DESCRIPTION:
LOCATION:
SUMMARY:Field Day
END:VEVENT
BEGIN:VEVENT
DTSTAMP:20260423T225431Z
UID:796fa054-4097-4a13-bd4e-92f796c35e0c
DTSTART;VALUE=DATE:20260618
DTEND;VALUE=DATE:20260619
DESCRIPTION:
LOCATION:
SUMMARY:Last Day of School
END:VEVENT
BEGIN:VEVENT
DTSTAMP:20260423T225431Z
UID:1ef7e166-95c4-49ff-a09c-543b0268855e
DTSTART;VALUE=DATE:20260622
DTEND;VALUE=DATE:20260623
DESCRIPTION:
LOCATION:
SUMMARY:Teacher In-service
END:VEVENT
BEGIN:VEVENT
DTSTAMP:20260423T225431Z
UID:34862dd5-fdfc-44fa-b7ff-38bce6d4fb72
DTSTART;VALUE=DATE:20260908
DTEND;VALUE=DATE:20260909
DESCRIPTION:
LOCATION:
SUMMARY:NH Primary
END:VEVENT
BEGIN:VEVENT
DTSTAMP:20260423T225431Z
UID:40c6909c-2f98-4324-95ff-0fe862254d33
DTSTART;VALUE=DATE:20260915
DTEND;VALUE=DATE:20260916
DESCRIPTION:
LOCATION:
SUMMARY:School Picture Day
END:VEVENT
BEGIN:VEVENT
DTSTAMP:20260423T225431Z
UID:2ba0ece1-cf10-4c8a-b1be-07c817e404cf
DTSTART;VALUE=DATE:20260925
DTEND;VALUE=DATE:20260926
DESCRIPTION:\nProposed Schedule:\n8:30-9:00-Grade 3\n9:15-9:45-Grade 4's\n1
 0:00-10:30-Grade 5\n10:40-11:00-Grade 1\n11:10-11:30-Grade K\n11:40-12:00-
 Grade 2\n12:00-12:30-Grade 6\n12:45-1:15-Grade 7\n1:20-1:50-Grade 8
LOCATION:
SUMMARY:Blisters for Books
END:VEVENT
BEGIN:VEVENT
DTSTAMP:20260423T225431Z
UID:94c5ac54-5d28-42a6-b21d-f783c8a8d502
DTSTART;VALUE=DATE:20261103
DTEND;VALUE=DATE:20261104
DESCRIPTION:
LOCATION:
SUMMARY:Inservice - School Closed
END:VEVENT
END:VCALENDAR
