BEGIN:VCALENDAR
VERSION:2.0
PRODID:icalendar-ruby
CALSCALE:GREGORIAN
BEGIN:VTIMEZONE
TZID:America/Chicago
BEGIN:DAYLIGHT
DTSTART:20260308T030000
TZOFFSETFROM:-0600
TZOFFSETTO:-0500
RRULE:FREQ=YEARLY;BYDAY=2SU;BYMONTH=3
TZNAME:CDT
END:DAYLIGHT
BEGIN:STANDARD
DTSTART:20261101T010000
TZOFFSETFROM:-0500
TZOFFSETTO:-0600
RRULE:FREQ=YEARLY;BYDAY=1SU;BYMONTH=11
TZNAME:CST
END:STANDARD
END:VTIMEZONE
BEGIN:VEVENT
DTSTAMP:20260422T183701Z
UID:3e5f21c8-4697-45a7-b550-bf9243dcce56
DTSTART:20260424T080000
DTEND:20260424T090000
DESCRIPTION:
LOCATION:
SUMMARY:School Improvement Day- 11:25 AM Dismissal
END:VEVENT
BEGIN:VEVENT
DTSTAMP:20260422T183701Z
UID:704b265c-d9ab-4652-bac7-56822f45fdec
DTSTART:20260424T090000
DTEND:20260424T110000
DESCRIPTION:
LOCATION:
SUMMARY:Wagoner Parent Chat 
END:VEVENT
BEGIN:VEVENT
DTSTAMP:20260422T183701Z
UID:35577d75-d696-418b-95a7-9164ed4bb92d
DTSTART:20260505T160000
DTEND:20260505T180000
DESCRIPTION:
LOCATION:
SUMMARY:Mult-cultural Fest @ Wagoner 4pm-6pm
END:VEVENT
BEGIN:VEVENT
DTSTAMP:20260422T183701Z
UID:688ae424-b509-4124-9cc0-fdb16f4d2901
DTSTART:20260520T080000
DTEND:20260520T090000
DESCRIPTION:
LOCATION:
SUMMARY:Kindergarten Graduation
END:VEVENT
BEGIN:VEVENT
DTSTAMP:20260422T183701Z
UID:7f46d1ba-aca9-44cf-a8f6-60bc40772f87
DTSTART:20260521T080000
DTEND:20260521T090000
DESCRIPTION:
LOCATION:
SUMMARY:Last Day of Student Attendance- 11:25 am Dismissal
END:VEVENT
BEGIN:VEVENT
DTSTAMP:20260422T183701Z
UID:a111d0b6-847d-4575-8fd4-094142f05dc8
DTSTART:20260521T080000
DTEND:20260521T090000
DESCRIPTION:
LOCATION:
SUMMARY:School Improvement Day- 11:25 AM Dismissal
END:VEVENT
BEGIN:VEVENT
DTSTAMP:20260422T183701Z
UID:18579736-cc6e-4eda-8b53-2b049216b9c8
DTSTART;VALUE=DATE:20260522
DTEND;VALUE=DATE:20260523
DESCRIPTION:
LOCATION:
SUMMARY:Teacher Institute Day- Non-Student Attendance
END:VEVENT
END:VCALENDAR
