BEGIN:VCALENDAR
VERSION:2.0
PRODID:icalendar-ruby
CALSCALE:GREGORIAN
BEGIN:VTIMEZONE
TZID:America/New_York
BEGIN:DAYLIGHT
DTSTART:20260308T030000
TZOFFSETFROM:-0500
TZOFFSETTO:-0400
RRULE:FREQ=YEARLY;BYDAY=2SU;BYMONTH=3
TZNAME:EDT
END:DAYLIGHT
BEGIN:STANDARD
DTSTART:20261101T010000
TZOFFSETFROM:-0400
TZOFFSETTO:-0500
RRULE:FREQ=YEARLY;BYDAY=1SU;BYMONTH=11
TZNAME:EST
END:STANDARD
END:VTIMEZONE
BEGIN:VEVENT
DTSTAMP:20260423T164159Z
UID:b5bd1290-4e0e-4e1e-b00a-ce7b8c2107de
DTSTART;VALUE=DATE:20260420
DTEND;VALUE=DATE:20260425
DESCRIPTION:
LOCATION:
SUMMARY:April Break
END:VEVENT
BEGIN:VEVENT
DTSTAMP:20260423T164159Z
UID:20657bae-8e36-446f-836f-31b3c8eb045c
DTSTART;VALUE=DATE:20260428
DTEND;VALUE=DATE:20260429
DESCRIPTION:
LOCATION:
SUMMARY:Tour of the Town-3B/3S
END:VEVENT
BEGIN:VEVENT
DTSTAMP:20260423T164159Z
UID:a06a8e1d-66b6-4da4-8b3f-7d345e4e06e9
DTSTART:20260429T090000
DTEND:20260429T150000
DESCRIPTION:
LOCATION:
SUMMARY:Grade 5 MCAS-Math
END:VEVENT
BEGIN:VEVENT
DTSTAMP:20260423T164159Z
UID:d8c8dd24-da7a-447b-81c0-914e799b1766
DTSTART:20260429T180000
DTEND:20260429T190000
DESCRIPTION:
LOCATION:
SUMMARY:Martin School Association (MSA) Meeting-Library
END:VEVENT
BEGIN:VEVENT
DTSTAMP:20260423T164159Z
UID:c4cdb410-297c-4b92-9a2e-682866df778f
DTSTART:20260430T090000
DTEND:20260430T150000
DESCRIPTION:
LOCATION:
SUMMARY:Grade 4 MCAS-Math
END:VEVENT
BEGIN:VEVENT
DTSTAMP:20260423T164159Z
UID:326c4026-95e9-42a2-900c-06cfb15614b3
DTSTART:20260430T100000
DTEND:20260430T111500
DESCRIPTION:
LOCATION:
SUMMARY:5th Grade Tour of NAMS
END:VEVENT
BEGIN:VEVENT
DTSTAMP:20260423T164159Z
UID:1e2164c8-b57f-4b0e-af6a-3b0e037e8ef5
DTSTART:20260501T090000
DTEND:20260501T150000
DESCRIPTION:
LOCATION:
SUMMARY:Grade 3 MCAS-Math
END:VEVENT
BEGIN:VEVENT
DTSTAMP:20260423T164159Z
UID:88a6af24-c02c-4749-93ef-dbcd8563b5f5
DTSTART;VALUE=DATE:20260505
DTEND;VALUE=DATE:20260506
DESCRIPTION:
LOCATION:
SUMMARY:Southwick Zoo-2nd Grade
END:VEVENT
BEGIN:VEVENT
DTSTAMP:20260423T164159Z
UID:13cc56cf-6ffc-4e31-a0d5-b9590aad43c0
DTSTART:20260505T090000
DTEND:20260505T150000
DESCRIPTION:
LOCATION:
SUMMARY:Grade 5 MCAS-Math
END:VEVENT
BEGIN:VEVENT
DTSTAMP:20260423T164159Z
UID:d905834e-d84a-41c8-862d-58a63d3fda5b
DTSTART;VALUE=DATE:20260506
DTEND;VALUE=DATE:20260507
DESCRIPTION:
LOCATION:
SUMMARY:Barn Babies Enrichment
END:VEVENT
BEGIN:VEVENT
DTSTAMP:20260423T164159Z
UID:837f034c-91d6-4032-a6cd-e748f31725d9
DTSTART:20260506T090000
DTEND:20260506T150000
DESCRIPTION:
LOCATION:
SUMMARY:Grade 4 MCAS-Math
END:VEVENT
BEGIN:VEVENT
DTSTAMP:20260423T164159Z
UID:aba6dbc9-b2a2-4514-bb40-d1993d73199b
DTSTART;VALUE=DATE:20260507
DTEND;VALUE=DATE:20260508
DESCRIPTION:
LOCATION:
SUMMARY:Southwick Zoo Field Trip-2nd Grade
END:VEVENT
BEGIN:VEVENT
DTSTAMP:20260423T164159Z
UID:c2f4ab81-9b6c-44e4-bdf9-b92e11e0a688
DTSTART:20260508T090000
DTEND:20260508T150000
DESCRIPTION:
LOCATION:
SUMMARY:Grade 3 MCAS-Math
END:VEVENT
BEGIN:VEVENT
DTSTAMP:20260423T164159Z
UID:f0eca555-9881-4411-b850-87285c9bb793
DTSTART:20260512T090000
DTEND:20260512T150000
DESCRIPTION:
LOCATION:
SUMMARY:Grade 5 MCAS-Science
END:VEVENT
BEGIN:VEVENT
DTSTAMP:20260423T164159Z
UID:206990e3-d1a3-4a37-a27c-fbfb46802793
DTSTART:20260513T090000
DTEND:20260513T100000
DESCRIPTION:
LOCATION:
SUMMARY:Individual & Class Photos-Lifetouch
END:VEVENT
BEGIN:VEVENT
DTSTAMP:20260423T164159Z
UID:8b76f6af-301b-470c-bd8e-c5a283fd4844
DTSTART:20260513T180000
DTEND:20260513T190000
DESCRIPTION:
LOCATION:
SUMMARY:Martin School Association (MSA) Meeting-Library
END:VEVENT
BEGIN:VEVENT
DTSTAMP:20260423T164159Z
UID:8eb6b4b9-8710-47af-9729-0daa1aad92d2
DTSTART;VALUE=DATE:20260514
DTEND;VALUE=DATE:20260515
DESCRIPTION:
LOCATION:
SUMMARY:Tour of the Town-3B/3S
END:VEVENT
BEGIN:VEVENT
DTSTAMP:20260423T164159Z
UID:84869b66-6536-462c-88b6-c365cdb90eb5
DTSTART;VALUE=DATE:20260519
DTEND;VALUE=DATE:20260520
DESCRIPTION:
LOCATION:
SUMMARY:Tour of the Town-3CF/3SF
END:VEVENT
BEGIN:VEVENT
DTSTAMP:20260423T164159Z
UID:50079ef5-488b-4fb5-9018-13b87525736a
DTSTART:20260519T090000
DTEND:20260519T150000
DESCRIPTION:
LOCATION:
SUMMARY:Grade 5 MCAS-Science
END:VEVENT
BEGIN:VEVENT
DTSTAMP:20260423T164159Z
UID:08c4f5a1-4c1b-4d52-8d78-5ad32a6864ec
DTSTART;VALUE=DATE:20260522
DTEND;VALUE=DATE:20260523
DESCRIPTION:
LOCATION:
SUMMARY:3rd Grade Field Trip to RI Philharmonic
END:VEVENT
BEGIN:VEVENT
DTSTAMP:20260423T164159Z
UID:cb65322d-061f-4441-b2a8-ff9eb26c04c9
DTSTART;VALUE=DATE:20260525
DTEND;VALUE=DATE:20260526
DESCRIPTION:
LOCATION:
SUMMARY:No School-Memorial Day
END:VEVENT
BEGIN:VEVENT
DTSTAMP:20260423T164159Z
UID:8c695c48-1b04-4bd0-ad68-52bb15941b91
DTSTART;VALUE=DATE:20260601
DTEND;VALUE=DATE:20260602
DESCRIPTION:
LOCATION:
SUMMARY:Walk to School Day
END:VEVENT
BEGIN:VEVENT
DTSTAMP:20260423T164159Z
UID:60f45a9b-62bb-4217-a2a5-997b4b581996
DTSTART;VALUE=DATE:20260604
DTEND;VALUE=DATE:20260605
DESCRIPTION:
LOCATION:
SUMMARY:Field Day
END:VEVENT
BEGIN:VEVENT
DTSTAMP:20260423T164159Z
UID:37084cf0-6107-47b6-9d90-4fb5caeba507
DTSTART:20260605T090000
DTEND:20260605T103000
DESCRIPTION:
LOCATION:
SUMMARY:NAHS Senior Elementary Visits\, times varies
END:VEVENT
BEGIN:VEVENT
DTSTAMP:20260423T164159Z
UID:3a825681-fb0d-4206-b5fb-d6c2833b2302
DTSTART;VALUE=DATE:20260608
DTEND;VALUE=DATE:20260611
DESCRIPTION:
LOCATION:
SUMMARY:Kindergarten Screening
END:VEVENT
BEGIN:VEVENT
DTSTAMP:20260423T164159Z
UID:90764578-8e25-49c1-87f7-47625092c9fb
DTSTART;VALUE=DATE:20260610
DTEND;VALUE=DATE:20260611
DESCRIPTION:
LOCATION:
SUMMARY:5th Grade Social-YMCA
END:VEVENT
BEGIN:VEVENT
DTSTAMP:20260423T164159Z
UID:d8d6f2c6-0714-4bcf-9945-6cccd34d9bb2
DTSTART;VALUE=DATE:20260612
DTEND;VALUE=DATE:20260613
DESCRIPTION:
LOCATION:
SUMMARY:5th Grade Social Rain Date
END:VEVENT
BEGIN:VEVENT
DTSTAMP:20260423T164159Z
UID:3f86f0f5-40e1-4bc8-b091-18873addf6a1
DTSTART;VALUE=DATE:20260618
DTEND;VALUE=DATE:20260619
DESCRIPTION:
LOCATION:
SUMMARY:Last Day of School-Noon Dismissal
END:VEVENT
BEGIN:VEVENT
DTSTAMP:20260423T164159Z
UID:7fb4bdb6-8f54-46a3-b9a3-92ace24fb973
DTSTART;VALUE=DATE:20260618
DTEND;VALUE=DATE:20260619
DESCRIPTION:
LOCATION:
SUMMARY:Report Cards Issued
END:VEVENT
BEGIN:VEVENT
DTSTAMP:20260423T164159Z
UID:009e666d-eafc-4bf0-89b4-0bb08e264d32
DTSTART:20260820T100000
DTEND:20260820T110000
DESCRIPTION:
LOCATION:
SUMMARY:Kindergarten Orientation-Last Names A-I
END:VEVENT
BEGIN:VEVENT
DTSTAMP:20260423T164159Z
UID:0ea1761e-71a8-4955-a0c7-9910e16311ae
DTSTART:20260820T110000
DTEND:20260820T120000
DESCRIPTION:
LOCATION:
SUMMARY:Kindergarten Orientation-Last Names J-Z
END:VEVENT
BEGIN:VEVENT
DTSTAMP:20260423T164159Z
UID:c12f2b85-8f63-4894-99d4-a05bff6c9343
DTSTART:20260820T130000
DTEND:20260820T140000
DESCRIPTION:
LOCATION:37 Landry Ave\, North Attleborough\, MA 02760\, USA
SUMMARY:New Student Orientation
END:VEVENT
BEGIN:VEVENT
DTSTAMP:20260423T164159Z
UID:0f640636-d34e-4de5-9ddd-c1cdba69f486
DTSTART;VALUE=DATE:20260826
DTEND;VALUE=DATE:20260827
DESCRIPTION:
LOCATION:
SUMMARY:Staff Return-Professional Development Day
END:VEVENT
BEGIN:VEVENT
DTSTAMP:20260423T164159Z
UID:ad9a78db-779e-42dc-9f18-5ba295cac75b
DTSTART;VALUE=DATE:20260827
DTEND;VALUE=DATE:20260828
DESCRIPTION:
LOCATION:
SUMMARY:Staff Return-Professional Development Day
END:VEVENT
BEGIN:VEVENT
DTSTAMP:20260423T164159Z
UID:7c01e9eb-ee9b-46c4-a2be-3d507bcb3d1e
DTSTART;VALUE=DATE:20260831
DTEND;VALUE=DATE:20260901
DESCRIPTION:
LOCATION:
SUMMARY:First Day of School-Students Return
END:VEVENT
BEGIN:VEVENT
DTSTAMP:20260423T164159Z
UID:ea41eb08-56a9-4d4e-b594-f1ac259df17c
DTSTART;VALUE=DATE:20260904
DTEND;VALUE=DATE:20260905
DESCRIPTION:
LOCATION:
SUMMARY:No School-Labor Day Weekend
END:VEVENT
BEGIN:VEVENT
DTSTAMP:20260423T164159Z
UID:03dd40a4-5391-4f1d-bc16-66828ca795b0
DTSTART;VALUE=DATE:20260907
DTEND;VALUE=DATE:20260908
DESCRIPTION:
LOCATION:
SUMMARY:No School-Labor Day
END:VEVENT
BEGIN:VEVENT
DTSTAMP:20260423T164159Z
UID:6e1bb585-8bd6-4939-8261-ede367072492
DTSTART;VALUE=DATE:20260914
DTEND;VALUE=DATE:20260915
DESCRIPTION:
LOCATION:
SUMMARY:Open House K-5
END:VEVENT
BEGIN:VEVENT
DTSTAMP:20260423T164159Z
UID:e9eab278-18d1-4598-95f3-107fd0028467
DTSTART;VALUE=DATE:20261007
DTEND;VALUE=DATE:20261008
DESCRIPTION:
LOCATION:
SUMMARY:Early Release-Staff Development-Noon Dismissal
END:VEVENT
BEGIN:VEVENT
DTSTAMP:20260423T164159Z
UID:c81cfcfa-c2cd-45e2-ade5-430d7e53d031
DTSTART;VALUE=DATE:20261012
DTEND;VALUE=DATE:20261013
DESCRIPTION:
LOCATION:
SUMMARY:No School-Columbus Day
END:VEVENT
BEGIN:VEVENT
DTSTAMP:20260423T164159Z
UID:5359caf1-30a1-4511-b1da-02acad8e9ad9
DTSTART;VALUE=DATE:20261103
DTEND;VALUE=DATE:20261104
DESCRIPTION:
LOCATION:
SUMMARY:No School-Professional Development Day
END:VEVENT
BEGIN:VEVENT
DTSTAMP:20260423T164159Z
UID:61f20c5c-ed93-41b3-9dfe-cc47043f57ee
DTSTART;VALUE=DATE:20261111
DTEND;VALUE=DATE:20261112
DESCRIPTION:
LOCATION:
SUMMARY:No School-Veterans Day
END:VEVENT
BEGIN:VEVENT
DTSTAMP:20260423T164159Z
UID:f50ecd93-ce6c-4a7d-986e-bf69993280a8
DTSTART;VALUE=DATE:20261119
DTEND;VALUE=DATE:20261120
DESCRIPTION:
LOCATION:
SUMMARY:Early Release (Parent/Teacher Conferences Day & Evening)12p Dismiss
 al
END:VEVENT
BEGIN:VEVENT
DTSTAMP:20260423T164159Z
UID:57629021-821a-4d44-ab98-23d7377b34f7
DTSTART;VALUE=DATE:20261120
DTEND;VALUE=DATE:20261121
DESCRIPTION:
LOCATION:
SUMMARY:Early Release (Parent Teacher Conferences-Day Only) 12p Dismissal
END:VEVENT
BEGIN:VEVENT
DTSTAMP:20260423T164159Z
UID:d18145c9-d3f3-451c-98a4-5a0257d5fb1f
DTSTART;VALUE=DATE:20261125
DTEND;VALUE=DATE:20261126
DESCRIPTION:
LOCATION:
SUMMARY:Early Release-Thanksgiving Recess-12P Dismissal
END:VEVENT
BEGIN:VEVENT
DTSTAMP:20260423T164159Z
UID:75766cde-b4b3-4448-9054-a14c892cdfde
DTSTART;VALUE=DATE:20261126
DTEND;VALUE=DATE:20261128
DESCRIPTION:
LOCATION:
SUMMARY:No School-Thanksgiving Recess
END:VEVENT
BEGIN:VEVENT
DTSTAMP:20260423T164159Z
UID:138b9649-fc7d-44cd-81e3-87b390ea8ec8
DTSTART;VALUE=DATE:20261209
DTEND;VALUE=DATE:20261210
DESCRIPTION:
LOCATION:
SUMMARY:Early Release Day-Staff Development-12p Dismissal
END:VEVENT
BEGIN:VEVENT
DTSTAMP:20260423T164159Z
UID:178552df-e471-41f0-bf70-1c4e7bc6d4f4
DTSTART;VALUE=DATE:20261223
DTEND;VALUE=DATE:20261224
DESCRIPTION:
LOCATION:
SUMMARY:Early Release Day-12pm Dismissal
END:VEVENT
BEGIN:VEVENT
DTSTAMP:20260423T164159Z
UID:f0c9753c-6ab9-443f-a567-98ac5a935e46
DTSTART;VALUE=DATE:20261224
DTEND;VALUE=DATE:20270102
DESCRIPTION:
LOCATION:
SUMMARY:Winter Break
END:VEVENT
BEGIN:VEVENT
DTSTAMP:20260423T164159Z
UID:b595e7d8-0fec-4b3c-9ea2-47f4233144db
DTSTART;VALUE=DATE:20270113
DTEND;VALUE=DATE:20270114
DESCRIPTION:
LOCATION:
SUMMARY:Early Release-Staff Development-12p Dismissal
END:VEVENT
BEGIN:VEVENT
DTSTAMP:20260423T164159Z
UID:cdc04ace-70ad-45cb-a465-9edbca068532
DTSTART;VALUE=DATE:20270118
DTEND;VALUE=DATE:20270119
DESCRIPTION:
LOCATION:
SUMMARY:Martin Luther King Day-No School
END:VEVENT
BEGIN:VEVENT
DTSTAMP:20260423T164159Z
UID:8d62e6f8-4f41-4f62-92eb-2d33e4a3cd67
DTSTART;VALUE=DATE:20270119
DTEND;VALUE=DATE:20270120
DESCRIPTION:
LOCATION:
SUMMARY:No School-Professional Development Day
END:VEVENT
BEGIN:VEVENT
DTSTAMP:20260423T164159Z
UID:e146a9c3-0203-4b5d-aa85-442915ec44ca
DTSTART;VALUE=DATE:20270203
DTEND;VALUE=DATE:20270204
DESCRIPTION:
LOCATION:
SUMMARY:Early Release-Staff Development-12p Dismissal
END:VEVENT
BEGIN:VEVENT
DTSTAMP:20260423T164159Z
UID:e1037d22-7864-48e7-b527-81fcc7addf5a
DTSTART;VALUE=DATE:20270215
DTEND;VALUE=DATE:20270220
DESCRIPTION:
LOCATION:
SUMMARY:February Break
END:VEVENT
BEGIN:VEVENT
DTSTAMP:20260423T164159Z
UID:8a04fea8-028c-4b8b-8402-3ef807794513
DTSTART:20270303T090000
DTEND:20270303T100000
DESCRIPTION:
LOCATION:
SUMMARY:Early Release-Staff Development-Noon Dismissal
END:VEVENT
BEGIN:VEVENT
DTSTAMP:20260423T164159Z
UID:7f67e29d-8d65-4de3-863d-62fa8d2e2e6f
DTSTART;VALUE=DATE:20270324
DTEND;VALUE=DATE:20270325
DESCRIPTION:
LOCATION:
SUMMARY:Parent Teacher Conferences (day only)-Early Release 12pm
END:VEVENT
BEGIN:VEVENT
DTSTAMP:20260423T164159Z
UID:dc6082f6-0982-4d47-bff4-e2b35a28e3ff
DTSTART;VALUE=DATE:20270325
DTEND;VALUE=DATE:20270326
DESCRIPTION:
LOCATION:
SUMMARY:Parent Teacher Conferences (day only)-Early Release 12pm
END:VEVENT
BEGIN:VEVENT
DTSTAMP:20260423T164159Z
UID:50f2ede5-4e41-4367-a2f5-28803d658a8b
DTSTART;VALUE=DATE:20270326
DTEND;VALUE=DATE:20270327
DESCRIPTION:
LOCATION:
SUMMARY:No School-Good Friday
END:VEVENT
BEGIN:VEVENT
DTSTAMP:20260423T164159Z
UID:2417087a-e92f-4d7e-9c61-39da65beefe9
DTSTART;VALUE=DATE:20270407
DTEND;VALUE=DATE:20270408
DESCRIPTION:
LOCATION:
SUMMARY:Early Release-Staff Development-Noon Dismissal
END:VEVENT
BEGIN:VEVENT
DTSTAMP:20260423T164159Z
UID:ed13b087-f842-46e6-8d8e-cd8dee5086b4
DTSTART;VALUE=DATE:20270419
DTEND;VALUE=DATE:20270424
DESCRIPTION:
LOCATION:
SUMMARY:April Break
END:VEVENT
BEGIN:VEVENT
DTSTAMP:20260423T164159Z
UID:8f493101-d721-49a7-8b67-900fd2450316
DTSTART;VALUE=DATE:20270505
DTEND;VALUE=DATE:20270506
DESCRIPTION:
LOCATION:
SUMMARY:Early Release-Staff Development-Noon Dismissal
END:VEVENT
BEGIN:VEVENT
DTSTAMP:20260423T164159Z
UID:522dd775-0d7b-4531-8893-efa37a35c83a
DTSTART;VALUE=DATE:20270531
DTEND;VALUE=DATE:20270601
DESCRIPTION:
LOCATION:
SUMMARY:No School-Memorial Day
END:VEVENT
BEGIN:VEVENT
DTSTAMP:20260423T164159Z
UID:99512306-a29e-4073-b10e-340aab1d579e
DTSTART;VALUE=DATE:20270602
DTEND;VALUE=DATE:20270603
DESCRIPTION:
LOCATION:
SUMMARY:Early Release-Staff Development-Noon Dismissal
END:VEVENT
BEGIN:VEVENT
DTSTAMP:20260423T164159Z
UID:dec27ddd-e464-4cbe-a2d4-5192a3c3ba60
DTSTART;VALUE=DATE:20270604
DTEND;VALUE=DATE:20270605
DESCRIPTION:
LOCATION:
SUMMARY:Senior Walk Thru 
END:VEVENT
BEGIN:VEVENT
DTSTAMP:20260423T164159Z
UID:43c4f0f7-e693-4717-b2a9-702ec28af215
DTSTART;VALUE=DATE:20270616
DTEND;VALUE=DATE:20270617
DESCRIPTION:
LOCATION:
SUMMARY:Last Day of School (with no snow days)-1/2 Day
END:VEVENT
BEGIN:VEVENT
DTSTAMP:20260423T164159Z
UID:6e905101-f7d5-4690-99f3-7700868ea947
DTSTART;VALUE=DATE:20270618
DTEND;VALUE=DATE:20270619
DESCRIPTION:
LOCATION:
SUMMARY:Juneteenth Observed-No School
END:VEVENT
BEGIN:VEVENT
DTSTAMP:20260423T164159Z
UID:29f5b89b-20e1-496b-95b6-063cc85a2284
DTSTART;VALUE=DATE:20270624
DTEND;VALUE=DATE:20270625
DESCRIPTION:
LOCATION:
SUMMARY:Last Day of School (with 5 snow days)
END:VEVENT
END:VCALENDAR
