BEGIN:VCALENDAR
VERSION:2.0
PRODID:icalendar-ruby
CALSCALE:GREGORIAN
BEGIN:VTIMEZONE
TZID:America/New_York
BEGIN:DAYLIGHT
DTSTART:20260308T030000
TZOFFSETFROM:-0500
TZOFFSETTO:-0400
RRULE:FREQ=YEARLY;BYDAY=2SU;BYMONTH=3
TZNAME:EDT
END:DAYLIGHT
BEGIN:STANDARD
DTSTART:20261101T010000
TZOFFSETFROM:-0400
TZOFFSETTO:-0500
RRULE:FREQ=YEARLY;BYDAY=1SU;BYMONTH=11
TZNAME:EST
END:STANDARD
END:VTIMEZONE
BEGIN:VEVENT
DTSTAMP:20260425T040616Z
UID:27925ce4-f04f-4495-8592-e101af0f9d36
DTSTART:20260425T080000
DTEND:20260425T170000
DESCRIPTION:
LOCATION:Johnson City High School
SUMMARY:NYSSMA Solo and Small Ensemble Festival
END:VEVENT
BEGIN:VEVENT
DTSTAMP:20260425T040616Z
UID:33aea1f6-afc8-42a6-bf0f-f0e88c158f74
DTSTART:20260502T120000
DTEND:20260502T150000
DESCRIPTION:
LOCATION:UEHS
SUMMARY:Spring Fest 2026
END:VEVENT
BEGIN:VEVENT
DTSTAMP:20260425T040616Z
UID:1be210bc-e0ff-4ac8-b55b-876e5d088040
DTSTART:20260505T180000
DTEND:20260505T193000
DESCRIPTION:
LOCATION:District Office
SUMMARY:Meet the Candidates
END:VEVENT
BEGIN:VEVENT
DTSTAMP:20260425T040616Z
UID:20287c3c-8e91-4759-958a-f8f1c7e27b8b
DTSTART:20260507T183000
DTEND:20260507T200000
DESCRIPTION:
LOCATION:TBD
SUMMARY:Crawford Stahl Music Honors Recital
END:VEVENT
BEGIN:VEVENT
DTSTAMP:20260425T040616Z
UID:fe82018a-8875-4361-8edf-f16474c2e343
DTSTART:20260511T180000
DTEND:20260511T200000
DESCRIPTION:
LOCATION:1100 E Main St #5254\, Endicott\, NY 13760\, USA
SUMMARY:BOE Regular Meeting \, Public Hearing - District Office
END:VEVENT
BEGIN:VEVENT
DTSTAMP:20260425T040616Z
UID:c0ffcc2c-e8b0-40a8-b6e7-09961503e643
DTSTART:20260519T110000
DTEND:20260519T200000
DESCRIPTION:
LOCATION:1100 E Main St #5254\, Endicott\, NY 13760\, USA
SUMMARY:Budget Vote
END:VEVENT
BEGIN:VEVENT
DTSTAMP:20260425T040616Z
UID:f54583e0-7648-4628-b6a1-240a7a8ed605
DTSTART;VALUE=DATE:20260522
DTEND;VALUE=DATE:20260523
DESCRIPTION:
LOCATION:
SUMMARY:No School - Memorial Day Weekend
END:VEVENT
BEGIN:VEVENT
DTSTAMP:20260425T040616Z
UID:6396433d-c30d-4e00-9cc3-c9e97180b6cf
DTSTART;VALUE=DATE:20260525
DTEND;VALUE=DATE:20260526
DESCRIPTION:
LOCATION:
SUMMARY:No School - Memorial Day
END:VEVENT
BEGIN:VEVENT
DTSTAMP:20260425T040616Z
UID:4b24f4d2-bae3-43a5-896c-e4a56ff980bf
DTSTART:20260601T190000
DTEND:20260601T200000
DESCRIPTION:
LOCATION:1100 E Main St #5254\, Endicott\, NY 13760\, USA
SUMMARY:BOE Regular Meeting - District Office
END:VEVENT
BEGIN:VEVENT
DTSTAMP:20260425T040616Z
UID:c21e3d80-e542-4178-9637-8bbd9e2fa89d
DTSTART:20260610T183000
DTEND:20260610T191500
DESCRIPTION:<html><head><meta http-equiv="Content-Type" content="text/html\
 ; charset=utf-8"></head><body><p>Daytime Concert 8:30AM Grades 4 and 5</p>
 <p>Night Concert 6:30 Grade 4</p><p>Night Concert 7:15 Grade 5</p></body><
 /html>
LOCATION:AGM Cafetorium
SUMMARY:AGM Spring Concert
END:VEVENT
BEGIN:VEVENT
DTSTAMP:20260425T040616Z
UID:ff33ef23-3d2c-4dc5-8c85-5cbcc7ae1912
DTSTART:20260611T083000
DTEND:20260611T140000
DESCRIPTION:
LOCATION:
SUMMARY:Senior Class Walk & Picnic
END:VEVENT
BEGIN:VEVENT
DTSTAMP:20260425T040616Z
UID:6defea86-9cce-417e-8155-ffe6a59c4350
DTSTART:20260616T180000
DTEND:20260616T210000
DESCRIPTION:
LOCATION:UEHS Auditorium
SUMMARY:Senior Awards Night
END:VEVENT
BEGIN:VEVENT
DTSTAMP:20260425T040616Z
UID:d9f0ea79-cbe6-435a-abb3-e6e135546f61
DTSTART;VALUE=DATE:20260619
DTEND;VALUE=DATE:20260620
DESCRIPTION:
LOCATION:
SUMMARY:No School - Juneteenth
END:VEVENT
BEGIN:VEVENT
DTSTAMP:20260425T040616Z
UID:cc6a58a6-0a52-409e-bbc2-072a6f573330
DTSTART:20260620T200000
DTEND:20260620T230000
DESCRIPTION:
LOCATION:2-8 Hawley St\, Binghamton\, NY 13901\, USA
SUMMARY:UEHS Prom
END:VEVENT
BEGIN:VEVENT
DTSTAMP:20260425T040616Z
UID:1bed8b3c-d4ff-42ba-9bb0-be2e6e02b20c
DTSTART:20260624T080000
DTEND:20260624T090000
DESCRIPTION:
LOCATION:1100 E Main St #5254\, Endicott\, NY 13760\, USA
SUMMARY:BOE Regular Meeting - District Office
END:VEVENT
BEGIN:VEVENT
DTSTAMP:20260425T040616Z
UID:8032fcaa-7c1e-432b-ab27-c78245253767
DTSTART:20260625T130000
DTEND:20260625T140000
DESCRIPTION:
LOCATION:UEHS Auditorium
SUMMARY:UEHS Graduation Rehearsal
END:VEVENT
BEGIN:VEVENT
DTSTAMP:20260425T040616Z
UID:f1d3ea0c-2884-48d8-ac62-41a1482e28c1
DTSTART:20260627T100000
DTEND:20260627T113000
DESCRIPTION:
LOCATION:Visions Veterans Memorial Arena 1 Stuart St\, Binghamton
SUMMARY:UEHS graduation
END:VEVENT
BEGIN:VEVENT
DTSTAMP:20260425T040616Z
UID:eb693006-2652-48ea-a6c6-c88171a67aa0
DTSTART:20260627T110000
DTEND:20260627T130000
DESCRIPTION:
LOCATION:Visions Veterans Memorial Arena
SUMMARY:UEHS Graduation
END:VEVENT
END:VCALENDAR
