BEGIN:VCALENDAR
VERSION:2.0
PRODID:icalendar-ruby
CALSCALE:GREGORIAN
BEGIN:VTIMEZONE
TZID:America/New_York
BEGIN:DAYLIGHT
DTSTART:20260308T030000
TZOFFSETFROM:-0500
TZOFFSETTO:-0400
RRULE:FREQ=YEARLY;BYDAY=2SU;BYMONTH=3
TZNAME:EDT
END:DAYLIGHT
BEGIN:STANDARD
DTSTART:20261101T010000
TZOFFSETFROM:-0400
TZOFFSETTO:-0500
RRULE:FREQ=YEARLY;BYDAY=1SU;BYMONTH=11
TZNAME:EST
END:STANDARD
END:VTIMEZONE
BEGIN:VEVENT
DTSTAMP:20260421T165216Z
UID:85c79ca9-d3c7-4771-9123-f8d5a5176909
DTSTART:20260421T153000
DTEND:20260421T163000
DESCRIPTION:
LOCATION:Professional Learning Center\, 121 Randall Rd
SUMMARY:Board of Education Policy Committee Meeting
END:VEVENT
BEGIN:VEVENT
DTSTAMP:20260421T165216Z
UID:af32542d-95e4-4fd0-af91-381a535c5775
DTSTART;VALUE=DATE:20260424
DTEND;VALUE=DATE:20260425
DESCRIPTION:
LOCATION:
SUMMARY:HS Half Day
END:VEVENT
BEGIN:VEVENT
DTSTAMP:20260421T165216Z
UID:f8e0e598-8589-4ef5-8a6c-560bcd529516
DTSTART;VALUE=DATE:20260424
DTEND;VALUE=DATE:20260425
DESCRIPTION:
LOCATION:
SUMMARY:No ECSE
END:VEVENT
BEGIN:VEVENT
DTSTAMP:20260421T165216Z
UID:2a4a46a4-931d-4473-9dde-cd7bee4e3921
DTSTART;VALUE=DATE:20260424
DTEND;VALUE=DATE:20260425
DESCRIPTION:
LOCATION:
SUMMARY:Senior Citizen Lunch
END:VEVENT
BEGIN:VEVENT
DTSTAMP:20260421T165216Z
UID:73393563-679c-40db-8eb1-a41713b272ea
DTSTART;VALUE=DATE:20260427
DTEND;VALUE=DATE:20260428
DESCRIPTION:
LOCATION:
SUMMARY:EL Early Release
END:VEVENT
BEGIN:VEVENT
DTSTAMP:20260421T165216Z
UID:68fb6d85-ec36-48b7-8572-2c6de3de1605
DTSTART;VALUE=DATE:20260429
DTEND;VALUE=DATE:20260430
DESCRIPTION:
LOCATION:
SUMMARY:HS & MS Late Start
END:VEVENT
BEGIN:VEVENT
DTSTAMP:20260421T165216Z
UID:6fe54a9f-d962-478f-b874-7b15d6e7af6b
DTSTART;VALUE=DATE:20260501
DTEND;VALUE=DATE:20260502
DESCRIPTION:
LOCATION:
SUMMARY:No ECSE
END:VEVENT
BEGIN:VEVENT
DTSTAMP:20260421T165216Z
UID:48c215b4-f872-4d8c-ab27-76c11c4a100b
DTSTART;VALUE=DATE:20260504
DTEND;VALUE=DATE:20260505
DESCRIPTION:
LOCATION:
SUMMARY:EL Early Release
END:VEVENT
BEGIN:VEVENT
DTSTAMP:20260421T165216Z
UID:02aaa196-f6ec-4445-bf1d-f175fe62435c
DTSTART;VALUE=DATE:20260506
DTEND;VALUE=DATE:20260507
DESCRIPTION:
LOCATION:
SUMMARY:HS & MS Late Start
END:VEVENT
BEGIN:VEVENT
DTSTAMP:20260421T165216Z
UID:822fd929-2220-4002-bc2c-9681c6ed60e9
DTSTART;VALUE=DATE:20260508
DTEND;VALUE=DATE:20260509
DESCRIPTION:
LOCATION:
SUMMARY:No ECSE
END:VEVENT
BEGIN:VEVENT
DTSTAMP:20260421T165216Z
UID:a8048db6-bd77-4d9b-ae25-7bf00b16a163
DTSTART;VALUE=DATE:20260511
DTEND;VALUE=DATE:20260512
DESCRIPTION:
LOCATION:
SUMMARY:EL Early Release
END:VEVENT
BEGIN:VEVENT
DTSTAMP:20260421T165216Z
UID:18b61838-f7a0-47d8-b76b-981432e68ae6
DTSTART:20260511T190000
DTEND:20260511T210000
DESCRIPTION:
LOCATION:Professional Learning Center\, 121 Randall Rd
SUMMARY:Board of Education Combined Session
END:VEVENT
BEGIN:VEVENT
DTSTAMP:20260421T165216Z
UID:1a0b8eb6-c0f5-44e8-879d-6be1fe46ca6d
DTSTART:20260512T173000
DTEND:20260512T193000
DESCRIPTION:
LOCATION:Ross Park Pavillion\, 82 Randall Rd
SUMMARY:Board of Education Special Session
END:VEVENT
BEGIN:VEVENT
DTSTAMP:20260421T165216Z
UID:298712e4-6b3f-428a-a0f7-dcfc5f3e01fc
DTSTART;VALUE=DATE:20260515
DTEND;VALUE=DATE:20260516
DESCRIPTION:
LOCATION:
SUMMARY:No ECSE
END:VEVENT
BEGIN:VEVENT
DTSTAMP:20260421T165216Z
UID:22992ba4-70fd-455e-adff-ec55606749a0
DTSTART;VALUE=DATE:20260518
DTEND;VALUE=DATE:20260519
DESCRIPTION:
LOCATION:
SUMMARY:EL Early Release
END:VEVENT
BEGIN:VEVENT
DTSTAMP:20260421T165216Z
UID:34e781e3-75cb-4eb4-b181-8e4452de0f41
DTSTART;VALUE=DATE:20260520
DTEND;VALUE=DATE:20260521
DESCRIPTION:
LOCATION:
SUMMARY:HS & MS Late Start
END:VEVENT
BEGIN:VEVENT
DTSTAMP:20260421T165216Z
UID:fd7c44fe-d716-4c5a-a5a0-a3e42ced83f7
DTSTART;VALUE=DATE:20260522
DTEND;VALUE=DATE:20260523
DESCRIPTION:
LOCATION:
SUMMARY:No ECSE
END:VEVENT
BEGIN:VEVENT
DTSTAMP:20260421T165216Z
UID:806c8a2d-6bf7-4925-988e-8b1b087178d7
DTSTART;VALUE=DATE:20260525
DTEND;VALUE=DATE:20260526
DESCRIPTION:
LOCATION:
SUMMARY:Memorial Day - No School Y5-12
END:VEVENT
BEGIN:VEVENT
DTSTAMP:20260421T165216Z
UID:18f673de-9754-466d-87b7-e6b5bc0ee94e
DTSTART;VALUE=DATE:20260525
DTEND;VALUE=DATE:20260526
DESCRIPTION:
LOCATION:
SUMMARY:No ECSE
END:VEVENT
BEGIN:VEVENT
DTSTAMP:20260421T165216Z
UID:b1251583-427a-4714-ac4d-8e4137de29e0
DTSTART:20260526T190000
DTEND:20260526T210000
DESCRIPTION:
LOCATION:
SUMMARY:High School Graduation
END:VEVENT
BEGIN:VEVENT
DTSTAMP:20260421T165216Z
UID:4954f389-6e67-42f3-8d67-748e72edaf11
DTSTART;VALUE=DATE:20260529
DTEND;VALUE=DATE:20260530
DESCRIPTION:
LOCATION:
SUMMARY:No ECSE
END:VEVENT
BEGIN:VEVENT
DTSTAMP:20260421T165216Z
UID:081e797c-37ed-4ede-9a90-bb2cb42cc4f0
DTSTART;VALUE=DATE:20260601
DTEND;VALUE=DATE:20260602
DESCRIPTION:
LOCATION:
SUMMARY:EL Early Release
END:VEVENT
BEGIN:VEVENT
DTSTAMP:20260421T165216Z
UID:89727be0-75bd-4835-b083-bc96d6042330
DTSTART;VALUE=DATE:20260603
DTEND;VALUE=DATE:20260604
DESCRIPTION:
LOCATION:
SUMMARY:HS & MS Late Start
END:VEVENT
BEGIN:VEVENT
DTSTAMP:20260421T165216Z
UID:e6d82997-4e58-4d5d-b7c6-7267b7e9d27b
DTSTART;VALUE=DATE:20260605
DTEND;VALUE=DATE:20260606
DESCRIPTION:
LOCATION:
SUMMARY:No ECSE
END:VEVENT
BEGIN:VEVENT
DTSTAMP:20260421T165216Z
UID:8fa2f41f-cb6a-4412-9eae-e722403770f2
DTSTART;VALUE=DATE:20260608
DTEND;VALUE=DATE:20260609
DESCRIPTION:
LOCATION:
SUMMARY:EL Early Release
END:VEVENT
BEGIN:VEVENT
DTSTAMP:20260421T165216Z
UID:38d87a63-1383-4655-926d-59caf4764767
DTSTART:20260608T190000
DTEND:20260608T210000
DESCRIPTION:
LOCATION:Professional Learning Center\, 121 Randall Rd
SUMMARY:Board of Education Work Session
END:VEVENT
BEGIN:VEVENT
DTSTAMP:20260421T165216Z
UID:6f5f3eb5-756d-4a26-9425-cf1f653dc876
DTSTART;VALUE=DATE:20260610
DTEND;VALUE=DATE:20260611
DESCRIPTION:
LOCATION:
SUMMARY:HS 1st Hour Exams
END:VEVENT
BEGIN:VEVENT
DTSTAMP:20260421T165216Z
UID:76f2cac8-f7d1-4737-b7e5-806288668055
DTSTART;VALUE=DATE:20260611
DTEND;VALUE=DATE:20260612
DESCRIPTION:
LOCATION:
SUMMARY:Half Day Y5-12
END:VEVENT
BEGIN:VEVENT
DTSTAMP:20260421T165216Z
UID:73d1452e-e20a-41ed-a509-cf8812373a46
DTSTART;VALUE=DATE:20260611
DTEND;VALUE=DATE:20260612
DESCRIPTION:
LOCATION:
SUMMARY:HS 2nd & 3rd Hour Exams
END:VEVENT
BEGIN:VEVENT
DTSTAMP:20260421T165216Z
UID:ba72cc31-02be-45e1-bccf-6306659f1af4
DTSTART;VALUE=DATE:20260611
DTEND;VALUE=DATE:20260612
DESCRIPTION:
LOCATION:
SUMMARY:No ECSE
END:VEVENT
BEGIN:VEVENT
DTSTAMP:20260421T165216Z
UID:fe3073db-2781-4c22-816e-f6a3ccd3f892
DTSTART;VALUE=DATE:20260612
DTEND;VALUE=DATE:20260613
DESCRIPTION:
LOCATION:
SUMMARY:Half Day Y5-12
END:VEVENT
BEGIN:VEVENT
DTSTAMP:20260421T165216Z
UID:d3530fed-85d2-4129-b569-bdab457fbc8b
DTSTART;VALUE=DATE:20260612
DTEND;VALUE=DATE:20260613
DESCRIPTION:
LOCATION:
SUMMARY:HS 4th & 5th Hour Exams
END:VEVENT
BEGIN:VEVENT
DTSTAMP:20260421T165216Z
UID:1de1e11d-70f7-46f1-97f0-2c3014ade850
DTSTART;VALUE=DATE:20260612
DTEND;VALUE=DATE:20260613
DESCRIPTION:
LOCATION:
SUMMARY:Last Day of School
END:VEVENT
BEGIN:VEVENT
DTSTAMP:20260421T165216Z
UID:7bc0608e-b22c-47b8-95d7-aa682569803d
DTSTART;VALUE=DATE:20260612
DTEND;VALUE=DATE:20260613
DESCRIPTION:
LOCATION:
SUMMARY:No ECSE
END:VEVENT
BEGIN:VEVENT
DTSTAMP:20260421T165216Z
UID:e50a209f-1868-4323-ba64-3f38170cd15f
DTSTART:20260615T190000
DTEND:20260615T210000
DESCRIPTION:
LOCATION:Professional Learning Center\, 121 Randall Rd
SUMMARY:Board of Education Regular Session
END:VEVENT
BEGIN:VEVENT
DTSTAMP:20260421T165216Z
UID:798b002c-0312-46a0-b1e1-fc26857bc938
DTSTART:20260713T190000
DTEND:20260713T210000
DESCRIPTION:
LOCATION:Professional Learning Center\, 121 Randall Rd
SUMMARY:Board of Education Combined Session
END:VEVENT
END:VCALENDAR
