BEGIN:VCALENDAR
VERSION:2.0
PRODID:icalendar-ruby
CALSCALE:GREGORIAN
BEGIN:VTIMEZONE
TZID:America/Phoenix
BEGIN:STANDARD
DTSTART:19671029T010000
TZOFFSETFROM:-0600
TZOFFSETTO:-0700
TZNAME:MST
END:STANDARD
END:VTIMEZONE
BEGIN:VEVENT
DTSTAMP:20260419T213726Z
UID:5b80635e-44a3-4165-ab0e-0aeba889dd79
DTSTART;VALUE=DATE:20260421
DTEND;VALUE=DATE:20260422
DESCRIPTION:
LOCATION:camp verde high school
SUMMARY:2:30pm-JV BB vs Payson 
END:VEVENT
BEGIN:VEVENT
DTSTAMP:20260419T213726Z
UID:dcc6216a-54d3-4a61-a01b-dbcc60c12365
DTSTART;VALUE=DATE:20260421
DTEND;VALUE=DATE:20260422
DESCRIPTION:
LOCATION:
SUMMARY:5pm- BB Senior Night
END:VEVENT
BEGIN:VEVENT
DTSTAMP:20260419T213726Z
UID:cad4b92e-d7f7-4f91-8167-5807a599ba15
DTSTART;VALUE=DATE:20260421
DTEND;VALUE=DATE:20260422
DESCRIPTION:
LOCATION:Camp Verde High School\, 1326 S Montezuma Castle Highway\, Camp Ve
 rde\, AZ 86322\, USA
SUMMARY:5pm-BB vs Scottsdale Prep
END:VEVENT
BEGIN:VEVENT
DTSTAMP:20260419T213726Z
UID:2a40b271-ab54-491e-91e6-6a0c737851ee
DTSTART;VALUE=DATE:20260422
DTEND;VALUE=DATE:20260423
DESCRIPTION:V-6:30
LOCATION:Horizon Honors Schools\, 16233 S 48th St\, Phoenix\, AZ 85048\, US
 A
SUMMARY:6:30pm- BB @ Horizon Honors 
END:VEVENT
BEGIN:VEVENT
DTSTAMP:20260419T213726Z
UID:c02a7c07-9736-4644-8ab1-bc4e60320bc4
DTSTART;VALUE=DATE:20260423
DTEND;VALUE=DATE:20260424
DESCRIPTION:
LOCATION:Prescott High School\, 1050 Ruth St\, Prescott\, AZ 86301\, USA
SUMMARY:2:30pm- Track @ Prescott Highschool
END:VEVENT
BEGIN:VEVENT
DTSTAMP:20260419T213726Z
UID:23d416ba-022a-4f0b-ae45-9237dee93f8d
DTSTART;VALUE=DATE:20260423
DTEND;VALUE=DATE:20260424
DESCRIPTION:
LOCATION:Elephant Rocks Golf Course\, 2200 Country Club Rd B\, Williams\, A
 Z 86046\, USA
SUMMARY:2pm- Golf @ Elephant Rock
END:VEVENT
BEGIN:VEVENT
DTSTAMP:20260419T213726Z
UID:7145b664-cdb7-496e-aa84-19b96af48b24
DTSTART;VALUE=DATE:20260423
DTEND;VALUE=DATE:20260424
DESCRIPTION:
LOCATION:Goodyear Ballpark\, 1933 S Ballpark Way\, Goodyear\, AZ 85338\, US
 A
SUMMARY:3:45pm- BB @ trivium Prep
END:VEVENT
BEGIN:VEVENT
DTSTAMP:20260419T213726Z
UID:96384d80-524e-4720-a68d-3cfc7783046e
DTSTART;VALUE=DATE:20260423
DTEND;VALUE=DATE:20260424
DESCRIPTION:V-3:45
LOCATION:Sedona Red Rock High School Sports Field\, 995 Upper Red Rock Loop
  Rd\, Sedona\, AZ 86336\, USA
SUMMARY:3:45pm- SB @ Sedona 
END:VEVENT
BEGIN:VEVENT
DTSTAMP:20260419T213726Z
UID:241a4e05-0d7e-45bc-b5df-afb88764d3cc
DTSTART;VALUE=DATE:20260425
DTEND;VALUE=DATE:20260426
DESCRIPTION:
LOCATION:Sedona Red Rock High School Sports Field\, 995 Upper Red Rock Loop
  Rd\, Sedona\, AZ 86336\, USA
SUMMARY:9:30am- Track @ Sedona
END:VEVENT
BEGIN:VEVENT
DTSTAMP:20260419T213726Z
UID:3513501a-a2a8-4bf9-ba63-daebd7644486
DTSTART;VALUE=DATE:20260427
DTEND;VALUE=DATE:20260428
DESCRIPTION:JV-1:00\nV- 3:45
LOCATION:Scottsdale Christian Academy\, 14400 N Tatum Blvd\, Phoenix\, AZ 8
 5032\, USA
SUMMARY:1:00pm- BB @ Scottsdale Christian 
END:VEVENT
BEGIN:VEVENT
DTSTAMP:20260419T213726Z
UID:9e788987-7b62-4daf-9eb5-db20d7a2e639
DTSTART;VALUE=DATE:20260427
DTEND;VALUE=DATE:20260428
DESCRIPTION:V-3:45
LOCATION:Scottsdale Christian Academy\, 14400 N Tatum Blvd\, Phoenix\, AZ 8
 5032\, USA
SUMMARY:1:00pm- SB @ Scottsdale Christian
END:VEVENT
BEGIN:VEVENT
DTSTAMP:20260419T213726Z
UID:32f07fd7-5f32-467f-8c20-44f68d1fda5c
DTSTART;VALUE=DATE:20260428
DTEND;VALUE=DATE:20260429
DESCRIPTION:
LOCATION:Valley Christian Schools - High School Campus\, 6900 W Galveston S
 t\, Chandler\, AZ 85226\, USA
SUMMARY:2:30pm- @ Valley Christian 
END:VEVENT
BEGIN:VEVENT
DTSTAMP:20260419T213726Z
UID:e9d58355-d957-4167-8e72-15edb435802a
DTSTART;VALUE=DATE:20260428
DTEND;VALUE=DATE:20260429
DESCRIPTION:
LOCATION:Elephant Rocks Golf Course\, 2200 Country Club Rd B\, Williams\, A
 Z 86046\, USA
SUMMARY:2pm- Golf @ Elephant Rock
END:VEVENT
BEGIN:VEVENT
DTSTAMP:20260419T213726Z
UID:a1584594-5f0d-401c-9a17-30ce2eff8b3b
DTSTART;VALUE=DATE:20260505
DTEND;VALUE=DATE:20260506
DESCRIPTION:
LOCATION:Elephant Rocks Golf Course\, 2200 Country Club Rd B\, Williams\, A
 Z 86046\, USA
SUMMARY:10AM- Golf @ Regional Invitational
END:VEVENT
BEGIN:VEVENT
DTSTAMP:20260419T213726Z
UID:f01be0cc-a7f3-49bc-9b1f-1d62bc66d562
DTSTART;VALUE=DATE:20260520
DTEND;VALUE=DATE:20260522
DESCRIPTION:
LOCATION:
SUMMARY:Semester 2 Final Exams- Release at 12:05 pm
END:VEVENT
BEGIN:VEVENT
DTSTAMP:20260419T213726Z
UID:82f108d8-5b2f-4c1e-94c6-1e615f60676a
DTSTART;VALUE=DATE:20261002
DTEND;VALUE=DATE:20261003
DESCRIPTION:
LOCATION:
SUMMARY:Homecoming vs Holbrook
END:VEVENT
END:VCALENDAR
