BEGIN:VCALENDAR
VERSION:2.0
PRODID:icalendar-ruby
CALSCALE:GREGORIAN
BEGIN:VTIMEZONE
TZID:America/Phoenix
BEGIN:STANDARD
DTSTART:19671029T010000
TZOFFSETFROM:-0600
TZOFFSETTO:-0700
TZNAME:MST
END:STANDARD
END:VTIMEZONE
BEGIN:VEVENT
DTSTAMP:20260419T213546Z
UID:99640a39-8e82-48e9-b47e-20472bda4998
DTSTART;VALUE=DATE:20260420
DTEND;VALUE=DATE:20260424
DESCRIPTION:
LOCATION:
SUMMARY:Administrative Professional Week 
END:VEVENT
BEGIN:VEVENT
DTSTAMP:20260419T213546Z
UID:4993d359-4095-4f69-8a0d-eac4dbcd5943
DTSTART:20260420T160000
DTEND:20260420T170000
DESCRIPTION:
LOCATION:
SUMMARY:Soccer @ Home 
END:VEVENT
BEGIN:VEVENT
DTSTAMP:20260419T213546Z
UID:84e8206b-34c0-436c-b54c-985671fad7c0
DTSTART:20260421T133000
DTEND:20260421T153000
DESCRIPTION:
LOCATION:
SUMMARY:MS Early Release
END:VEVENT
BEGIN:VEVENT
DTSTAMP:20260419T213546Z
UID:b7eff8ca-f694-4ecc-bd81-e6f589926436
DTSTART:20260422T090000
DTEND:20260422T140000
DESCRIPTION:
LOCATION:
SUMMARY:8th grade FT (Windmill Park)
END:VEVENT
BEGIN:VEVENT
DTSTAMP:20260419T213546Z
UID:dac3ad2a-b6a3-4e02-9466-e8343d5f07bc
DTSTART:20260423T170000
DTEND:20260423T190000
DESCRIPTION:
LOCATION:
SUMMARY:Dance 
END:VEVENT
BEGIN:VEVENT
DTSTAMP:20260419T213546Z
UID:3c1b93ef-3743-405a-9990-51be6f814dae
DTSTART;VALUE=DATE:20260424
DTEND;VALUE=DATE:20260425
DESCRIPTION:
LOCATION:
SUMMARY:AASA Reading and Math Testing Closes
END:VEVENT
BEGIN:VEVENT
DTSTAMP:20260419T213546Z
UID:b4b9471f-fd4c-46ce-b60e-14854195a4da
DTSTART;VALUE=DATE:20260424
DTEND;VALUE=DATE:20260426
DESCRIPTION:
LOCATION:
SUMMARY:Soccer VVL Tourney 
END:VEVENT
BEGIN:VEVENT
DTSTAMP:20260419T213546Z
UID:eb02040d-c527-444d-9eb9-0ab4fec80770
DTSTART:20260424T140000
DTEND:20260424T180000
DESCRIPTION:
LOCATION:Bradshaw Mountain High School\, 6000 E Long Look Dr\, Prescott Val
 ley\, AZ 86314\, USA
SUMMARY:Track @ Bradshaw
END:VEVENT
BEGIN:VEVENT
DTSTAMP:20260419T213546Z
UID:93b0e938-7537-4615-b2cb-8119a6084db7
DTSTART;VALUE=DATE:20260428
DTEND;VALUE=DATE:20260429
DESCRIPTION:
LOCATION:
SUMMARY:School Bus Driver Appreciation Day
END:VEVENT
BEGIN:VEVENT
DTSTAMP:20260419T213546Z
UID:e07ede0e-f2f9-4075-b260-148b50aed77f
DTSTART:20260428T133000
DTEND:20260428T153000
DESCRIPTION:
LOCATION:
SUMMARY:MS Early Release
END:VEVENT
BEGIN:VEVENT
DTSTAMP:20260419T213546Z
UID:19ebc740-0dc9-4121-8e2a-a533c4e5ca24
DTSTART;VALUE=DATE:20260429
DTEND;VALUE=DATE:20260430
DESCRIPTION:
LOCATION:
SUMMARY:MTSS Meetings
END:VEVENT
BEGIN:VEVENT
DTSTAMP:20260419T213546Z
UID:716dc8e9-cbae-4d63-a25d-aa80a0f4158c
DTSTART;VALUE=DATE:20260430
DTEND;VALUE=DATE:20260502
DESCRIPTION:
LOCATION:
SUMMARY:School Principal Day
END:VEVENT
BEGIN:VEVENT
DTSTAMP:20260419T213546Z
UID:be07bc66-dc00-44bc-9233-e6eda6f069eb
DTSTART;VALUE=DATE:20260430
DTEND;VALUE=DATE:20260501
DESCRIPTION:
LOCATION:
SUMMARY:Verde Valley Fair
END:VEVENT
BEGIN:VEVENT
DTSTAMP:20260419T213546Z
UID:81083d1c-ce09-47b0-8f42-45ea34b8601e
DTSTART:20260430T150000
DTEND:20260430T170000
DESCRIPTION:
LOCATION:
SUMMARY:BB Home (Tuba City) DH
END:VEVENT
BEGIN:VEVENT
DTSTAMP:20260419T213546Z
UID:5a02ca5b-fdce-4f72-bd2f-1af31ac3aad5
DTSTART:20260430T150000
DTEND:20260430T190000
DESCRIPTION:
LOCATION:Chino Valley High School\, 760 E Center St\, Chino Valley\, AZ 863
 23\, USA
SUMMARY:Track @ Chino 
END:VEVENT
BEGIN:VEVENT
DTSTAMP:20260419T213546Z
UID:d548113c-a910-4798-8be9-050c196698db
DTSTART;VALUE=DATE:20260504
DTEND;VALUE=DATE:20260508
DESCRIPTION:
LOCATION:
SUMMARY:Teacher Appreciation Week
END:VEVENT
BEGIN:VEVENT
DTSTAMP:20260419T213546Z
UID:6e8e1d34-872e-4e2c-bcd0-7f29b7c10dab
DTSTART;VALUE=DATE:20260505
DTEND;VALUE=DATE:20260506
DESCRIPTION:
LOCATION:
SUMMARY:MAP Testing-Reading
END:VEVENT
BEGIN:VEVENT
DTSTAMP:20260419T213546Z
UID:07fa92d3-5581-4bb5-9734-6910714bca76
DTSTART:20260505T133000
DTEND:20260505T153000
DESCRIPTION:
LOCATION:
SUMMARY:MS Early Release
END:VEVENT
BEGIN:VEVENT
DTSTAMP:20260419T213546Z
UID:902951d7-4fd4-44b5-91f3-712f3832c677
DTSTART;VALUE=DATE:20260506
DTEND;VALUE=DATE:20260507
DESCRIPTION:
LOCATION:
SUMMARY:MAP Testing-Math and Language
END:VEVENT
BEGIN:VEVENT
DTSTAMP:20260419T213546Z
UID:07586803-03b7-4449-b529-c70375dfd094
DTSTART;VALUE=DATE:20260506
DTEND;VALUE=DATE:20260507
DESCRIPTION:
LOCATION:
SUMMARY:School Nurse Day 
END:VEVENT
BEGIN:VEVENT
DTSTAMP:20260419T213546Z
UID:bf430bdb-7287-4df0-b1a3-8da8cad5dd26
DTSTART:20260506T130000
DTEND:20260506T170000
DESCRIPTION:
LOCATION:Prescott High School\, 1050 Ruth St\, Prescott\, AZ 86301\, USA
SUMMARY:Track @ Prescott (championship)
END:VEVENT
BEGIN:VEVENT
DTSTAMP:20260419T213546Z
UID:c13c5b74-cbf7-4883-ba2b-477ae262394e
DTSTART:20260507T124000
DTEND:20260507T131000
DESCRIPTION:
LOCATION:MS Gym
SUMMARY:5th Grade Orientation
END:VEVENT
BEGIN:VEVENT
DTSTAMP:20260419T213546Z
UID:04593e7a-9892-45f2-9977-392b20317c7f
DTSTART;VALUE=DATE:20260511
DTEND;VALUE=DATE:20260515
DESCRIPTION:
LOCATION:
SUMMARY:IXL Benchmarking
END:VEVENT
BEGIN:VEVENT
DTSTAMP:20260419T213546Z
UID:cd5be9f0-b329-41db-b879-e4d1b8c15488
DTSTART:20260511T180000
DTEND:20260511T190000
DESCRIPTION:
LOCATION:Phillip England Performing Arts Center\, 210 Camp Lincoln Rd\, Cam
 p Verde\, AZ 86322\, USA
SUMMARY:Band Concert 
END:VEVENT
BEGIN:VEVENT
DTSTAMP:20260419T213546Z
UID:8f3cca9e-967c-4b1d-b1cf-ed17727ef4a6
DTSTART;VALUE=DATE:20260512
DTEND;VALUE=DATE:20260513
DESCRIPTION:
LOCATION:
SUMMARY:Nurse's Day
END:VEVENT
BEGIN:VEVENT
DTSTAMP:20260419T213546Z
UID:a2870763-9fc9-4ff9-9b0e-c3d18b278baa
DTSTART:20260512T133000
DTEND:20260512T153000
DESCRIPTION:
LOCATION:
SUMMARY:MS Early Release
END:VEVENT
BEGIN:VEVENT
DTSTAMP:20260419T213546Z
UID:e9de84e4-3819-429b-95ee-74d35ab74199
DTSTART;VALUE=DATE:20260518
DTEND;VALUE=DATE:20260522
DESCRIPTION:
LOCATION:
SUMMARY:IXL Benchmarking
END:VEVENT
BEGIN:VEVENT
DTSTAMP:20260419T213546Z
UID:ff859b63-6511-4e19-a12d-7a8742c6f43b
DTSTART:20260519T133000
DTEND:20260519T153000
DESCRIPTION:
LOCATION:
SUMMARY:MS Early Release
END:VEVENT
BEGIN:VEVENT
DTSTAMP:20260419T213546Z
UID:39b75062-299e-4c12-834f-465bad0ed592
DTSTART:20260520T123000
DTEND:20260520T153000
DESCRIPTION:
LOCATION:
SUMMARY:MS Early Release 
END:VEVENT
BEGIN:VEVENT
DTSTAMP:20260419T213546Z
UID:764e3be9-a34e-4db7-b410-63524ab964f1
DTSTART:20260520T170000
DTEND:20260520T180000
DESCRIPTION:
LOCATION:
SUMMARY:8th Grade Class Picture
END:VEVENT
BEGIN:VEVENT
DTSTAMP:20260419T213546Z
UID:c46236ce-90e7-4912-8a53-03de5a4b54e8
DTSTART:20260520T180000
DTEND:20260520T190000
DESCRIPTION:
LOCATION:
SUMMARY:8th Grade Promotion 
END:VEVENT
BEGIN:VEVENT
DTSTAMP:20260419T213546Z
UID:7ac3adca-a888-4a13-8e90-c6ea16e61b1c
DTSTART;VALUE=DATE:20260521
DTEND;VALUE=DATE:20260522
DESCRIPTION:
LOCATION:
SUMMARY:Last Day of School 
END:VEVENT
BEGIN:VEVENT
DTSTAMP:20260419T213546Z
UID:9edbd5d8-0185-4264-bef7-4020fb00b0df
DTSTART:20260521T123000
DTEND:20260521T153000
DESCRIPTION:
LOCATION:
SUMMARY:MS Early Release 
END:VEVENT
BEGIN:VEVENT
DTSTAMP:20260419T213546Z
UID:14f11fcc-a171-4d76-bd16-f52acb320c05
DTSTART;VALUE=DATE:20260727
DTEND;VALUE=DATE:20260728
DESCRIPTION:
LOCATION:
SUMMARY:Middle School Gym- Community Health Fair
END:VEVENT
END:VCALENDAR
