BEGIN:VCALENDAR
VERSION:2.0
PRODID:icalendar-ruby
CALSCALE:GREGORIAN
BEGIN:VTIMEZONE
TZID:America/New_York
BEGIN:DAYLIGHT
DTSTART:20260308T030000
TZOFFSETFROM:-0500
TZOFFSETTO:-0400
RRULE:FREQ=YEARLY;BYDAY=2SU;BYMONTH=3
TZNAME:EDT
END:DAYLIGHT
BEGIN:STANDARD
DTSTART:20261101T010000
TZOFFSETFROM:-0400
TZOFFSETTO:-0500
RRULE:FREQ=YEARLY;BYDAY=1SU;BYMONTH=11
TZNAME:EST
END:STANDARD
END:VTIMEZONE
BEGIN:VEVENT
DTSTAMP:20260423T115100Z
UID:f6189f48-863d-47f2-9361-845ef7cdf060
DTSTART;VALUE=DATE:20260420
DTEND;VALUE=DATE:20260425
DESCRIPTION:
LOCATION:
SUMMARY:No School Spring Break
END:VEVENT
BEGIN:VEVENT
DTSTAMP:20260423T115100Z
UID:459900ac-7a37-4140-8689-f8e9695311c9
DTSTART:20260428T180000
DTEND:20260428T190000
DESCRIPTION:
LOCATION:Cobb Theater
SUMMARY:NAHS Community Building Forum
END:VEVENT
BEGIN:VEVENT
DTSTAMP:20260423T115100Z
UID:dcf2cfad-3142-43d7-924b-6ce9b60c43f5
DTSTART:20260430T183000
DTEND:20260430T203000
DESCRIPTION:
LOCATION:
SUMMARY:Honor Society Induction Ceremony\, Pickering Gym
END:VEVENT
BEGIN:VEVENT
DTSTAMP:20260423T115100Z
UID:952babfb-f31f-42b8-badb-857c1cadb24e
DTSTART:20260502T070000
DTEND:20260502T150000
DESCRIPTION:
LOCATION:
SUMMARY:Keep N. Attleboro Beautiful\, home base 
END:VEVENT
BEGIN:VEVENT
DTSTAMP:20260423T115100Z
UID:6d9b4244-e450-4687-bb49-314768b8610e
DTSTART:20260508T140000
DTEND:20260508T140000
DESCRIPTION:
LOCATION:
SUMMARY:Progress Reports Published
END:VEVENT
BEGIN:VEVENT
DTSTAMP:20260423T115100Z
UID:81d915eb-5c10-4200-a31b-8ffe51e31c1a
DTSTART:20260508T180000
DTEND:20260508T200000
DESCRIPTION:
LOCATION:
SUMMARY:Freshman Sophomore Social\, Pickering Gym
END:VEVENT
BEGIN:VEVENT
DTSTAMP:20260423T115100Z
UID:853d74c5-a96f-4c25-b42a-9637c58ae4d6
DTSTART:20260513T180000
DTEND:20260513T190000
DESCRIPTION:
LOCATION:Main Office
SUMMARY:Family to School Partnership Meeting
END:VEVENT
BEGIN:VEVENT
DTSTAMP:20260423T115100Z
UID:ca337fbb-df3c-4341-a1dc-2368445c268c
DTSTART:20260513T180000
DTEND:20260513T190000
DESCRIPTION:
LOCATION:
SUMMARY:Family to School Partnership Meeting\, Main Office
END:VEVENT
BEGIN:VEVENT
DTSTAMP:20260423T115100Z
UID:ad6f79ac-c845-4bd6-9387-663623f51d9f
DTSTART:20260514T090000
DTEND:20260514T120000
DESCRIPTION:
LOCATION:
SUMMARY:Special Olympics Beaupre Field
END:VEVENT
BEGIN:VEVENT
DTSTAMP:20260423T115100Z
UID:5665f6b3-0678-49aa-ad5c-fd966aecf5ee
DTSTART:20260514T170000
DTEND:20260514T190000
DESCRIPTION:
LOCATION:
SUMMARY:NAHS Fine Arts Festival\, room 126 & 127
END:VEVENT
BEGIN:VEVENT
DTSTAMP:20260423T115100Z
UID:1cc972dc-0d97-438e-b696-0c12511d7ca3
DTSTART:20260514T190000
DTEND:20260514T210000
DESCRIPTION:
LOCATION:
SUMMARY:Music Dept Pops Concert\, Cobb Theatre
END:VEVENT
BEGIN:VEVENT
DTSTAMP:20260423T115100Z
UID:72ea84e3-a7c3-4849-9428-06851aee5d6d
DTSTART:20260515T090000
DTEND:20260515T120000
DESCRIPTION:
LOCATION:
SUMMARY:Special Olympics Raindate
END:VEVENT
BEGIN:VEVENT
DTSTAMP:20260423T115100Z
UID:80633075-952b-4def-bc03-e161ec2d5028
DTSTART:20260519T180000
DTEND:20260520T090000
DESCRIPTION:
LOCATION:
SUMMARY:Fisher Kelly Banquet\, Attleboro Elks
END:VEVENT
BEGIN:VEVENT
DTSTAMP:20260423T115100Z
UID:0126a1d1-679e-4b41-9b35-0dc098463de4
DTSTART:20260519T180000
DTEND:20260519T203000
DESCRIPTION:
LOCATION:
SUMMARY:Fisher Kelly Banquet\, Attleboro Elks
END:VEVENT
BEGIN:VEVENT
DTSTAMP:20260423T115100Z
UID:4fd49ac5-636b-457a-b87c-3729b9bfdf26
DTSTART:20260522T190000
DTEND:20260522T210000
DESCRIPTION:
LOCATION:
SUMMARY:Music Dept Coffee House\, cafe
END:VEVENT
BEGIN:VEVENT
DTSTAMP:20260423T115100Z
UID:44b46aef-1392-4106-9805-6536853581e6
DTSTART;VALUE=DATE:20260525
DTEND;VALUE=DATE:20260526
DESCRIPTION:
LOCATION:
SUMMARY:No School Memorial Day
END:VEVENT
BEGIN:VEVENT
DTSTAMP:20260423T115100Z
UID:b464b0e3-34e8-4483-bda3-a540955d8cba
DTSTART:20260526T071500
DTEND:20260526T081500
DESCRIPTION:
LOCATION:
SUMMARY:Senior Final Exam\, period 3
END:VEVENT
BEGIN:VEVENT
DTSTAMP:20260423T115100Z
UID:9e6c0dea-90c9-46e6-91e6-f6e337e761f8
DTSTART:20260527T071500
DTEND:20260527T091600
DESCRIPTION:
LOCATION:
SUMMARY:Senior Final Exams\, periods 1 & 2
END:VEVENT
BEGIN:VEVENT
DTSTAMP:20260423T115100Z
UID:4486c5d3-079a-4841-9ac8-4a1b16ce7bf5
DTSTART:20260528T071500
DTEND:20260528T091600
DESCRIPTION:
LOCATION:
SUMMARY:Senior Final Exams\, periods 6 & 7
END:VEVENT
BEGIN:VEVENT
DTSTAMP:20260423T115100Z
UID:5b17772a-ec37-412e-93ac-0e5a1eede9ba
DTSTART:20260529T071500
DTEND:20260529T091600
DESCRIPTION:
LOCATION:
SUMMARY:Senior Final Exams\, Periods 4 & 5
END:VEVENT
BEGIN:VEVENT
DTSTAMP:20260423T115100Z
UID:23c13e44-12ad-40ef-bfcf-270029ef1f74
DTSTART:20260529T180000
DTEND:20260529T210000
DESCRIPTION:
LOCATION:
SUMMARY:Jr. Sr. Prom\, Lakeview Pavilion Foxboro
END:VEVENT
BEGIN:VEVENT
DTSTAMP:20260423T115100Z
UID:eec62206-f7a0-40d3-b818-66cf41caf7ec
DTSTART:20260601T083000
DTEND:20260601T133000
DESCRIPTION:
LOCATION:
SUMMARY:Senior Grad Rehearsal\, photo\, caps/gowns\, cookout
END:VEVENT
BEGIN:VEVENT
DTSTAMP:20260423T115100Z
UID:718d8c4a-3166-4c57-b160-af8c7eae5c36
DTSTART:20260602T141500
DTEND:20260602T220000
DESCRIPTION:
LOCATION:
SUMMARY:Senior Cruise\, MA Bay Lines Boston
END:VEVENT
BEGIN:VEVENT
DTSTAMP:20260423T115100Z
UID:15b8ad70-353b-4e8c-943f-b7f3eb3a80c1
DTSTART:20260602T141500
DTEND:20260602T220000
DESCRIPTION:
LOCATION:
SUMMARY:Senior Cruise\, MA Bay Lines Boston
END:VEVENT
BEGIN:VEVENT
DTSTAMP:20260423T115100Z
UID:01b9a998-8712-4bd4-a57e-627181b73e30
DTSTART:20260603T083000
DTEND:20260603T100000
DESCRIPTION:
LOCATION:
SUMMARY:Senior grad rehearsal
END:VEVENT
BEGIN:VEVENT
DTSTAMP:20260423T115100Z
UID:39bfa841-7fed-4d6f-9303-37693421c5e6
DTSTART:20260603T180000
DTEND:20260603T193000
DESCRIPTION:
LOCATION:
SUMMARY:NAHS Senior Award Night\, Pickering Gym
END:VEVENT
BEGIN:VEVENT
DTSTAMP:20260423T115100Z
UID:f8c33bfc-98e0-454a-ac5c-f5e0b120e5b8
DTSTART:20260603T180000
DTEND:20260603T193000
DESCRIPTION:
LOCATION:
SUMMARY:NAHS Senior Award Night\, Pickering Gym
END:VEVENT
BEGIN:VEVENT
DTSTAMP:20260423T115100Z
UID:47ed94b4-d3f7-481f-8d1b-4d5a574fa35a
DTSTART:20260605T180000
DTEND:20260605T200000
DESCRIPTION:
LOCATION:
SUMMARY:NAHS 2026 Graduation
END:VEVENT
BEGIN:VEVENT
DTSTAMP:20260423T115100Z
UID:c4322e4d-21a1-4485-8531-f2829d7f7707
DTSTART;VALUE=DATE:20260606
DTEND;VALUE=DATE:20260608
DESCRIPTION:
LOCATION:
SUMMARY:NAHS 2026 Graduation raindates\, tbd
END:VEVENT
BEGIN:VEVENT
DTSTAMP:20260423T115100Z
UID:39ba85e4-1318-456d-b11c-99c24e592610
DTSTART:20260610T180000
DTEND:20260610T190000
DESCRIPTION:
LOCATION:Main Office
SUMMARY:Family to School Partnership Meeting
END:VEVENT
BEGIN:VEVENT
DTSTAMP:20260423T115100Z
UID:b42636d5-be46-4a69-b450-14be530cc3fb
DTSTART:20260610T180000
DTEND:20260610T190000
DESCRIPTION:
LOCATION:
SUMMARY:Family to School Partnership Meeting\, Main Office
END:VEVENT
BEGIN:VEVENT
DTSTAMP:20260423T115100Z
UID:7174c0a2-b34b-4045-be24-4282657f1176
DTSTART:20260615T071500
DTEND:20260615T134900
DESCRIPTION:
LOCATION:
SUMMARY:Full day of school\, Period 7 Final Exam
END:VEVENT
BEGIN:VEVENT
DTSTAMP:20260423T115100Z
UID:9415d24d-ed5d-4e81-981f-8a6470a615bf
DTSTART:20260616T071500
DTEND:20260616T103000
DESCRIPTION:
LOCATION:
SUMMARY:Half Day Period 1 & 2 Final Exams
END:VEVENT
BEGIN:VEVENT
DTSTAMP:20260423T115101Z
UID:88fafb1f-5544-480c-b67e-a41652c490a1
DTSTART:20260617T071500
DTEND:20260617T103000
DESCRIPTION:
LOCATION:
SUMMARY:Half Day\, Period 3 & 4 final exams
END:VEVENT
BEGIN:VEVENT
DTSTAMP:20260423T115101Z
UID:b9864143-c421-4591-96d0-8f3addf2640a
DTSTART:20260618T071500
DTEND:20260618T103000
DESCRIPTION:
LOCATION:
SUMMARY:Last Day of School\, 1/2 day Period 5 & 6 Final Exams
END:VEVENT
BEGIN:VEVENT
DTSTAMP:20260423T115101Z
UID:3cda94f0-f121-4ba8-b4c0-e7c3e3aa2ff5
DTSTART;VALUE=DATE:20260619
DTEND;VALUE=DATE:20260620
DESCRIPTION:
LOCATION:
SUMMARY:Juneteenth Holiday\, No School
END:VEVENT
BEGIN:VEVENT
DTSTAMP:20260423T115101Z
UID:f20ed55e-27fe-4a58-a9a7-13e6afd727d9
DTSTART;VALUE=DATE:20260623
DTEND;VALUE=DATE:20260624
DESCRIPTION:
LOCATION:
SUMMARY:Report Cards Published 2pm
END:VEVENT
BEGIN:VEVENT
DTSTAMP:20260423T115101Z
UID:93c12925-412b-459f-8b6f-8850fcb0de07
DTSTART:20260708T180000
DTEND:20260708T190000
DESCRIPTION:
LOCATION:Main Office
SUMMARY:Family to School Partnership Meeting
END:VEVENT
BEGIN:VEVENT
DTSTAMP:20260423T115101Z
UID:293d617b-22b8-40ef-a11e-c6a60a4aaaea
DTSTART:20260708T180000
DTEND:20260708T190000
DESCRIPTION:
LOCATION:
SUMMARY:Family to School Partnership Meeting\, Main Office
END:VEVENT
BEGIN:VEVENT
DTSTAMP:20260423T115101Z
UID:f477743e-aba8-4cbc-a09b-b2b8f0f378e5
DTSTART:20260708T180000
DTEND:20260708T190000
DESCRIPTION:
LOCATION:
SUMMARY:Family to School Partnership Meeting\, Main Office
END:VEVENT
BEGIN:VEVENT
DTSTAMP:20260423T115101Z
UID:2a1955d2-e2ec-4826-ba5a-da6c55f9a0d1
DTSTART:20260812T180000
DTEND:20260812T190000
DESCRIPTION:
LOCATION:Main Office
SUMMARY:Family to School Partnership Meeting
END:VEVENT
BEGIN:VEVENT
DTSTAMP:20260423T115101Z
UID:f0bdbe35-e052-497c-a864-3cee36afd1b3
DTSTART:20260812T180000
DTEND:20260812T190000
DESCRIPTION:
LOCATION:
SUMMARY:Family to School Partnership Meeting\, Main Office
END:VEVENT
BEGIN:VEVENT
DTSTAMP:20260423T115101Z
UID:fb7404d3-5e8f-419e-b17f-0bc00aeb3ecc
DTSTART:20260812T180000
DTEND:20260812T190000
DESCRIPTION:
LOCATION:
SUMMARY:Family to School Partnership Meeting\, Main Office
END:VEVENT
BEGIN:VEVENT
DTSTAMP:20260423T115101Z
UID:80186941-135d-4a0c-9717-bf456b7b68f1
DTSTART:20260909T180000
DTEND:20260909T190000
DESCRIPTION:
LOCATION:Main Office
SUMMARY:Family to School Partnership Meeting
END:VEVENT
BEGIN:VEVENT
DTSTAMP:20260423T115101Z
UID:b85d9f54-94af-476d-ba97-7ccc603e8fa6
DTSTART:20260909T180000
DTEND:20260909T190000
DESCRIPTION:
LOCATION:
SUMMARY:Family to School Partnership Meeting\, Main Office
END:VEVENT
BEGIN:VEVENT
DTSTAMP:20260423T115101Z
UID:9410a0e0-8ced-48b2-b5f6-117c34c003a6
DTSTART:20260909T180000
DTEND:20260909T190000
DESCRIPTION:
LOCATION:
SUMMARY:Family to School Partnership Meeting\, Main Office
END:VEVENT
BEGIN:VEVENT
DTSTAMP:20260423T115101Z
UID:1ca09f53-7070-400b-a278-c1df2de32678
DTSTART:20261014T180000
DTEND:20261014T190000
DESCRIPTION:
LOCATION:Main Office
SUMMARY:Family to School Partnership Meeting
END:VEVENT
BEGIN:VEVENT
DTSTAMP:20260423T115101Z
UID:d8417ee4-e979-45f8-8339-c85faaa6889b
DTSTART:20261014T180000
DTEND:20261014T190000
DESCRIPTION:
LOCATION:
SUMMARY:Family to School Partnership Meeting\, Main Office
END:VEVENT
BEGIN:VEVENT
DTSTAMP:20260423T115101Z
UID:e4ebc54f-8371-45ac-971b-3512b238de09
DTSTART:20261014T180000
DTEND:20261014T190000
DESCRIPTION:
LOCATION:
SUMMARY:Family to School Partnership Meeting\, Main Office
END:VEVENT
BEGIN:VEVENT
DTSTAMP:20260423T115101Z
UID:d5577eb9-0f71-40f5-91ee-747318aecbf3
DTSTART:20261111T180000
DTEND:20261111T190000
DESCRIPTION:
LOCATION:Main Office
SUMMARY:Family to School Partnership Meeting
END:VEVENT
BEGIN:VEVENT
DTSTAMP:20260423T115101Z
UID:88f66137-0e30-487d-9c32-5fa9c38c42e7
DTSTART:20261111T180000
DTEND:20261111T190000
DESCRIPTION:
LOCATION:
SUMMARY:Family to School Partnership Meeting\, Main Office
END:VEVENT
BEGIN:VEVENT
DTSTAMP:20260423T115101Z
UID:8e6b9b51-5195-4042-ab57-f33e5545af9a
DTSTART:20261111T180000
DTEND:20261111T190000
DESCRIPTION:
LOCATION:
SUMMARY:Family to School Partnership Meeting\, Main Office
END:VEVENT
BEGIN:VEVENT
DTSTAMP:20260423T115101Z
UID:5d6313a1-f4b0-450c-894b-cc1e6a79a1a6
DTSTART:20261209T180000
DTEND:20261209T190000
DESCRIPTION:
LOCATION:Main Office
SUMMARY:Family to School Partnership Meeting
END:VEVENT
BEGIN:VEVENT
DTSTAMP:20260423T115101Z
UID:29049536-abff-4167-bc14-7bef70c097e9
DTSTART:20261209T180000
DTEND:20261209T190000
DESCRIPTION:
LOCATION:
SUMMARY:Family to School Partnership Meeting\, Main Office
END:VEVENT
BEGIN:VEVENT
DTSTAMP:20260423T115101Z
UID:57d0639e-4b96-4522-a064-dab243ac04c3
DTSTART:20261209T180000
DTEND:20261209T190000
DESCRIPTION:
LOCATION:
SUMMARY:Family to School Partnership Meeting\, Main Office
END:VEVENT
BEGIN:VEVENT
DTSTAMP:20260423T115101Z
UID:6b3a97d3-90b4-42ee-b92d-0eabe388ee30
DTSTART:20270113T180000
DTEND:20270113T190000
DESCRIPTION:
LOCATION:Main Office
SUMMARY:Family to School Partnership Meeting
END:VEVENT
BEGIN:VEVENT
DTSTAMP:20260423T115101Z
UID:69ca981c-cae2-426d-a09f-a025b4dca874
DTSTART:20270113T180000
DTEND:20270113T190000
DESCRIPTION:
LOCATION:
SUMMARY:Family to School Partnership Meeting\, Main Office
END:VEVENT
BEGIN:VEVENT
DTSTAMP:20260423T115101Z
UID:0e377706-0c35-488e-90a2-4c925d6dcda3
DTSTART:20270113T180000
DTEND:20270113T190000
DESCRIPTION:
LOCATION:
SUMMARY:Family to School Partnership Meeting\, Main Office
END:VEVENT
BEGIN:VEVENT
DTSTAMP:20260423T115101Z
UID:23af5a0a-6e8b-4abe-b3bb-9df7f47b78e6
DTSTART:20270210T180000
DTEND:20270210T190000
DESCRIPTION:
LOCATION:Main Office
SUMMARY:Family to School Partnership Meeting
END:VEVENT
BEGIN:VEVENT
DTSTAMP:20260423T115101Z
UID:80c1bb9a-f28c-4db8-9939-2263a0411969
DTSTART:20270210T180000
DTEND:20270210T190000
DESCRIPTION:
LOCATION:
SUMMARY:Family to School Partnership Meeting\, Main Office
END:VEVENT
BEGIN:VEVENT
DTSTAMP:20260423T115101Z
UID:63029d93-c4f1-41f6-aa55-4c181d5496d9
DTSTART:20270210T180000
DTEND:20270210T190000
DESCRIPTION:
LOCATION:
SUMMARY:Family to School Partnership Meeting\, Main Office
END:VEVENT
BEGIN:VEVENT
DTSTAMP:20260423T115101Z
UID:7be62d9e-4750-4d1a-ae2e-4643d3eb1cf4
DTSTART:20270310T180000
DTEND:20270310T190000
DESCRIPTION:
LOCATION:Main Office
SUMMARY:Family to School Partnership Meeting
END:VEVENT
BEGIN:VEVENT
DTSTAMP:20260423T115101Z
UID:ca379b17-e9d5-4272-bfdd-07b1188d7226
DTSTART:20270310T180000
DTEND:20270310T190000
DESCRIPTION:
LOCATION:
SUMMARY:Family to School Partnership Meeting\, Main Office
END:VEVENT
BEGIN:VEVENT
DTSTAMP:20260423T115101Z
UID:2c5677ab-6425-4cfe-ba2b-8b289fb2251b
DTSTART:20270310T180000
DTEND:20270310T190000
DESCRIPTION:
LOCATION:
SUMMARY:Family to School Partnership Meeting\, Main Office
END:VEVENT
BEGIN:VEVENT
DTSTAMP:20260423T115101Z
UID:5f763b98-4260-4883-a066-23337234c67d
DTSTART:20270414T180000
DTEND:20270414T190000
DESCRIPTION:
LOCATION:Main Office
SUMMARY:Family to School Partnership Meeting
END:VEVENT
BEGIN:VEVENT
DTSTAMP:20260423T115101Z
UID:12882053-e27a-41f0-9898-de0fae1d3850
DTSTART:20270414T180000
DTEND:20270414T190000
DESCRIPTION:
LOCATION:
SUMMARY:Family to School Partnership Meeting\, Main Office
END:VEVENT
BEGIN:VEVENT
DTSTAMP:20260423T115101Z
UID:d9efae11-a566-4ae1-8342-3e46907e3a27
DTSTART:20270414T180000
DTEND:20270414T190000
DESCRIPTION:
LOCATION:
SUMMARY:Family to School Partnership Meeting\, Main Office
END:VEVENT
BEGIN:VEVENT
DTSTAMP:20260423T115101Z
UID:5bef0714-05c7-44b9-a637-0c3ec973afd4
DTSTART:20270512T180000
DTEND:20270512T190000
DESCRIPTION:
LOCATION:Main Office
SUMMARY:Family to School Partnership Meeting
END:VEVENT
BEGIN:VEVENT
DTSTAMP:20260423T115101Z
UID:c9c0d2a6-0d7c-4c09-85f8-e17ff750e097
DTSTART:20270512T180000
DTEND:20270512T190000
DESCRIPTION:
LOCATION:
SUMMARY:Family to School Partnership Meeting\, Main Office
END:VEVENT
BEGIN:VEVENT
DTSTAMP:20260423T115101Z
UID:265a4da0-56bc-4c95-a0c3-b7c2076a1632
DTSTART:20270512T180000
DTEND:20270512T190000
DESCRIPTION:
LOCATION:
SUMMARY:Family to School Partnership Meeting\, Main Office
END:VEVENT
BEGIN:VEVENT
DTSTAMP:20260423T115101Z
UID:7cd16aec-4155-479b-9051-7b04dd36df08
DTSTART:20270609T180000
DTEND:20270609T190000
DESCRIPTION:
LOCATION:Main Office
SUMMARY:Family to School Partnership Meeting
END:VEVENT
BEGIN:VEVENT
DTSTAMP:20260423T115101Z
UID:3500df2e-c8ea-48d8-bb71-bd036eaaba07
DTSTART:20270609T180000
DTEND:20270609T190000
DESCRIPTION:
LOCATION:
SUMMARY:Family to School Partnership Meeting\, Main Office
END:VEVENT
BEGIN:VEVENT
DTSTAMP:20260423T115101Z
UID:e00e4477-cd1b-4bfa-8758-782d057e6809
DTSTART:20270609T180000
DTEND:20270609T190000
DESCRIPTION:
LOCATION:
SUMMARY:Family to School Partnership Meeting\, Main Office
END:VEVENT
END:VCALENDAR
