BEGIN:VCALENDAR
VERSION:2.0
PRODID:icalendar-ruby
CALSCALE:GREGORIAN
BEGIN:VTIMEZONE
TZID:America/New_York
BEGIN:DAYLIGHT
DTSTART:20260308T030000
TZOFFSETFROM:-0500
TZOFFSETTO:-0400
RRULE:FREQ=YEARLY;BYDAY=2SU;BYMONTH=3
TZNAME:EDT
END:DAYLIGHT
BEGIN:STANDARD
DTSTART:20261101T010000
TZOFFSETFROM:-0400
TZOFFSETTO:-0500
RRULE:FREQ=YEARLY;BYDAY=1SU;BYMONTH=11
TZNAME:EST
END:STANDARD
END:VTIMEZONE
BEGIN:VEVENT
DTSTAMP:20260423T101830Z
UID:c1e09e9e-e0fc-40bc-ab5a-3167249a4361
DTSTART;VALUE=DATE:20260420
DTEND;VALUE=DATE:20260425
DESCRIPTION:
LOCATION:
SUMMARY:April Break
END:VEVENT
BEGIN:VEVENT
DTSTAMP:20260423T101830Z
UID:89ad66f5-e219-42b2-bd3e-8f7dce19cb05
DTSTART:20260428T150000
DTEND:20260428T160000
DESCRIPTION:
LOCATION:
SUMMARY:School Council Meeting
END:VEVENT
BEGIN:VEVENT
DTSTAMP:20260423T101830Z
UID:9d8647ff-24c2-4d67-b8b4-96e466a73d99
DTSTART:20260504T183000
DTEND:20260504T193000
DESCRIPTION:<ul><li><p>Come meet other parents/guardians</p></li><li><p>Dis
 cuss important information</p></li><li><p>Ask questions</p></li><li><p>Lea
 rns ways to get involved</p></li><li><p>Share ideas</p></li></ul><blockquo
 te style="margin-left: 40px\; font-weight: normal" class="indent"><p>(Virt
 ual Options may be offered)</p><p><a target="_blank" rel="noopener norefer
 rer nofollow" href="mailto:CommunitySchoolPTO@gmail.com">CommunitySchoolPT
 O@gmail.com</a></p></blockquote>
LOCATION:45 S Washington St\, North Attleborough\, MA 02760\, USA
SUMMARY:PTO Meeting
END:VEVENT
BEGIN:VEVENT
DTSTAMP:20260423T101830Z
UID:7c9466f4-0b94-4b90-9581-e6f8193c244d
DTSTART:20260522T083000
DTEND:20260522T144500
DESCRIPTION:
LOCATION:
SUMMARY:Spirit Day - Tie Dye
END:VEVENT
BEGIN:VEVENT
DTSTAMP:20260423T101830Z
UID:fa811016-3c09-4ef9-a9fe-572c2cd6051f
DTSTART;VALUE=DATE:20260525
DTEND;VALUE=DATE:20260526
DESCRIPTION:
LOCATION:
SUMMARY:NO SCHOOL - Memorial Day
END:VEVENT
BEGIN:VEVENT
DTSTAMP:20260423T101830Z
UID:deaca677-a55f-419c-b916-21155d241298
DTSTART:20260526T150000
DTEND:20260526T160000
DESCRIPTION:
LOCATION:
SUMMARY:School Council Meeting
END:VEVENT
BEGIN:VEVENT
DTSTAMP:20260423T101830Z
UID:6daab4f7-5df6-42c4-9acc-7e23b82fea19
DTSTART:20260601T183000
DTEND:20260601T193000
DESCRIPTION:<ul><li><p>Come meet other parents/guardians</p></li><li><p>Dis
 cuss important information</p></li><li><p>Ask questions</p></li><li><p>Lea
 rns ways to get involved</p></li><li><p>Share ideas</p></li></ul><blockquo
 te style="margin-left: 40px\; font-weight: normal" class="indent"><p>(Virt
 ual Options may be offered)</p><p><a target="_blank" rel="noopener norefer
 rer nofollow" href="mailto:CommunitySchoolPTO@gmail.com">CommunitySchoolPT
 O@gmail.com</a></p></blockquote>
LOCATION:45 S Washington St\, North Attleborough\, MA 02760\, USA
SUMMARY:PTO Meeting
END:VEVENT
BEGIN:VEVENT
DTSTAMP:20260423T101830Z
UID:f025f383-49d0-485c-91f1-d927f10ad99b
DTSTART;VALUE=DATE:20260615
DTEND;VALUE=DATE:20260616
DESCRIPTION:
LOCATION:
SUMMARY:LAST DAY of School - Early Release
END:VEVENT
BEGIN:VEVENT
DTSTAMP:20260423T101830Z
UID:e2b4410b-1574-4e76-a2be-b302644870d7
DTSTART:20260615T083000
DTEND:20260615T144500
DESCRIPTION:
LOCATION:
SUMMARY:Spirit Day - Beach Day
END:VEVENT
END:VCALENDAR
