BEGIN:VCALENDAR
VERSION:2.0
PRODID:icalendar-ruby
CALSCALE:GREGORIAN
BEGIN:VTIMEZONE
TZID:America/Chicago
BEGIN:DAYLIGHT
DTSTART:20260308T030000
TZOFFSETFROM:-0600
TZOFFSETTO:-0500
RRULE:FREQ=YEARLY;BYDAY=2SU;BYMONTH=3
TZNAME:CDT
END:DAYLIGHT
BEGIN:STANDARD
DTSTART:20261101T010000
TZOFFSETFROM:-0500
TZOFFSETTO:-0600
RRULE:FREQ=YEARLY;BYDAY=1SU;BYMONTH=11
TZNAME:CST
END:STANDARD
END:VTIMEZONE
BEGIN:VEVENT
DTSTAMP:20260422T030932Z
UID:5457f07a-3f09-4304-99d6-806790601411
DTSTART;VALUE=DATE:20260421
DTEND;VALUE=DATE:20260422
DESCRIPTION:
LOCATION:
SUMMARY:Senior Interviews
END:VEVENT
BEGIN:VEVENT
DTSTAMP:20260422T030932Z
UID:d0b9f4e8-7da6-418d-9f4e-eba2b5f7a319
DTSTART:20260423T130000
DTEND:20260429T140000
DESCRIPTION:
LOCATION:
SUMMARY:ICDC. 
END:VEVENT
BEGIN:VEVENT
DTSTAMP:20260422T030932Z
UID:95d51ba9-2802-47af-8156-836b81b910c0
DTSTART;VALUE=DATE:20260430
DTEND;VALUE=DATE:20260501
DESCRIPTION:
LOCATION:
SUMMARY:Texas Work Force center banquet
END:VEVENT
BEGIN:VEVENT
DTSTAMP:20260422T030932Z
UID:d0bf798d-918c-49ea-92a5-cd7f729c814c
DTSTART:20260430T180000
DTEND:20260430T200000
DESCRIPTION:
LOCATION:
SUMMARY:Spring Sing Concert
END:VEVENT
BEGIN:VEVENT
DTSTAMP:20260422T030932Z
UID:c892a4b5-f0da-4910-abb0-d4543328b475
DTSTART;VALUE=DATE:20260504
DTEND;VALUE=DATE:20260506
DESCRIPTION:
LOCATION:
SUMMARY:Future Sweetwater - Austin Trip
END:VEVENT
BEGIN:VEVENT
DTSTAMP:20260422T030932Z
UID:8032d98a-0d0e-48d3-887e-6b876658aca1
DTSTART:20260504T183000
DTEND:20260504T213000
DESCRIPTION:End of year performance and required for all SISD Band Students
LOCATION:
SUMMARY:SISD Band Spring Concert
END:VEVENT
BEGIN:VEVENT
DTSTAMP:20260422T030932Z
UID:ec7d4350-25a8-44da-a44b-ae499a6d45c4
DTSTART:20260504T183000
DTEND:20260504T213000
DESCRIPTION:End of year performance and required for all SISD Band Students
LOCATION:
SUMMARY:SISD Band Spring Concert
END:VEVENT
BEGIN:VEVENT
DTSTAMP:20260422T030932Z
UID:0652c981-5c39-46cc-8a0a-45d32d870912
DTSTART;VALUE=DATE:20260505
DTEND;VALUE=DATE:20260506
DESCRIPTION:
LOCATION:
SUMMARY:TSTC Leadership Forum
END:VEVENT
BEGIN:VEVENT
DTSTAMP:20260422T030932Z
UID:9e7810c6-cb7f-4177-ba53-e396bd0698f1
DTSTART:20260511T180000
DTEND:20260511T210000
DESCRIPTION:
LOCATION:Texas State Technical College in Sweetwater (TSTC)\, 300 Homer K. 
 Taylor Dr\, Sweetwater\, TX 79556\, USA
SUMMARY:Band Banquet
END:VEVENT
BEGIN:VEVENT
DTSTAMP:20260422T030932Z
UID:60d664ec-4ca0-4d45-ab77-f768dff0cbb1
DTSTART;VALUE=DATE:20260513
DTEND;VALUE=DATE:20260514
DESCRIPTION:
LOCATION:
SUMMARY:Future Sweetwater - Graduation
END:VEVENT
BEGIN:VEVENT
DTSTAMP:20260422T030932Z
UID:dbdf27f6-75f6-4a91-a733-8cbdf253a02f
DTSTART;VALUE=DATE:20260515
DTEND;VALUE=DATE:20260516
DESCRIPTION:
LOCATION:
SUMMARY:Final Senior Grades Due
END:VEVENT
BEGIN:VEVENT
DTSTAMP:20260422T030932Z
UID:29090e26-cd31-4573-9370-cce50865541d
DTSTART;VALUE=DATE:20260517
DTEND;VALUE=DATE:20260518
DESCRIPTION:
LOCATION:
SUMMARY:Baccalaureate
END:VEVENT
BEGIN:VEVENT
DTSTAMP:20260422T030932Z
UID:f25523be-3905-4f71-8f3c-25b1a617e3a7
DTSTART:20260518T180000
DTEND:20260518T190000
DESCRIPTION:
LOCATION:
SUMMARY:Scholarship Awards
END:VEVENT
BEGIN:VEVENT
DTSTAMP:20260422T030932Z
UID:baf6d97f-4641-4eb7-9b5a-070c78b02b45
DTSTART:20260519T130000
DTEND:20260519T140000
DESCRIPTION:
LOCATION:
SUMMARY:SHS Academic Awards
END:VEVENT
BEGIN:VEVENT
DTSTAMP:20260422T030932Z
UID:f573ae52-98a1-43e5-bc77-ab54968c79ab
DTSTART:20260519T180000
DTEND:20260519T190000
DESCRIPTION:SHS Library
LOCATION:
SUMMARY:NHS Stoling Ceremony
END:VEVENT
BEGIN:VEVENT
DTSTAMP:20260422T030932Z
UID:db7e5ac3-6764-4474-a855-76d4793f7cc4
DTSTART:20260520T190000
DTEND:20260520T210000
DESCRIPTION:
LOCATION:Mustang Bowl
SUMMARY:Powder Puff
END:VEVENT
BEGIN:VEVENT
DTSTAMP:20260422T030932Z
UID:d731182a-0a86-4e39-9d32-8a65bbbd09ce
DTSTART;VALUE=DATE:20260521
DTEND;VALUE=DATE:20260522
DESCRIPTION:
LOCATION:
SUMMARY:Peach Fuzz Tournament
END:VEVENT
BEGIN:VEVENT
DTSTAMP:20260422T030932Z
UID:daf3eec5-074c-4bb6-8967-136ac3aa516e
DTSTART;VALUE=DATE:20260524
DTEND;VALUE=DATE:20260526
DESCRIPTION:
LOCATION:
SUMMARY:TSSEC State Solo & Ensemble Contest
END:VEVENT
BEGIN:VEVENT
DTSTAMP:20260422T030932Z
UID:ff374b51-bc61-4925-8149-d017d9ab791e
DTSTART;VALUE=DATE:20260524
DTEND;VALUE=DATE:20260526
DESCRIPTION:
LOCATION:
SUMMARY:TSSEC State Solo & Ensemble Contest
END:VEVENT
BEGIN:VEVENT
DTSTAMP:20260422T030932Z
UID:6f391418-e253-4c25-8777-857d446a6f75
DTSTART;VALUE=DATE:20260526
DTEND;VALUE=DATE:20260529
DESCRIPTION:
LOCATION:
SUMMARY:Mini Mustang Cheer Camp
END:VEVENT
BEGIN:VEVENT
DTSTAMP:20260422T030932Z
UID:b1ab3ea3-c43b-43f8-84f6-ea6f771b7038
DTSTART;VALUE=DATE:20260529
DTEND;VALUE=DATE:20260602
DESCRIPTION:
LOCATION:
SUMMARY:NCA Cheer Camp
END:VEVENT
BEGIN:VEVENT
DTSTAMP:20260422T030932Z
UID:8cc36e8a-d459-43f8-bfe6-4666668c11ba
DTSTART;VALUE=DATE:20270123
DTEND;VALUE=DATE:20270125
DESCRIPTION:Texas State Solo and Ensemble Contest
LOCATION:Pflugerville Hendrickson High School
SUMMARY:SHS Band : TSSEC
END:VEVENT
BEGIN:VEVENT
DTSTAMP:20260422T030932Z
UID:da671bfa-65a7-43c1-93f3-949d82a6f275
DTSTART;VALUE=DATE:20280122
DTEND;VALUE=DATE:20280124
DESCRIPTION:Texas State Solo and Ensemble Contest
LOCATION:Pflugerville Hendrickson High School
SUMMARY:SHS Band : TSSEC
END:VEVENT
BEGIN:VEVENT
DTSTAMP:20260422T030932Z
UID:9498b2af-ab6e-4f14-bc54-10b833024bba
DTSTART;VALUE=DATE:20290127
DTEND;VALUE=DATE:20290129
DESCRIPTION:Texas State Solo and Ensemble Contest
LOCATION:Pflugerville Hendrickson High School
SUMMARY:SHS Band : TSSEC
END:VEVENT
BEGIN:VEVENT
DTSTAMP:20260422T030932Z
UID:7122abe8-12f8-4bd8-8f00-fb6e9ffe3cae
DTSTART;VALUE=DATE:20300126
DTEND;VALUE=DATE:20300128
DESCRIPTION:Texas State Solo and Ensemble Contest
LOCATION:Pflugerville Hendrickson High School
SUMMARY:SHS Band : TSSEC
END:VEVENT
BEGIN:VEVENT
DTSTAMP:20260422T030932Z
UID:4b0b1d3b-d2cf-4bf5-a3b0-6962baf752ea
DTSTART;VALUE=DATE:20310125
DTEND;VALUE=DATE:20310127
DESCRIPTION:Texas State Solo and Ensemble Contest
LOCATION:Pflugerville Hendrickson High School
SUMMARY:SHS Band : TSSEC
END:VEVENT
BEGIN:VEVENT
DTSTAMP:20260422T030932Z
UID:58721ed5-337f-4027-8ec1-04b73ec0bc9e
DTSTART;VALUE=DATE:20320124
DTEND;VALUE=DATE:20320126
DESCRIPTION:Texas State Solo and Ensemble Contest
LOCATION:Pflugerville Hendrickson High School
SUMMARY:SHS Band : TSSEC
END:VEVENT
BEGIN:VEVENT
DTSTAMP:20260422T030932Z
UID:aa344c53-387f-495c-ad0a-2fe5858e9bf6
DTSTART;VALUE=DATE:20330122
DTEND;VALUE=DATE:20330124
DESCRIPTION:Texas State Solo and Ensemble Contest
LOCATION:Pflugerville Hendrickson High School
SUMMARY:SHS Band : TSSEC
END:VEVENT
BEGIN:VEVENT
DTSTAMP:20260422T030932Z
UID:cefbc1de-3063-42eb-995f-f38deaa9dc55
DTSTART;VALUE=DATE:20340128
DTEND;VALUE=DATE:20340130
DESCRIPTION:Texas State Solo and Ensemble Contest
LOCATION:Pflugerville Hendrickson High School
SUMMARY:SHS Band : TSSEC
END:VEVENT
BEGIN:VEVENT
DTSTAMP:20260422T030932Z
UID:8ae34221-4609-4641-bb26-cafc21cc8594
DTSTART;VALUE=DATE:20350127
DTEND;VALUE=DATE:20350129
DESCRIPTION:Texas State Solo and Ensemble Contest
LOCATION:Pflugerville Hendrickson High School
SUMMARY:SHS Band : TSSEC
END:VEVENT
BEGIN:VEVENT
DTSTAMP:20260422T030932Z
UID:0040ee5a-1b65-42e8-9bbf-038ae6bb6243
DTSTART;VALUE=DATE:20360126
DTEND;VALUE=DATE:20360128
DESCRIPTION:Texas State Solo and Ensemble Contest
LOCATION:Pflugerville Hendrickson High School
SUMMARY:SHS Band : TSSEC
END:VEVENT
BEGIN:VEVENT
DTSTAMP:20260422T030932Z
UID:46717516-a8fe-43d3-b8a1-03ec492a43dc
DTSTART;VALUE=DATE:20370124
DTEND;VALUE=DATE:20370126
DESCRIPTION:Texas State Solo and Ensemble Contest
LOCATION:Pflugerville Hendrickson High School
SUMMARY:SHS Band : TSSEC
END:VEVENT
BEGIN:VEVENT
DTSTAMP:20260422T030932Z
UID:0b5a2296-24fd-4ba0-93d5-b7842f50d5c2
DTSTART;VALUE=DATE:20380123
DTEND;VALUE=DATE:20380125
DESCRIPTION:Texas State Solo and Ensemble Contest
LOCATION:Pflugerville Hendrickson High School
SUMMARY:SHS Band : TSSEC
END:VEVENT
BEGIN:VEVENT
DTSTAMP:20260422T030932Z
UID:6c7d2725-f927-4cee-b115-e585e5d5c621
DTSTART;VALUE=DATE:20390122
DTEND;VALUE=DATE:20390124
DESCRIPTION:Texas State Solo and Ensemble Contest
LOCATION:Pflugerville Hendrickson High School
SUMMARY:SHS Band : TSSEC
END:VEVENT
BEGIN:VEVENT
DTSTAMP:20260422T030932Z
UID:c650138f-777c-400e-9c29-99b9a0d58b9b
DTSTART;VALUE=DATE:20400128
DTEND;VALUE=DATE:20400130
DESCRIPTION:Texas State Solo and Ensemble Contest
LOCATION:Pflugerville Hendrickson High School
SUMMARY:SHS Band : TSSEC
END:VEVENT
BEGIN:VEVENT
DTSTAMP:20260422T030932Z
UID:b40500cb-e74a-4538-bf67-9200eefd3933
DTSTART;VALUE=DATE:20410126
DTEND;VALUE=DATE:20410128
DESCRIPTION:Texas State Solo and Ensemble Contest
LOCATION:Pflugerville Hendrickson High School
SUMMARY:SHS Band : TSSEC
END:VEVENT
BEGIN:VEVENT
DTSTAMP:20260422T030932Z
UID:1f1c7bd5-29aa-41c8-8748-8b72c970b86e
DTSTART;VALUE=DATE:20420125
DTEND;VALUE=DATE:20420127
DESCRIPTION:Texas State Solo and Ensemble Contest
LOCATION:Pflugerville Hendrickson High School
SUMMARY:SHS Band : TSSEC
END:VEVENT
BEGIN:VEVENT
DTSTAMP:20260422T030932Z
UID:8cd3fe2d-992e-45c5-b384-11c9648a1319
DTSTART;VALUE=DATE:20430124
DTEND;VALUE=DATE:20430126
DESCRIPTION:Texas State Solo and Ensemble Contest
LOCATION:Pflugerville Hendrickson High School
SUMMARY:SHS Band : TSSEC
END:VEVENT
BEGIN:VEVENT
DTSTAMP:20260422T030932Z
UID:4c38b0fc-d8c1-4deb-937e-a3fc5fbeec95
DTSTART;VALUE=DATE:20440123
DTEND;VALUE=DATE:20440125
DESCRIPTION:Texas State Solo and Ensemble Contest
LOCATION:Pflugerville Hendrickson High School
SUMMARY:SHS Band : TSSEC
END:VEVENT
BEGIN:VEVENT
DTSTAMP:20260422T030932Z
UID:7a671b6d-20e6-4d84-90e0-33f7fa7e1d13
DTSTART;VALUE=DATE:20450128
DTEND;VALUE=DATE:20450130
DESCRIPTION:Texas State Solo and Ensemble Contest
LOCATION:Pflugerville Hendrickson High School
SUMMARY:SHS Band : TSSEC
END:VEVENT
BEGIN:VEVENT
DTSTAMP:20260422T030932Z
UID:0a48579a-81d1-4b7f-aa1b-51070e65d316
DTSTART;VALUE=DATE:20460127
DTEND;VALUE=DATE:20460129
DESCRIPTION:Texas State Solo and Ensemble Contest
LOCATION:Pflugerville Hendrickson High School
SUMMARY:SHS Band : TSSEC
END:VEVENT
BEGIN:VEVENT
DTSTAMP:20260422T030932Z
UID:e1a22e87-c550-4bf3-be5f-746106187d63
DTSTART;VALUE=DATE:20470126
DTEND;VALUE=DATE:20470128
DESCRIPTION:Texas State Solo and Ensemble Contest
LOCATION:Pflugerville Hendrickson High School
SUMMARY:SHS Band : TSSEC
END:VEVENT
BEGIN:VEVENT
DTSTAMP:20260422T030932Z
UID:8a294d69-849a-4d9e-b8cc-63ba95b0ea2c
DTSTART;VALUE=DATE:20480125
DTEND;VALUE=DATE:20480127
DESCRIPTION:Texas State Solo and Ensemble Contest
LOCATION:Pflugerville Hendrickson High School
SUMMARY:SHS Band : TSSEC
END:VEVENT
BEGIN:VEVENT
DTSTAMP:20260422T030932Z
UID:631ff8e7-acfb-4efe-b1a4-e0d387da506e
DTSTART;VALUE=DATE:20490123
DTEND;VALUE=DATE:20490125
DESCRIPTION:Texas State Solo and Ensemble Contest
LOCATION:Pflugerville Hendrickson High School
SUMMARY:SHS Band : TSSEC
END:VEVENT
BEGIN:VEVENT
DTSTAMP:20260422T030932Z
UID:3881e947-b755-494c-9db1-a9041ff87ca7
DTSTART;VALUE=DATE:20500122
DTEND;VALUE=DATE:20500124
DESCRIPTION:Texas State Solo and Ensemble Contest
LOCATION:Pflugerville Hendrickson High School
SUMMARY:SHS Band : TSSEC
END:VEVENT
BEGIN:VEVENT
DTSTAMP:20260422T030932Z
UID:d9827548-66dd-4640-9eff-39fba5b51efc
DTSTART;VALUE=DATE:20510128
DTEND;VALUE=DATE:20510130
DESCRIPTION:Texas State Solo and Ensemble Contest
LOCATION:Pflugerville Hendrickson High School
SUMMARY:SHS Band : TSSEC
END:VEVENT
BEGIN:VEVENT
DTSTAMP:20260422T030932Z
UID:2d8ff954-d075-4dec-8a36-ee7bbebb03a9
DTSTART;VALUE=DATE:20520127
DTEND;VALUE=DATE:20520129
DESCRIPTION:Texas State Solo and Ensemble Contest
LOCATION:Pflugerville Hendrickson High School
SUMMARY:SHS Band : TSSEC
END:VEVENT
BEGIN:VEVENT
DTSTAMP:20260422T030932Z
UID:a6b37bf9-8f9e-4a0f-a454-5893c8f362a6
DTSTART;VALUE=DATE:20530125
DTEND;VALUE=DATE:20530127
DESCRIPTION:Texas State Solo and Ensemble Contest
LOCATION:Pflugerville Hendrickson High School
SUMMARY:SHS Band : TSSEC
END:VEVENT
BEGIN:VEVENT
DTSTAMP:20260422T030932Z
UID:ce73b5dd-b6c0-452c-a9c5-daf4e29f5403
DTSTART;VALUE=DATE:20540124
DTEND;VALUE=DATE:20540126
DESCRIPTION:Texas State Solo and Ensemble Contest
LOCATION:Pflugerville Hendrickson High School
SUMMARY:SHS Band : TSSEC
END:VEVENT
BEGIN:VEVENT
DTSTAMP:20260422T030932Z
UID:32679874-7244-4dec-ab7f-ae5729f352c2
DTSTART;VALUE=DATE:20550123
DTEND;VALUE=DATE:20550125
DESCRIPTION:Texas State Solo and Ensemble Contest
LOCATION:Pflugerville Hendrickson High School
SUMMARY:SHS Band : TSSEC
END:VEVENT
BEGIN:VEVENT
DTSTAMP:20260422T030932Z
UID:1e47dc3a-ecf2-4031-86e8-10b5f0360ae9
DTSTART;VALUE=DATE:20560122
DTEND;VALUE=DATE:20560124
DESCRIPTION:Texas State Solo and Ensemble Contest
LOCATION:Pflugerville Hendrickson High School
SUMMARY:SHS Band : TSSEC
END:VEVENT
BEGIN:VEVENT
DTSTAMP:20260422T030932Z
UID:31d60e71-3fbf-4a1a-9ee8-1fa32991884d
DTSTART;VALUE=DATE:20570127
DTEND;VALUE=DATE:20570129
DESCRIPTION:Texas State Solo and Ensemble Contest
LOCATION:Pflugerville Hendrickson High School
SUMMARY:SHS Band : TSSEC
END:VEVENT
BEGIN:VEVENT
DTSTAMP:20260422T030932Z
UID:d000e5ee-0d54-4224-980c-29fdb368dfd3
DTSTART;VALUE=DATE:20580126
DTEND;VALUE=DATE:20580128
DESCRIPTION:Texas State Solo and Ensemble Contest
LOCATION:Pflugerville Hendrickson High School
SUMMARY:SHS Band : TSSEC
END:VEVENT
BEGIN:VEVENT
DTSTAMP:20260422T030932Z
UID:5e86353f-69e0-472c-bbb2-47c62c55060b
DTSTART;VALUE=DATE:20590125
DTEND;VALUE=DATE:20590127
DESCRIPTION:Texas State Solo and Ensemble Contest
LOCATION:Pflugerville Hendrickson High School
SUMMARY:SHS Band : TSSEC
END:VEVENT
BEGIN:VEVENT
DTSTAMP:20260422T030932Z
UID:51f67919-b0d0-4e5e-a51c-060e0ed579fd
DTSTART;VALUE=DATE:20600124
DTEND;VALUE=DATE:20600126
DESCRIPTION:Texas State Solo and Ensemble Contest
LOCATION:Pflugerville Hendrickson High School
SUMMARY:SHS Band : TSSEC
END:VEVENT
BEGIN:VEVENT
DTSTAMP:20260422T030932Z
UID:4e1a81ab-1e26-4f83-bb67-a08e4fc993a1
DTSTART;VALUE=DATE:20610122
DTEND;VALUE=DATE:20610124
DESCRIPTION:Texas State Solo and Ensemble Contest
LOCATION:Pflugerville Hendrickson High School
SUMMARY:SHS Band : TSSEC
END:VEVENT
BEGIN:VEVENT
DTSTAMP:20260422T030932Z
UID:f405c9ec-633e-469d-8a41-a3fc887d9268
DTSTART;VALUE=DATE:20620128
DTEND;VALUE=DATE:20620130
DESCRIPTION:Texas State Solo and Ensemble Contest
LOCATION:Pflugerville Hendrickson High School
SUMMARY:SHS Band : TSSEC
END:VEVENT
BEGIN:VEVENT
DTSTAMP:20260422T030932Z
UID:92fa61d0-de3c-4dde-aca6-ec4ea940573e
DTSTART;VALUE=DATE:20630127
DTEND;VALUE=DATE:20630129
DESCRIPTION:Texas State Solo and Ensemble Contest
LOCATION:Pflugerville Hendrickson High School
SUMMARY:SHS Band : TSSEC
END:VEVENT
BEGIN:VEVENT
DTSTAMP:20260422T030932Z
UID:ba5c379c-2ea1-4214-9a36-586a9b3715ea
DTSTART;VALUE=DATE:20640126
DTEND;VALUE=DATE:20640128
DESCRIPTION:Texas State Solo and Ensemble Contest
LOCATION:Pflugerville Hendrickson High School
SUMMARY:SHS Band : TSSEC
END:VEVENT
BEGIN:VEVENT
DTSTAMP:20260422T030932Z
UID:a4da593b-8dcb-4494-83aa-a5c8225044b0
DTSTART;VALUE=DATE:20650124
DTEND;VALUE=DATE:20650126
DESCRIPTION:Texas State Solo and Ensemble Contest
LOCATION:Pflugerville Hendrickson High School
SUMMARY:SHS Band : TSSEC
END:VEVENT
BEGIN:VEVENT
DTSTAMP:20260422T030932Z
UID:7d91b716-d572-4ea0-88e3-460b6d000d62
DTSTART;VALUE=DATE:20660123
DTEND;VALUE=DATE:20660125
DESCRIPTION:Texas State Solo and Ensemble Contest
LOCATION:Pflugerville Hendrickson High School
SUMMARY:SHS Band : TSSEC
END:VEVENT
BEGIN:VEVENT
DTSTAMP:20260422T030932Z
UID:91ec15cd-39a2-40b0-a779-144a59f289c9
DTSTART;VALUE=DATE:20670122
DTEND;VALUE=DATE:20670124
DESCRIPTION:Texas State Solo and Ensemble Contest
LOCATION:Pflugerville Hendrickson High School
SUMMARY:SHS Band : TSSEC
END:VEVENT
BEGIN:VEVENT
DTSTAMP:20260422T030932Z
UID:cf1b8b8e-c430-4c74-a30e-9ff6fc414f59
DTSTART;VALUE=DATE:20680128
DTEND;VALUE=DATE:20680130
DESCRIPTION:Texas State Solo and Ensemble Contest
LOCATION:Pflugerville Hendrickson High School
SUMMARY:SHS Band : TSSEC
END:VEVENT
BEGIN:VEVENT
DTSTAMP:20260422T030932Z
UID:98580e97-3480-49ff-a555-3a9ae3241af5
DTSTART;VALUE=DATE:20690126
DTEND;VALUE=DATE:20690128
DESCRIPTION:Texas State Solo and Ensemble Contest
LOCATION:Pflugerville Hendrickson High School
SUMMARY:SHS Band : TSSEC
END:VEVENT
BEGIN:VEVENT
DTSTAMP:20260422T030932Z
UID:4e54e56a-1205-4fc1-bad9-a7ae019845ee
DTSTART;VALUE=DATE:20700125
DTEND;VALUE=DATE:20700127
DESCRIPTION:Texas State Solo and Ensemble Contest
LOCATION:Pflugerville Hendrickson High School
SUMMARY:SHS Band : TSSEC
END:VEVENT
BEGIN:VEVENT
DTSTAMP:20260422T030932Z
UID:1c7ca278-0d3b-447d-940d-9bfd3c22a820
DTSTART;VALUE=DATE:20710124
DTEND;VALUE=DATE:20710126
DESCRIPTION:Texas State Solo and Ensemble Contest
LOCATION:Pflugerville Hendrickson High School
SUMMARY:SHS Band : TSSEC
END:VEVENT
BEGIN:VEVENT
DTSTAMP:20260422T030932Z
UID:409aab79-402b-4956-9c77-0ce4c5028a40
DTSTART;VALUE=DATE:20720123
DTEND;VALUE=DATE:20720125
DESCRIPTION:Texas State Solo and Ensemble Contest
LOCATION:Pflugerville Hendrickson High School
SUMMARY:SHS Band : TSSEC
END:VEVENT
BEGIN:VEVENT
DTSTAMP:20260422T030932Z
UID:81c3a27d-5851-4a24-84e7-0824e9c0bc9d
DTSTART;VALUE=DATE:20730128
DTEND;VALUE=DATE:20730130
DESCRIPTION:Texas State Solo and Ensemble Contest
LOCATION:Pflugerville Hendrickson High School
SUMMARY:SHS Band : TSSEC
END:VEVENT
BEGIN:VEVENT
DTSTAMP:20260422T030932Z
UID:a00f9904-ccba-446f-bb7d-ad98a5e19d81
DTSTART;VALUE=DATE:20740127
DTEND;VALUE=DATE:20740129
DESCRIPTION:Texas State Solo and Ensemble Contest
LOCATION:Pflugerville Hendrickson High School
SUMMARY:SHS Band : TSSEC
END:VEVENT
BEGIN:VEVENT
DTSTAMP:20260422T030932Z
UID:01fbe12c-15b2-4d83-99b8-80d8d7d381e1
DTSTART;VALUE=DATE:20750126
DTEND;VALUE=DATE:20750128
DESCRIPTION:Texas State Solo and Ensemble Contest
LOCATION:Pflugerville Hendrickson High School
SUMMARY:SHS Band : TSSEC
END:VEVENT
BEGIN:VEVENT
DTSTAMP:20260422T030932Z
UID:436e8712-3e7f-4257-80a3-015dd9bea913
DTSTART;VALUE=DATE:20760125
DTEND;VALUE=DATE:20760127
DESCRIPTION:Texas State Solo and Ensemble Contest
LOCATION:Pflugerville Hendrickson High School
SUMMARY:SHS Band : TSSEC
END:VEVENT
BEGIN:VEVENT
DTSTAMP:20260422T030932Z
UID:80bfe9a0-b5c1-4a16-a8a3-59c8c0d01f3e
DTSTART;VALUE=DATE:20770123
DTEND;VALUE=DATE:20770125
DESCRIPTION:Texas State Solo and Ensemble Contest
LOCATION:Pflugerville Hendrickson High School
SUMMARY:SHS Band : TSSEC
END:VEVENT
BEGIN:VEVENT
DTSTAMP:20260422T030932Z
UID:10fc3efd-19e9-4238-9909-ffbe7a5544cd
DTSTART;VALUE=DATE:20780122
DTEND;VALUE=DATE:20780124
DESCRIPTION:Texas State Solo and Ensemble Contest
LOCATION:Pflugerville Hendrickson High School
SUMMARY:SHS Band : TSSEC
END:VEVENT
BEGIN:VEVENT
DTSTAMP:20260422T030932Z
UID:9d15c70c-e608-411f-addb-294f021650b0
DTSTART;VALUE=DATE:20790128
DTEND;VALUE=DATE:20790130
DESCRIPTION:Texas State Solo and Ensemble Contest
LOCATION:Pflugerville Hendrickson High School
SUMMARY:SHS Band : TSSEC
END:VEVENT
BEGIN:VEVENT
DTSTAMP:20260422T030932Z
UID:325b105f-db64-4c7a-8057-765e01bce971
DTSTART;VALUE=DATE:20800127
DTEND;VALUE=DATE:20800129
DESCRIPTION:Texas State Solo and Ensemble Contest
LOCATION:Pflugerville Hendrickson High School
SUMMARY:SHS Band : TSSEC
END:VEVENT
BEGIN:VEVENT
DTSTAMP:20260422T030932Z
UID:cc8a152c-5dd3-4c5c-bbef-aa046d6da12b
DTSTART;VALUE=DATE:20810125
DTEND;VALUE=DATE:20810127
DESCRIPTION:Texas State Solo and Ensemble Contest
LOCATION:Pflugerville Hendrickson High School
SUMMARY:SHS Band : TSSEC
END:VEVENT
BEGIN:VEVENT
DTSTAMP:20260422T030932Z
UID:c8e9fd17-aee4-4038-b262-2d8fbe9de78e
DTSTART;VALUE=DATE:20820124
DTEND;VALUE=DATE:20820126
DESCRIPTION:Texas State Solo and Ensemble Contest
LOCATION:Pflugerville Hendrickson High School
SUMMARY:SHS Band : TSSEC
END:VEVENT
BEGIN:VEVENT
DTSTAMP:20260422T030932Z
UID:09e3032a-d069-49ba-8729-6b2b3df1460c
DTSTART;VALUE=DATE:20830123
DTEND;VALUE=DATE:20830125
DESCRIPTION:Texas State Solo and Ensemble Contest
LOCATION:Pflugerville Hendrickson High School
SUMMARY:SHS Band : TSSEC
END:VEVENT
BEGIN:VEVENT
DTSTAMP:20260422T030932Z
UID:fec518a6-8bfe-45bf-bbbb-d83ceaa01eea
DTSTART;VALUE=DATE:20840122
DTEND;VALUE=DATE:20840124
DESCRIPTION:Texas State Solo and Ensemble Contest
LOCATION:Pflugerville Hendrickson High School
SUMMARY:SHS Band : TSSEC
END:VEVENT
BEGIN:VEVENT
DTSTAMP:20260422T030932Z
UID:c177cd81-1825-4291-824d-a1b31db4c993
DTSTART;VALUE=DATE:20850127
DTEND;VALUE=DATE:20850129
DESCRIPTION:Texas State Solo and Ensemble Contest
LOCATION:Pflugerville Hendrickson High School
SUMMARY:SHS Band : TSSEC
END:VEVENT
BEGIN:VEVENT
DTSTAMP:20260422T030932Z
UID:267408af-9be3-46b5-9862-9faa3452f4db
DTSTART;VALUE=DATE:20860126
DTEND;VALUE=DATE:20860128
DESCRIPTION:Texas State Solo and Ensemble Contest
LOCATION:Pflugerville Hendrickson High School
SUMMARY:SHS Band : TSSEC
END:VEVENT
BEGIN:VEVENT
DTSTAMP:20260422T030932Z
UID:95761d92-ecda-4f5d-84a1-bc7fd5ddc1cf
DTSTART;VALUE=DATE:20870125
DTEND;VALUE=DATE:20870127
DESCRIPTION:Texas State Solo and Ensemble Contest
LOCATION:Pflugerville Hendrickson High School
SUMMARY:SHS Band : TSSEC
END:VEVENT
BEGIN:VEVENT
DTSTAMP:20260422T030932Z
UID:917ce1dc-8192-4027-adb9-7f4174098998
DTSTART;VALUE=DATE:20880124
DTEND;VALUE=DATE:20880126
DESCRIPTION:Texas State Solo and Ensemble Contest
LOCATION:Pflugerville Hendrickson High School
SUMMARY:SHS Band : TSSEC
END:VEVENT
BEGIN:VEVENT
DTSTAMP:20260422T030932Z
UID:5f2fd824-f5b5-4592-96f5-ecb0fd0c5de8
DTSTART;VALUE=DATE:20890122
DTEND;VALUE=DATE:20890124
DESCRIPTION:Texas State Solo and Ensemble Contest
LOCATION:Pflugerville Hendrickson High School
SUMMARY:SHS Band : TSSEC
END:VEVENT
BEGIN:VEVENT
DTSTAMP:20260422T030932Z
UID:520963fc-40a3-4bb9-b283-acf3f3c541a6
DTSTART;VALUE=DATE:20900128
DTEND;VALUE=DATE:20900130
DESCRIPTION:Texas State Solo and Ensemble Contest
LOCATION:Pflugerville Hendrickson High School
SUMMARY:SHS Band : TSSEC
END:VEVENT
BEGIN:VEVENT
DTSTAMP:20260422T030932Z
UID:0dbbd874-663f-4496-a3bf-1f505669c335
DTSTART;VALUE=DATE:20910127
DTEND;VALUE=DATE:20910129
DESCRIPTION:Texas State Solo and Ensemble Contest
LOCATION:Pflugerville Hendrickson High School
SUMMARY:SHS Band : TSSEC
END:VEVENT
BEGIN:VEVENT
DTSTAMP:20260422T030932Z
UID:756aa350-7b9d-4f6a-bfa9-9c3935c5f5c6
DTSTART;VALUE=DATE:20920126
DTEND;VALUE=DATE:20920128
DESCRIPTION:Texas State Solo and Ensemble Contest
LOCATION:Pflugerville Hendrickson High School
SUMMARY:SHS Band : TSSEC
END:VEVENT
BEGIN:VEVENT
DTSTAMP:20260422T030932Z
UID:33c4605e-bbaf-4ad2-ab6d-115936445c98
DTSTART;VALUE=DATE:20930124
DTEND;VALUE=DATE:20930126
DESCRIPTION:Texas State Solo and Ensemble Contest
LOCATION:Pflugerville Hendrickson High School
SUMMARY:SHS Band : TSSEC
END:VEVENT
BEGIN:VEVENT
DTSTAMP:20260422T030932Z
UID:100d00fe-50ea-4d61-9752-44156cf95bbf
DTSTART;VALUE=DATE:20940123
DTEND;VALUE=DATE:20940125
DESCRIPTION:Texas State Solo and Ensemble Contest
LOCATION:Pflugerville Hendrickson High School
SUMMARY:SHS Band : TSSEC
END:VEVENT
BEGIN:VEVENT
DTSTAMP:20260422T030932Z
UID:af8fbcbe-0abf-42a5-bcf6-aebfb6ed8f62
DTSTART;VALUE=DATE:20950122
DTEND;VALUE=DATE:20950124
DESCRIPTION:Texas State Solo and Ensemble Contest
LOCATION:Pflugerville Hendrickson High School
SUMMARY:SHS Band : TSSEC
END:VEVENT
BEGIN:VEVENT
DTSTAMP:20260422T030932Z
UID:3b552953-d00e-44cc-b3e9-bd32ee366362
DTSTART;VALUE=DATE:20960128
DTEND;VALUE=DATE:20960130
DESCRIPTION:Texas State Solo and Ensemble Contest
LOCATION:Pflugerville Hendrickson High School
SUMMARY:SHS Band : TSSEC
END:VEVENT
BEGIN:VEVENT
DTSTAMP:20260422T030932Z
UID:4d618871-6a92-4c1f-9132-49542309dd81
DTSTART;VALUE=DATE:20970126
DTEND;VALUE=DATE:20970128
DESCRIPTION:Texas State Solo and Ensemble Contest
LOCATION:Pflugerville Hendrickson High School
SUMMARY:SHS Band : TSSEC
END:VEVENT
BEGIN:VEVENT
DTSTAMP:20260422T030932Z
UID:c10a9330-8e14-4f0a-bd46-36ce99aa2c3d
DTSTART;VALUE=DATE:20980125
DTEND;VALUE=DATE:20980127
DESCRIPTION:Texas State Solo and Ensemble Contest
LOCATION:Pflugerville Hendrickson High School
SUMMARY:SHS Band : TSSEC
END:VEVENT
BEGIN:VEVENT
DTSTAMP:20260422T030932Z
UID:ab06a637-1ff4-4de2-822d-c4f7e7466904
DTSTART;VALUE=DATE:20990124
DTEND;VALUE=DATE:20990126
DESCRIPTION:Texas State Solo and Ensemble Contest
LOCATION:Pflugerville Hendrickson High School
SUMMARY:SHS Band : TSSEC
END:VEVENT
END:VCALENDAR
