BEGIN:VCALENDAR
VERSION:2.0
PRODID:icalendar-ruby
CALSCALE:GREGORIAN
BEGIN:VTIMEZONE
TZID:America/New_York
BEGIN:DAYLIGHT
DTSTART:20260308T030000
TZOFFSETFROM:-0500
TZOFFSETTO:-0400
RRULE:FREQ=YEARLY;BYDAY=2SU;BYMONTH=3
TZNAME:EDT
END:DAYLIGHT
BEGIN:STANDARD
DTSTART:20261101T010000
TZOFFSETFROM:-0400
TZOFFSETTO:-0500
RRULE:FREQ=YEARLY;BYDAY=1SU;BYMONTH=11
TZNAME:EST
END:STANDARD
END:VTIMEZONE
BEGIN:VEVENT
DTSTAMP:20260423T235011Z
UID:45339d2d-73ad-4ce3-9cd3-7441bebf5ad8
DTSTART:20260626T183000
DTEND:20260626T200000
DESCRIPTION:
LOCATION:500 Fairground Rd\, West Winfield\, NY 13491\, USA
SUMMARY:Class of 2026 Graduation Ceremony
END:VEVENT
END:VCALENDAR
