BEGIN:VCALENDAR
VERSION:2.0
PRODID:icalendar-ruby
CALSCALE:GREGORIAN
BEGIN:VTIMEZONE
TZID:America/Los_Angeles
BEGIN:DAYLIGHT
DTSTART:20260308T030000
TZOFFSETFROM:-0800
TZOFFSETTO:-0700
RRULE:FREQ=YEARLY;BYDAY=2SU;BYMONTH=3
TZNAME:PDT
END:DAYLIGHT
BEGIN:STANDARD
DTSTART:20261101T010000
TZOFFSETFROM:-0700
TZOFFSETTO:-0800
RRULE:FREQ=YEARLY;BYDAY=1SU;BYMONTH=11
TZNAME:PST
END:STANDARD
END:VTIMEZONE
BEGIN:VEVENT
DTSTAMP:20260421T074925Z
UID:68ca2d0a-901d-43f4-b652-663d3a6279d1
DTSTART;VALUE=DATE:20260420
DTEND;VALUE=DATE:20260425
DESCRIPTION:<p>Open during break\, lunch\, and afterschool until 4pm</p><p>
 Open House Hours 4/21</p><p>5:30pm to 7pm</p>
LOCATION:
SUMMARY:Liberty Spring Book Fair
END:VEVENT
BEGIN:VEVENT
DTSTAMP:20260421T074925Z
UID:3f12d190-89ff-4496-aed6-937fa8ba9c82
DTSTART:20260421T180000
DTEND:20260421T190000
DESCRIPTION:
LOCATION:
SUMMARY:Open House
END:VEVENT
BEGIN:VEVENT
DTSTAMP:20260421T074925Z
UID:df816cca-c8ff-45b0-8036-dd526f1dbc34
DTSTART:20260423T151000
DTEND:20260423T160000
DESCRIPTION:
LOCATION:
SUMMARY:Afterschool Math Tutoring
END:VEVENT
BEGIN:VEVENT
DTSTAMP:20260421T074925Z
UID:b061333d-60b9-4d22-82ea-74f68dea1fbe
DTSTART:20260423T151500
DTEND:20260423T161500
DESCRIPTION:<p>Students will need a signed permission slip to participate</
 p><p>7th grade boys vs 8th grade boys</p><p>in the Liberty gym</p>
LOCATION:
SUMMARY:Shamrock Cup 7th grade vs 8th grade Volleyball
END:VEVENT
BEGIN:VEVENT
DTSTAMP:20260421T074925Z
UID:e2810e84-1532-4530-af76-68df28cc2e3f
DTSTART:20260425T090000
DTEND:20260425T110000
DESCRIPTION:<p>Engvall Elementary</p><p>Register at&nbsp\;</p><p style="tex
 t-align: center"><a target="_blank" rel="noopener noreferrer nofollow" hre
 f="https://www.parentsquare.com/feeds/61635553">https://www.parentsquare.c
 om/feeds/61635553</a></p>
LOCATION:
SUMMARY:Saturday School
END:VEVENT
BEGIN:VEVENT
DTSTAMP:20260421T074925Z
UID:b7134f3f-dd3a-4d67-b6f1-88925fe7a0b7
DTSTART:20260428T151000
DTEND:20260428T160000
DESCRIPTION:
LOCATION:
SUMMARY:Afterschool Math Tutoring
END:VEVENT
BEGIN:VEVENT
DTSTAMP:20260421T074925Z
UID:1aa99f64-8a34-4298-a20a-4ab0df8e3264
DTSTART:20260430T151000
DTEND:20260430T160000
DESCRIPTION:
LOCATION:
SUMMARY:Afterschool Math Tutoring
END:VEVENT
BEGIN:VEVENT
DTSTAMP:20260421T074925Z
UID:14fdaa4d-c9a1-43b1-9e8e-c176ea8348a0
DTSTART;VALUE=DATE:20260525
DTEND;VALUE=DATE:20260526
DESCRIPTION:<p><span>No School on Monday\, May 25th in observance of Memori
 al Day. School resumes on Tueday\, May 26th.</span></p>
LOCATION:
SUMMARY:Memorial Day: No school
END:VEVENT
BEGIN:VEVENT
DTSTAMP:20260421T074925Z
UID:f6cf68ac-1277-4a92-9c3f-8b72197c7b99
DTSTART:20260601T080000
DTEND:20260604T133800
DESCRIPTION:
LOCATION:
SUMMARY:Early release days before Summer Break
END:VEVENT
BEGIN:VEVENT
DTSTAMP:20260421T074925Z
UID:655e6ccc-a1ed-45bb-8a18-5a0a737fb94e
DTSTART:20260603T180000
DTEND:20260603T193000
DESCRIPTION:
LOCATION:
SUMMARY:8th Grade Promotion Ceremony
END:VEVENT
BEGIN:VEVENT
DTSTAMP:20260421T074925Z
UID:f572c187-03a7-4d3c-b8e8-df7b1797490e
DTSTART:20260604T080000
DTEND:20260604T133800
DESCRIPTION:
LOCATION:
SUMMARY:Last day of school for 7th grade students
END:VEVENT
END:VCALENDAR
