BEGIN:VCALENDAR
VERSION:2.0
PRODID:icalendar-ruby
CALSCALE:GREGORIAN
BEGIN:VTIMEZONE
TZID:America/Chicago
BEGIN:DAYLIGHT
DTSTART:20260308T030000
TZOFFSETFROM:-0600
TZOFFSETTO:-0500
RRULE:FREQ=YEARLY;BYDAY=2SU;BYMONTH=3
TZNAME:CDT
END:DAYLIGHT
BEGIN:STANDARD
DTSTART:20261101T010000
TZOFFSETFROM:-0500
TZOFFSETTO:-0600
RRULE:FREQ=YEARLY;BYDAY=1SU;BYMONTH=11
TZNAME:CST
END:STANDARD
END:VTIMEZONE
BEGIN:VEVENT
DTSTAMP:20260420T025341Z
UID:aec81f2b-89e3-49c3-bcf1-066b296169c4
DTSTART:20260422T170000
DTEND:20260422T183000
DESCRIPTION:
LOCATION:
SUMMARY: 🎨 Art & Photography📸 Showcase
END:VEVENT
BEGIN:VEVENT
DTSTAMP:20260420T025341Z
UID:ecf7c28e-b74a-4d8d-bff7-ab160e3a1de3
DTSTART:20260422T170000
DTEND:20260422T183000
DESCRIPTION:
LOCATION:
SUMMARY:STAR EVENT-Art Show
END:VEVENT
BEGIN:VEVENT
DTSTAMP:20260420T025341Z
UID:f764ddb9-f179-4ab4-a9c4-9a8086bcf43f
DTSTART:20260427T100000
DTEND:20260427T113000
DESCRIPTION:
LOCATION:
SUMMARY:*HS* Reading FastBridge 
END:VEVENT
BEGIN:VEVENT
DTSTAMP:20260420T025341Z
UID:f37609f0-ff89-41e0-8ac1-61fb6d7abb1b
DTSTART:20260427T100000
DTEND:20260427T113000
DESCRIPTION:
LOCATION:
SUMMARY:*MS* Reading FastBridge 
END:VEVENT
BEGIN:VEVENT
DTSTAMP:20260420T025341Z
UID:530d258c-713a-4fa2-9f42-7ec36c17fd15
DTSTART:20260427T130000
DTEND:20260427T143000
DESCRIPTION:
LOCATION:
SUMMARY:*HS* Math FastBridge 
END:VEVENT
BEGIN:VEVENT
DTSTAMP:20260420T025341Z
UID:f0355c0f-3ced-496f-93db-fa4ae91dee1a
DTSTART:20260427T130000
DTEND:20260427T143000
DESCRIPTION:
LOCATION:
SUMMARY:*MS* Math FastBridge 
END:VEVENT
BEGIN:VEVENT
DTSTAMP:20260420T025341Z
UID:315d6da2-53f2-409a-b051-755c3c1f60b9
DTSTART;VALUE=DATE:20260504
DTEND;VALUE=DATE:20260505
DESCRIPTION:
LOCATION:
SUMMARY:Office Closed
END:VEVENT
BEGIN:VEVENT
DTSTAMP:20260420T025341Z
UID:22aba734-eb7f-4f6e-b204-65d500a1c50d
DTSTART;VALUE=DATE:20260508
DTEND;VALUE=DATE:20260509
DESCRIPTION:
LOCATION:
SUMMARY:Office Closed
END:VEVENT
BEGIN:VEVENT
DTSTAMP:20260420T025341Z
UID:c37e2ffb-c832-4193-b184-6b3760431a40
DTSTART;VALUE=DATE:20260511
DTEND;VALUE=DATE:20260512
DESCRIPTION:
LOCATION:
SUMMARY:STAR EVENT-Rolling Hills Zoo
END:VEVENT
BEGIN:VEVENT
DTSTAMP:20260420T025341Z
UID:dd028bce-fa38-4e3d-82da-109b0f6f6bd6
DTSTART;VALUE=DATE:20260513
DTEND;VALUE=DATE:20260514
DESCRIPTION:
LOCATION:
SUMMARY:May Graduating Seniors Work Completed
END:VEVENT
BEGIN:VEVENT
DTSTAMP:20260420T025341Z
UID:feb2d471-28c6-4868-9436-726a8a02fb00
DTSTART;VALUE=DATE:20260515
DTEND;VALUE=DATE:20260516
DESCRIPTION:
LOCATION:
SUMMARY:Last Day for Students
END:VEVENT
BEGIN:VEVENT
DTSTAMP:20260420T025341Z
UID:f3d876bb-7f65-4cf1-998b-8c6f1049f641
DTSTART;VALUE=DATE:20260518
DTEND;VALUE=DATE:20260519
DESCRIPTION:
LOCATION:
SUMMARY:End of Year Meetings
END:VEVENT
BEGIN:VEVENT
DTSTAMP:20260420T025341Z
UID:85db5292-2d8f-46e4-b0db-ac160392a8db
DTSTART;VALUE=DATE:20260519
DTEND;VALUE=DATE:20260520
DESCRIPTION:
LOCATION:
SUMMARY:End of Year Meetings
END:VEVENT
BEGIN:VEVENT
DTSTAMP:20260420T025341Z
UID:cf98936f-ff14-40d8-929d-f4032df5446c
DTSTART;VALUE=DATE:20260519
DTEND;VALUE=DATE:20260520
DESCRIPTION:
LOCATION:
SUMMARY:Last Day for Teachers
END:VEVENT
BEGIN:VEVENT
DTSTAMP:20260420T025341Z
UID:e02fde90-423d-4084-846c-8ee0031a6b49
DTSTART;VALUE=DATE:20260520
DTEND;VALUE=DATE:20260521
DESCRIPTION:
LOCATION:
SUMMARY:End of Year Meetings
END:VEVENT
BEGIN:VEVENT
DTSTAMP:20260420T025341Z
UID:c6d31c5b-014a-4bb2-9f8f-73d6f7fabe59
DTSTART:20260520T190000
DTEND:20260520T200000
DESCRIPTION:
LOCATION:401 N Cedar St\, Lindsborg\, KS 67456\, USA
SUMMARY:🎓High School Graduation 🎓
END:VEVENT
BEGIN:VEVENT
DTSTAMP:20260420T025341Z
UID:84e170ce-ea26-4209-b5de-cf9c0399d7d6
DTSTART;VALUE=DATE:20260521
DTEND;VALUE=DATE:20260522
DESCRIPTION:
LOCATION:
SUMMARY:End of Year Meetings
END:VEVENT
BEGIN:VEVENT
DTSTAMP:20260420T025341Z
UID:2fc726c2-edb3-4526-b45c-647f082ed3c9
DTSTART;VALUE=DATE:20260522
DTEND;VALUE=DATE:20260523
DESCRIPTION:
LOCATION:
SUMMARY:End of Year Meetings
END:VEVENT
END:VCALENDAR
