BEGIN:VCALENDAR
VERSION:2.0
PRODID:icalendar-ruby
CALSCALE:GREGORIAN
BEGIN:VTIMEZONE
TZID:America/New_York
BEGIN:DAYLIGHT
DTSTART:20260308T030000
TZOFFSETFROM:-0500
TZOFFSETTO:-0400
RRULE:FREQ=YEARLY;BYDAY=2SU;BYMONTH=3
TZNAME:EDT
END:DAYLIGHT
BEGIN:STANDARD
DTSTART:20261101T010000
TZOFFSETFROM:-0400
TZOFFSETTO:-0500
RRULE:FREQ=YEARLY;BYDAY=1SU;BYMONTH=11
TZNAME:EST
END:STANDARD
END:VTIMEZONE
BEGIN:VEVENT
DTSTAMP:20260419T153704Z
UID:6995f4a3-147d-4076-a4c9-54484fb666c6
DTSTART:20260421T193000
DTEND:20260421T213000
DESCRIPTION:
LOCATION:
SUMMARY:Board of Education Mtg.\, 7:30 p.m.\, MS/HS Mini-Theater 
END:VEVENT
BEGIN:VEVENT
DTSTAMP:20260419T153704Z
UID:eb759553-f2c9-4ee7-b0d1-a31514e348f6
DTSTART:20260424T093000
DTEND:20260424T113000
DESCRIPTION:
LOCATION:
SUMMARY:BEPC Mtg.\, 9:30 a.m.\, BI
END:VEVENT
BEGIN:VEVENT
DTSTAMP:20260419T153704Z
UID:46b26505-89b9-4714-a95e-ea654e49cc2c
DTSTART;VALUE=DATE:20260428
DTEND;VALUE=DATE:20260429
DESCRIPTION:
LOCATION:
SUMMARY:BP Kindergarten Screenings
END:VEVENT
BEGIN:VEVENT
DTSTAMP:20260419T153704Z
UID:39670c98-daf7-4565-898d-df30d95d159c
DTSTART:20260428T170000
DTEND:20260428T190000
DESCRIPTION:
LOCATION:
SUMMARY:Board of Education Mtg.\, 5 p.m.\, District Office 
END:VEVENT
BEGIN:VEVENT
DTSTAMP:20260419T153704Z
UID:2bb1ddf4-b74e-43ce-800e-7e0a4bb3a476
DTSTART;VALUE=DATE:20260429
DTEND;VALUE=DATE:20260430
DESCRIPTION:
LOCATION:
SUMMARY:BP Kindergarten Screenings
END:VEVENT
BEGIN:VEVENT
DTSTAMP:20260419T153704Z
UID:0b02766f-0cc0-47d0-8b7b-0226f36c4937
DTSTART;VALUE=DATE:20260430
DTEND;VALUE=DATE:20260501
DESCRIPTION:
LOCATION:
SUMMARY:BP Kindergarten Screenings
END:VEVENT
BEGIN:VEVENT
DTSTAMP:20260419T153704Z
UID:381eedb1-2cf3-4e18-964d-4debc2c7ef5c
DTSTART:20260506T193000
DTEND:20260506T213000
DESCRIPTION:
LOCATION:
SUMMARY:Board of Education Mtg.\, 7:30 p.m.\, MS/HS Mini-Theater
END:VEVENT
BEGIN:VEVENT
DTSTAMP:20260419T153704Z
UID:3103159b-6aa5-4e0e-a6fd-da61a7353626
DTSTART:20260507T180000
DTEND:20260507T190000
DESCRIPTION:
LOCATION:
SUMMARY:BP/LVI Open House & Art Show\, 6-7 p.m.
END:VEVENT
BEGIN:VEVENT
DTSTAMP:20260419T153704Z
UID:34823dec-85d9-4274-9bc3-48b555fd6864
DTSTART:20260508T093000
DTEND:20260508T113000
DESCRIPTION:
LOCATION:
SUMMARY:BP Kindergarten Orientation\, 9:30 a.m.
END:VEVENT
BEGIN:VEVENT
DTSTAMP:20260419T153704Z
UID:7dc95308-d625-4aeb-91c7-e30e162a890d
DTSTART;VALUE=DATE:20260511
DTEND;VALUE=DATE:20260512
DESCRIPTION:
LOCATION:
SUMMARY:BEPC Father-Daughter Dance\, BI
END:VEVENT
BEGIN:VEVENT
DTSTAMP:20260419T153704Z
UID:273e60e3-e08c-4caf-930b-0a000f7b4b8e
DTSTART:20260515T093000
DTEND:20260515T113000
DESCRIPTION:
LOCATION:
SUMMARY:BEPC Mtg.\, 9:30 a.m.\, BP
END:VEVENT
BEGIN:VEVENT
DTSTAMP:20260419T153704Z
UID:088ff0f9-3d43-420b-b623-5c1c2e691eb3
DTSTART:20260518T193000
DTEND:20260518T213000
DESCRIPTION:
LOCATION:
SUMMARY:BEPC Mtg.\, 7:30 p.m
END:VEVENT
BEGIN:VEVENT
DTSTAMP:20260419T153704Z
UID:a1bec1b1-d55d-4d99-b9a6-4d15d2d2caa6
DTSTART:20260519T060000
DTEND:20260519T220000
DESCRIPTION:
LOCATION:
SUMMARY:Budget Vote\, 6 a.m. - 9 p.m. Special Board Mtg. Following Annual B
 udget Vote\, 10 p.m.\, AMP
END:VEVENT
BEGIN:VEVENT
DTSTAMP:20260419T153704Z
UID:700945c4-d934-46c8-93d7-50c85a2d1833
DTSTART;VALUE=DATE:20260522
DTEND;VALUE=DATE:20260523
DESCRIPTION:
LOCATION:
SUMMARY:SCHOOLS CLOSED MEMORIAL DAY RECESS 
END:VEVENT
BEGIN:VEVENT
DTSTAMP:20260419T153704Z
UID:ec392f3b-97a4-4afe-96c1-c909c3f3dd44
DTSTART;VALUE=DATE:20260525
DTEND;VALUE=DATE:20260526
DESCRIPTION:
LOCATION:
SUMMARY:SCHOOLS CLOSED MEMORIAL DAY RECESS
END:VEVENT
BEGIN:VEVENT
DTSTAMP:20260419T153704Z
UID:9bd0663d-1822-4d64-b56a-6f381913b75f
DTSTART;VALUE=DATE:20260527
DTEND;VALUE=DATE:20260528
DESCRIPTION:
LOCATION:
SUMMARY:BEPC Spring Book Fair\, BI
END:VEVENT
BEGIN:VEVENT
DTSTAMP:20260419T153704Z
UID:139fbcbe-5f30-48aa-bb01-eff800ba862a
DTSTART;VALUE=DATE:20260602
DTEND;VALUE=DATE:20260603
DESCRIPTION:
LOCATION:
SUMMARY:BEPC Gr. 5 Beach Party
END:VEVENT
BEGIN:VEVENT
DTSTAMP:20260419T153704Z
UID:1e95e3c1-cf6b-438d-8f06-6dbddb842b3a
DTSTART;VALUE=DATE:20260604
DTEND;VALUE=DATE:20260605
DESCRIPTION:
LOCATION:
SUMMARY:BEPC Gr. 5 Beach Party Rain Date
END:VEVENT
BEGIN:VEVENT
DTSTAMP:20260419T153704Z
UID:9676fac5-5219-44dd-871a-86e33a946aeb
DTSTART;VALUE=DATE:20260605
DTEND;VALUE=DATE:20260606
DESCRIPTION:
LOCATION:
SUMMARY:BP Field Day
END:VEVENT
BEGIN:VEVENT
DTSTAMP:20260419T153704Z
UID:0c39a196-d840-4994-b018-a8c656165921
DTSTART;VALUE=DATE:20260608
DTEND;VALUE=DATE:20260609
DESCRIPTION:
LOCATION:
SUMMARY:BP Field Day Rain Date
END:VEVENT
BEGIN:VEVENT
DTSTAMP:20260419T153704Z
UID:7e370c88-b1f2-4bfb-82d5-ea159bc28b24
DTSTART:20260612T093000
DTEND:20260612T113000
DESCRIPTION:
LOCATION:
SUMMARY:BEPC Mtg.\, 9:30 a.m.\, BP
END:VEVENT
BEGIN:VEVENT
DTSTAMP:20260419T153704Z
UID:ec24f976-ba86-49ff-9fb8-94eeb5e5252e
DTSTART;VALUE=DATE:20260615
DTEND;VALUE=DATE:20260616
DESCRIPTION:
LOCATION:
SUMMARY:BEPC Gr. 5 Breakfast & Yearbook Signing
END:VEVENT
BEGIN:VEVENT
DTSTAMP:20260419T153704Z
UID:582c95be-1b43-4d33-bc00-0f2bc74ef6a1
DTSTART;VALUE=DATE:20260617
DTEND;VALUE=DATE:20260618
DESCRIPTION:
LOCATION:
SUMMARY:BP Pre-K Celebration
END:VEVENT
BEGIN:VEVENT
DTSTAMP:20260419T153704Z
UID:14804837-300a-4af2-b325-5ff547e396c1
DTSTART:20260617T193000
DTEND:20260617T213000
DESCRIPTION:
LOCATION:
SUMMARY:Board of Education Mtg. 7:30 p.m.\, MS/HS Auditorium
END:VEVENT
BEGIN:VEVENT
DTSTAMP:20260419T153704Z
UID:e88a4192-52ac-44f2-84ae-c67865058a4e
DTSTART;VALUE=DATE:20260619
DTEND;VALUE=DATE:20260620
DESCRIPTION:
LOCATION:
SUMMARY:SCHOOLS CLOSED JUNETEENTH
END:VEVENT
BEGIN:VEVENT
DTSTAMP:20260419T153704Z
UID:2da9ca6a-2424-48a7-821f-49f403b6d65c
DTSTART:20260623T093000
DTEND:20260623T113000
DESCRIPTION:
LOCATION:
SUMMARY:BP Gr. 2 Celebration\, 9:30 a.m.
END:VEVENT
BEGIN:VEVENT
DTSTAMP:20260419T153704Z
UID:96a75226-34e0-4ae4-977d-de2178908ca5
DTSTART:20260624T093000
DTEND:20260624T113000
DESCRIPTION:
LOCATION:
SUMMARY:BP Kindergarten Celebration\, 9:30 a.m.
END:VEVENT
BEGIN:VEVENT
DTSTAMP:20260419T153704Z
UID:7df4078c-1aba-462e-b351-6a2b2fc82cec
DTSTART:20260624T140000
DTEND:20260624T160000
DESCRIPTION:
LOCATION:
SUMMARY:AMP/BP UPK Orientation\, 2 p.m
END:VEVENT
BEGIN:VEVENT
DTSTAMP:20260419T153704Z
UID:1578a134-e21b-4350-8f86-0b0a3a18f531
DTSTART:20260625T120000
DTEND:20260625T140000
DESCRIPTION:
LOCATION:
SUMMARY:BEPC Staff Appreciation Luncheon\, 12 p.m.\, BP
END:VEVENT
BEGIN:VEVENT
DTSTAMP:20260419T153704Z
UID:8f2c38c8-8512-4eba-9ed2-91cb23a55967
DTSTART;VALUE=DATE:20260626
DTEND;VALUE=DATE:20260627
DESCRIPTION:
LOCATION:
SUMMARY:Last Day of School 
END:VEVENT
BEGIN:VEVENT
DTSTAMP:20260419T153704Z
UID:86edd34d-1deb-4b4f-b2f3-4ee5ab1cd037
DTSTART;VALUE=DATE:20260704
DTEND;VALUE=DATE:20260705
DESCRIPTION:
LOCATION:
SUMMARY:Independence Day
END:VEVENT
END:VCALENDAR
