BEGIN:VCALENDAR
VERSION:2.0
PRODID:icalendar-ruby
CALSCALE:GREGORIAN
BEGIN:VTIMEZONE
TZID:America/Chicago
BEGIN:DAYLIGHT
DTSTART:20260308T030000
TZOFFSETFROM:-0600
TZOFFSETTO:-0500
RRULE:FREQ=YEARLY;BYDAY=2SU;BYMONTH=3
TZNAME:CDT
END:DAYLIGHT
BEGIN:STANDARD
DTSTART:20261101T010000
TZOFFSETFROM:-0500
TZOFFSETTO:-0600
RRULE:FREQ=YEARLY;BYDAY=1SU;BYMONTH=11
TZNAME:CST
END:STANDARD
END:VTIMEZONE
BEGIN:VEVENT
DTSTAMP:20260421T084807Z
UID:f9376450-a40d-415b-80fe-59d3e3885cf7
DTSTART:20260421T100000
DTEND:20260421T110000
DESCRIPTION:TBA
LOCATION:Lakota Golf Course\, Lakota ND
SUMMARY:Golf: Boys Varsity Meet
END:VEVENT
BEGIN:VEVENT
DTSTAMP:20260421T084807Z
UID:2cb8d76b-4904-41db-8a04-b130066f9018
DTSTART:20260421T160000
DTEND:20260421T170000
DESCRIPTION:Hatton-Northwood\n(Cancelled)\n<i>HN cancelled games.</i>\n<i>H
 N cancelled games.</i>
LOCATION:Northwood High School
SUMMARY:Baseball: Junior High Game
END:VEVENT
BEGIN:VEVENT
DTSTAMP:20260421T084807Z
UID:7d37020b-5606-4c13-a7a8-02f048eae87e
DTSTART:20260421T160000
DTEND:20260421T170000
DESCRIPTION:Langdon Area\n(Cancelled)\n<i>HN cancelled games.</i>\n<i>HN ca
 ncelled games.</i>
LOCATION:Grafton High School - Chandler Field
SUMMARY:Baseball: JV Game
END:VEVENT
BEGIN:VEVENT
DTSTAMP:20260421T084807Z
UID:faa0cfe7-219f-44fd-a6f6-c19efc961315
DTSTART:20260421T160000
DTEND:20260421T170000
DESCRIPTION:Nelson County\n<i>Games are at McVille.</i>\n<i>Games are at Mc
 Ville.</i>
LOCATION:Nelson County
SUMMARY:Softball: Varsity Game
END:VEVENT
BEGIN:VEVENT
DTSTAMP:20260421T084807Z
UID:586b2455-c450-432d-99e0-67d775acb12f
DTSTART:20260421T163000
DTEND:20260421T173000
DESCRIPTION:Langdon Area\n(Date Changed from 04-20-2026)
LOCATION:Grafton High School - Harris Halliday Field
SUMMARY:Baseball: Junior High Game
END:VEVENT
BEGIN:VEVENT
DTSTAMP:20260421T084807Z
UID:2c4ff860-abcd-443a-970f-502eb2bdf5c9
DTSTART:20260423T100000
DTEND:20260423T110000
DESCRIPTION:TBA
LOCATION:Larimore Golf Course
SUMMARY:Golf: Boys Varsity Meet
END:VEVENT
BEGIN:VEVENT
DTSTAMP:20260421T084807Z
UID:1453c616-9d54-4a08-92b2-f4e8bf36893c
DTSTART:20260423T140000
DTEND:20260423T150000
DESCRIPTION:Grafton Spoilers\n(Rescheduled from 04-07-2026)\n<i>Games are i
 n Reynolds.</i>\n<i>Games are in Reynolds.</i>
LOCATION:Hillsboro High School
SUMMARY:Baseball: Junior High Game
END:VEVENT
BEGIN:VEVENT
DTSTAMP:20260421T084807Z
UID:057dfb54-cda1-4a80-8df2-d7ccd561c2ad
DTSTART:20260423T160000
DTEND:20260423T170000
DESCRIPTION:Park River Area
LOCATION:Grafton High School - Harris Halliday Field
SUMMARY:Baseball: Varsity Game
END:VEVENT
BEGIN:VEVENT
DTSTAMP:20260421T084807Z
UID:4422d19f-a63c-498e-a53f-d815aed4960b
DTSTART:20260423T160000
DTEND:20260423T170000
DESCRIPTION:Pembina County North
LOCATION:Cavalier High School
SUMMARY:Softball: Varsity Game
END:VEVENT
BEGIN:VEVENT
DTSTAMP:20260421T084807Z
UID:22ec85dd-095b-4d75-8463-8a290e1add8e
DTSTART:20260424T160000
DTEND:20260424T170000
DESCRIPTION:Roseau
LOCATION:Grafton High School - Harris Halliday Field
SUMMARY:Baseball: Varsity Game
END:VEVENT
BEGIN:VEVENT
DTSTAMP:20260421T084807Z
UID:e9d61b36-1e4b-4fb3-9207-e9205768674e
DTSTART:20260424T160000
DTEND:20260424T170000
DESCRIPTION:Hillsboro Central Valley
LOCATION:Hillsboro High School
SUMMARY:Softball: C Squad Game
END:VEVENT
BEGIN:VEVENT
DTSTAMP:20260421T084807Z
UID:3256bd93-606b-4826-8035-f688874ac84a
DTSTART:20260424T160000
DTEND:20260424T170000
DESCRIPTION:Midway/Minto\n(Rescheduled from 04-13-2026)
LOCATION:Grafton High School - Field Softball Complex
SUMMARY:Softball: Varsity Game
END:VEVENT
BEGIN:VEVENT
DTSTAMP:20260421T084807Z
UID:80b593ad-0759-4453-9bfd-6db01503d801
DTSTART:20260424T163000
DTEND:20260424T173000
DESCRIPTION:Park River Area
LOCATION:Park River Area High School
SUMMARY:Baseball: JV Game
END:VEVENT
BEGIN:VEVENT
DTSTAMP:20260421T084807Z
UID:5e22f830-c1b2-4ef1-9754-f94bf62b7a1f
DTSTART:20260427T100000
DTEND:20260427T110000
DESCRIPTION:TBA
LOCATION:Fair Oaks Golf Course
SUMMARY:Golf: Boys JV Meet
END:VEVENT
BEGIN:VEVENT
DTSTAMP:20260421T084807Z
UID:34222003-961b-4653-8990-fbfa5a88c4a7
DTSTART:20260427T160000
DTEND:20260427T170000
DESCRIPTION:Midway/Minto
LOCATION:Minto High School
SUMMARY:Baseball: Varsity Game
END:VEVENT
BEGIN:VEVENT
DTSTAMP:20260421T084807Z
UID:4f084efa-0fe6-4470-8fac-e6bd0999cc48
DTSTART:20260427T160000
DTEND:20260427T170000
DESCRIPTION:Langdon Area
LOCATION:Grafton High School - Field Softball Complex
SUMMARY:Softball: Varsity Game
END:VEVENT
BEGIN:VEVENT
DTSTAMP:20260421T084807Z
UID:f9a78e0a-fd45-4899-94ea-26c1ac04f013
DTSTART:20260427T161500
DTEND:20260427T171500
DESCRIPTION:Valley Middle\n<i>Games are in Grand Forks vs Valley Middle Sch
 ool</i>\n<i>Games are in Grand Forks vs Valley Middle School</i>
LOCATION:Valley Middle
SUMMARY:Softball: C Squad Game
END:VEVENT
BEGIN:VEVENT
DTSTAMP:20260421T084807Z
UID:16df6d46-39fb-4987-80fa-ec8729dd0b41
DTSTART:20260427T163000
DTEND:20260427T173000
DESCRIPTION:Hillsboro Central Valley
LOCATION:Grafton High School - Harris Halliday Field
SUMMARY:Baseball: Junior High Game
END:VEVENT
BEGIN:VEVENT
DTSTAMP:20260421T084807Z
UID:7fed1b34-8932-4ac7-8db6-9eba7c0ff932
DTSTART:20260428T100000
DTEND:20260428T110000
DESCRIPTION:TBA
LOCATION:Creel Bay Golf Course
SUMMARY:Golf: Boys Varsity Meet
END:VEVENT
BEGIN:VEVENT
DTSTAMP:20260421T084807Z
UID:7d71e830-0fe4-412a-b581-46568b8b141c
DTSTART:20260428T160000
DTEND:20260428T170000
DESCRIPTION:Thompson
LOCATION:Thompson High School
SUMMARY:Softball: C Squad Game
END:VEVENT
BEGIN:VEVENT
DTSTAMP:20260421T084807Z
UID:1cf605d3-fe77-4d64-ade0-f499d28f7b03
DTSTART:20260428T160000
DTEND:20260428T170000
DESCRIPTION:Thompson
LOCATION:Thompson High School
SUMMARY:Softball: Varsity Game
END:VEVENT
BEGIN:VEVENT
DTSTAMP:20260421T084807Z
UID:f94c0e8b-d448-4c67-9305-bc0408df6793
DTSTART:20260428T163000
DTEND:20260428T173000
DESCRIPTION:Midway/Minto
LOCATION:Minto High School
SUMMARY:Baseball: JV Game
END:VEVENT
BEGIN:VEVENT
DTSTAMP:20260421T084807Z
UID:7e8d625b-47c5-4805-992c-9b28d8f59e13
DTSTART:20260430T100000
DTEND:20260430T110000
DESCRIPTION:TBA
LOCATION:Cavalier Country Club
SUMMARY:Golf: Boys Varsity Meet
END:VEVENT
BEGIN:VEVENT
DTSTAMP:20260421T084807Z
UID:71335267-6131-4dbe-ba5b-9693d7777f66
DTSTART:20260430T153000
DTEND:20260430T163000
DESCRIPTION:TBA
LOCATION:Crookston High School
SUMMARY:Track: Junior High Meet
END:VEVENT
BEGIN:VEVENT
DTSTAMP:20260421T084807Z
UID:48a83071-737d-4899-8239-8bedc6b87e3d
DTSTART:20260430T160000
DTEND:20260430T173000
DESCRIPTION:<p>Dinner &amp\; A Movie</p>
LOCATION:Grafton
SUMMARY:Family Engagement Night
END:VEVENT
BEGIN:VEVENT
DTSTAMP:20260421T084807Z
UID:3ca828ec-dc5c-4092-a0da-b468fa7f2ecc
DTSTART:20260430T161500
DTEND:20260430T171500
DESCRIPTION:East Grand Forks
LOCATION:Grafton High School - Field Softball Complex
SUMMARY:Softball: C Squad Game
END:VEVENT
BEGIN:VEVENT
DTSTAMP:20260421T084807Z
UID:8a832ef0-3719-44c8-aa93-c205db2f1c0d
DTSTART:20260430T163000
DTEND:20260430T173000
DESCRIPTION:Langdon Area
LOCATION:Grafton High School - Harris Halliday Field
SUMMARY:Baseball: Varsity Game
END:VEVENT
BEGIN:VEVENT
DTSTAMP:20260421T084807Z
UID:dcf20d35-5ab3-4d3c-a988-bfd1ca681806
DTSTART:20260501T163000
DTEND:20260501T173000
DESCRIPTION:Langdon Area
LOCATION:Langdon Area High School
SUMMARY:Baseball: JV Game
END:VEVENT
BEGIN:VEVENT
DTSTAMP:20260421T084807Z
UID:e237796e-a48c-4925-a2bd-66070db1cbdf
DTSTART:20260501T163000
DTEND:20260501T173000
DESCRIPTION:Warren-Alvarado-Oslo
LOCATION:Warren-Alvarado-Oslo High School
SUMMARY:Softball: Varsity Game
END:VEVENT
BEGIN:VEVENT
DTSTAMP:20260421T084807Z
UID:1ed7bd4b-4c9c-42b5-881c-85fa123a72c5
DTSTART:20260504T100000
DTEND:20260504T110000
DESCRIPTION:TBA
LOCATION:Pembina Golf Course
SUMMARY:Golf: Boys JV Meet
END:VEVENT
BEGIN:VEVENT
DTSTAMP:20260421T084807Z
UID:64803c4b-a733-445d-8588-75fb10a87b13
DTSTART:20260504T160000
DTEND:20260504T170000
DESCRIPTION:Northern Lights
LOCATION:Grafton High School - Field Softball Complex
SUMMARY:Softball: Varsity Game
END:VEVENT
BEGIN:VEVENT
DTSTAMP:20260421T084807Z
UID:b9117197-8435-4013-b3cd-43d5798adde9
DTSTART:20260504T163000
DTEND:20260504T173000
DESCRIPTION:East Grand Forks
LOCATION:Grafton High School - Chandler Field
SUMMARY:Baseball: Junior High Game
END:VEVENT
BEGIN:VEVENT
DTSTAMP:20260421T084807Z
UID:0631a015-c162-4c87-895a-364351ac09b3
DTSTART:20260504T163000
DTEND:20260504T173000
DESCRIPTION:Park River Area
LOCATION:Park River Area High School
SUMMARY:Baseball: Varsity Game
END:VEVENT
BEGIN:VEVENT
DTSTAMP:20260421T084807Z
UID:60f9bdd4-ee1a-4aad-9189-1c10b1659fac
DTSTART:20260504T163000
DTEND:20260504T173000
DESCRIPTION:Schroeder Middle
LOCATION:Grafton High School - Field Softball Complex
SUMMARY:Softball: C Squad Game
END:VEVENT
BEGIN:VEVENT
DTSTAMP:20260421T084807Z
UID:c894a067-c633-4cf9-8405-fabcfd8bcc10
DTSTART:20260505T100000
DTEND:20260505T110000
DESCRIPTION:TBA
LOCATION:Cando Golf Course
SUMMARY:Golf: Boys Varsity Meet
END:VEVENT
BEGIN:VEVENT
DTSTAMP:20260421T084807Z
UID:ed7cf48f-ff5e-4534-9644-c48f6306ef7c
DTSTART:20260505T163000
DTEND:20260505T173000
DESCRIPTION:Park River Area
LOCATION:Grafton High School - Chandler Field
SUMMARY:Baseball: Junior High Game
END:VEVENT
BEGIN:VEVENT
DTSTAMP:20260421T084807Z
UID:f0251cd5-1c95-45db-ad37-28ac38951dc8
DTSTART:20260505T163000
DTEND:20260505T173000
DESCRIPTION:Park River Area
LOCATION:Grafton High School - Chandler Field
SUMMARY:Baseball: JV Game
END:VEVENT
BEGIN:VEVENT
DTSTAMP:20260421T084807Z
UID:894c0e45-9227-405f-b1cd-fc26c43da760
DTSTART:20260505T163000
DTEND:20260505T173000
DESCRIPTION:May-Port CG
LOCATION:May-Port-CG High School
SUMMARY:Softball: Varsity Game
END:VEVENT
BEGIN:VEVENT
DTSTAMP:20260421T084807Z
UID:da375d5a-82dc-40a1-92b8-3065bcdc72a3
DTSTART:20260507T100000
DTEND:20260507T110000
DESCRIPTION:TBA
LOCATION:Langdon Golf Course
SUMMARY:Golf: Boys Varsity Meet
END:VEVENT
BEGIN:VEVENT
DTSTAMP:20260421T084807Z
UID:5206d653-1791-4455-9790-0b8c6fc9201d
DTSTART:20260507T163000
DTEND:20260507T173000
DESCRIPTION:Midway/Minto
LOCATION:Grafton High School - Harris Halliday Field
SUMMARY:Baseball: Varsity Game
END:VEVENT
BEGIN:VEVENT
DTSTAMP:20260421T084807Z
UID:52919080-90c2-40c3-b7b3-32cfb37ce273
DTSTART:20260507T193000
DTEND:20260507T203000
DESCRIPTION:\n<i>7-12 Band & Choir</i>\n<i>7-12 Band & Choir</i>
LOCATION:GPAC
SUMMARY:Band and Choir Concert
END:VEVENT
BEGIN:VEVENT
DTSTAMP:20260421T084807Z
UID:a0f76aa5-1db4-4df4-9c27-767e78ceb33f
DTSTART:20260508T163000
DTEND:20260508T173000
DESCRIPTION:Midway/Minto
LOCATION:Grafton High School - Chandler Field
SUMMARY:Baseball: JV Game
END:VEVENT
BEGIN:VEVENT
DTSTAMP:20260421T084807Z
UID:685ed67d-42db-4a82-acab-8e883df578c2
DTSTART:20260508T163000
DTEND:20260508T173000
DESCRIPTION:Pembina County North
LOCATION:Walhalla\, ND
SUMMARY:Baseball: Varsity Game
END:VEVENT
BEGIN:VEVENT
DTSTAMP:20260421T084807Z
UID:a9ace474-54d8-4534-95ee-b6f11d9421c5
DTSTART:20260511T100000
DTEND:20260511T110000
DESCRIPTION:TBA
LOCATION:Langdon Golf Course
SUMMARY:Golf: Boys JV Meet
END:VEVENT
BEGIN:VEVENT
DTSTAMP:20260421T084807Z
UID:2a8a476d-3141-4562-842f-a47c8f4ac5d7
DTSTART:20260511T150000
DTEND:20260511T160000
DESCRIPTION:Park River Area\n(Date & Time Changed from 04-14-2026)
LOCATION:Park River Area High School
SUMMARY:Baseball: Junior High Game
END:VEVENT
BEGIN:VEVENT
DTSTAMP:20260421T084807Z
UID:1970ecf0-ad2b-441e-91df-3de02f891595
DTSTART:20260511T161500
DTEND:20260511T171500
DESCRIPTION:East Grand Forks
LOCATION:East Grand Forks High School
SUMMARY:Softball: C Squad Game
END:VEVENT
BEGIN:VEVENT
DTSTAMP:20260421T084807Z
UID:0c1db53e-7c67-4612-8ee5-2325f8921d65
DTSTART:20260511T163000
DTEND:20260511T173000
DESCRIPTION:Midway/Minto
LOCATION:Minto High School
SUMMARY:Softball: Varsity Game
END:VEVENT
BEGIN:VEVENT
DTSTAMP:20260421T084807Z
UID:238c9c7f-c643-4bb8-9113-4764ba22aa4b
DTSTART:20260512T083000
DTEND:20260512T093000
DESCRIPTION:TBA
LOCATION:Kings Walk Golf Course\, Grand Forks ND
SUMMARY:Golf: Boys Varsity Meet
END:VEVENT
BEGIN:VEVENT
DTSTAMP:20260421T084807Z
UID:d4bcb96b-706e-45b2-8847-04108500b60f
DTSTART:20260512T163000
DTEND:20260512T173000
DESCRIPTION:Park River Area
LOCATION:Grafton High School - Chandler Field
SUMMARY:Baseball: Junior High Game
END:VEVENT
BEGIN:VEVENT
DTSTAMP:20260421T084807Z
UID:a5d7491f-1f13-4e30-a0dc-f0aa04d70b32
DTSTART:20260512T163000
DTEND:20260512T173000
DESCRIPTION:May-Port CG\n(Cancelled)
LOCATION:Grafton High School - Harris Halliday Field
SUMMARY:Baseball: Varsity Game
END:VEVENT
BEGIN:VEVENT
DTSTAMP:20260421T084807Z
UID:9bd686c8-cbfb-4016-9e8f-945632228a57
DTSTART:20260512T193000
DTEND:20260512T203000
DESCRIPTION:\n<i>5-6 Band & Choir</i>\n<i>5-6 Band & Choir</i>
LOCATION:GPAC
SUMMARY:Band and Choir Concert
END:VEVENT
BEGIN:VEVENT
DTSTAMP:20260421T084807Z
UID:f191a6dd-1f2b-4507-b7d2-6f3b969489b3
DTSTART:20260514T100000
DTEND:20260514T110000
DESCRIPTION:TBA
LOCATION:Larimore Golf Course
SUMMARY:Golf: Boys Varsity Meet
END:VEVENT
BEGIN:VEVENT
DTSTAMP:20260421T084807Z
UID:7a7e4e46-b018-4456-8bef-d4c3472bfb4e
DTSTART:20260514T193000
DTEND:20260514T203000
DESCRIPTION:
LOCATION:Grafton
SUMMARY:Senior Awards Night
END:VEVENT
BEGIN:VEVENT
DTSTAMP:20260421T084807Z
UID:e0297fbf-67a8-437c-9024-22f30e7157f3
DTSTART:20260515T163000
DTEND:20260515T173000
DESCRIPTION:Devils Lake
LOCATION:Devils Lake High School
SUMMARY:Softball: C Squad Game
END:VEVENT
BEGIN:VEVENT
DTSTAMP:20260421T084807Z
UID:94805b37-8fe7-4b0a-88b6-c82346ca71fc
DTSTART:20260518T100000
DTEND:20260518T110000
DESCRIPTION:TBA
LOCATION:Drayton Golf Course
SUMMARY:Golf: Boys JV Meet
END:VEVENT
BEGIN:VEVENT
DTSTAMP:20260421T084807Z
UID:a9eb4aee-056e-40a8-9e6e-66f52fa60a76
DTSTART:20260519T100000
DTEND:20260519T110000
DESCRIPTION:TBA
LOCATION:Walhalla Golf Course
SUMMARY:Golf: Boys Varsity Meet
END:VEVENT
BEGIN:VEVENT
DTSTAMP:20260421T084807Z
UID:f9582111-327c-41fa-b515-0b04bf58875e
DTSTART:20260521T100000
DTEND:20260521T110000
DESCRIPTION:TBA
LOCATION:Hillcrest Golf Course\, Park River\, ND
SUMMARY:Golf: Boys Varsity Meet
END:VEVENT
END:VCALENDAR
