BEGIN:VCALENDAR
VERSION:2.0
PRODID:icalendar-ruby
CALSCALE:GREGORIAN
BEGIN:VTIMEZONE
TZID:America/Los_Angeles
BEGIN:DAYLIGHT
DTSTART:20260308T030000
TZOFFSETFROM:-0800
TZOFFSETTO:-0700
RRULE:FREQ=YEARLY;BYDAY=2SU;BYMONTH=3
TZNAME:PDT
END:DAYLIGHT
BEGIN:STANDARD
DTSTART:20261101T010000
TZOFFSETFROM:-0700
TZOFFSETTO:-0800
RRULE:FREQ=YEARLY;BYDAY=1SU;BYMONTH=11
TZNAME:PST
END:STANDARD
END:VTIMEZONE
BEGIN:VEVENT
DTSTAMP:20260419T125811Z
UID:bee71e24-4df7-44b8-a5d9-8312d5cae5b8
DTSTART;VALUE=DATE:20260420
DTEND;VALUE=DATE:20260421
DESCRIPTION:
LOCATION:
SUMMARY:Late Start-School @ 10:30am
END:VEVENT
BEGIN:VEVENT
DTSTAMP:20260419T125811Z
UID:4f6b76b1-8205-457a-96a5-cf2805a0c899
DTSTART;VALUE=DATE:20260427
DTEND;VALUE=DATE:20260428
DESCRIPTION:
LOCATION:
SUMMARY:Late Start-School @ 10:30am
END:VEVENT
BEGIN:VEVENT
DTSTAMP:20260419T125811Z
UID:45ebc894-3fe6-4bfa-8c2f-160ce3729c5e
DTSTART;VALUE=DATE:20260504
DTEND;VALUE=DATE:20260505
DESCRIPTION:
LOCATION:
SUMMARY:Late Start-School @ 10:30am
END:VEVENT
BEGIN:VEVENT
DTSTAMP:20260419T125811Z
UID:e211d448-d579-4867-a259-3685fb37d86b
DTSTART:20260507T155000
DTEND:20260507T165000
DESCRIPTION:
LOCATION:
SUMMARY:PTO Meeting-Library
END:VEVENT
BEGIN:VEVENT
DTSTAMP:20260419T125811Z
UID:2c264940-f645-46e1-aea1-bc7960f6fea8
DTSTART;VALUE=DATE:20260511
DTEND;VALUE=DATE:20260512
DESCRIPTION:
LOCATION:
SUMMARY:Late Start-School @ 10:30am
END:VEVENT
BEGIN:VEVENT
DTSTAMP:20260419T125811Z
UID:b7a4df12-8dc8-496d-9199-fff2c4f42be2
DTSTART:20260512T180000
DTEND:20260512T190000
DESCRIPTION:
LOCATION:
SUMMARY:Spring Concert-3rd\, 4th\, 5th
END:VEVENT
BEGIN:VEVENT
DTSTAMP:20260419T125811Z
UID:6c02cae6-80c1-4552-b21f-3ea74cc12483
DTSTART;VALUE=DATE:20260518
DTEND;VALUE=DATE:20260519
DESCRIPTION:
LOCATION:
SUMMARY:Last Late Start-School @ 10:30am
END:VEVENT
BEGIN:VEVENT
DTSTAMP:20260419T125811Z
UID:fa45472c-ecbd-47db-9539-8581e6ea9a86
DTSTART:20260604T155000
DTEND:20260604T165000
DESCRIPTION:
LOCATION:
SUMMARY:PTO Meeting-Library
END:VEVENT
END:VCALENDAR
