BEGIN:VCALENDAR
VERSION:2.0
PRODID:icalendar-ruby
CALSCALE:GREGORIAN
BEGIN:VTIMEZONE
TZID:America/Los_Angeles
BEGIN:DAYLIGHT
DTSTART:20260308T030000
TZOFFSETFROM:-0800
TZOFFSETTO:-0700
RRULE:FREQ=YEARLY;BYDAY=2SU;BYMONTH=3
TZNAME:PDT
END:DAYLIGHT
BEGIN:STANDARD
DTSTART:20261101T010000
TZOFFSETFROM:-0700
TZOFFSETTO:-0800
RRULE:FREQ=YEARLY;BYDAY=1SU;BYMONTH=11
TZNAME:PST
END:STANDARD
END:VTIMEZONE
BEGIN:VEVENT
DTSTAMP:20260423T190925Z
UID:b54027d9-3949-4864-a208-40b9177cc9e6
DTSTART:20260514T180000
DTEND:20260514T190000
DESCRIPTION:
LOCATION:
SUMMARY:PTO Mtg.
END:VEVENT
BEGIN:VEVENT
DTSTAMP:20260423T190925Z
UID:03f2491d-432b-4844-9c4d-7261054ef95f
DTSTART:20260530T080000
DTEND:20260530T150000
DESCRIPTION:
LOCATION:
SUMMARY:PTO Rummage Sale
END:VEVENT
BEGIN:VEVENT
DTSTAMP:20260423T190925Z
UID:1f5f1f60-57eb-4d86-9f97-746837fffba7
DTSTART:20260611T180000
DTEND:20260611T190000
DESCRIPTION:
LOCATION:
SUMMARY:PTO Mtg.
END:VEVENT
BEGIN:VEVENT
DTSTAMP:20260423T190925Z
UID:e7509947-c0a1-403b-b55d-5dc0c46d70b2
DTSTART:20260616T173000
DTEND:20260616T190000
DESCRIPTION:
LOCATION:
SUMMARY:PTO Dinner (Kinder and 6th)
END:VEVENT
END:VCALENDAR
