BEGIN:VCALENDAR
VERSION:2.0
PRODID:icalendar-ruby
CALSCALE:GREGORIAN
BEGIN:VTIMEZONE
TZID:America/Los_Angeles
BEGIN:DAYLIGHT
DTSTART:20260308T030000
TZOFFSETFROM:-0800
TZOFFSETTO:-0700
RRULE:FREQ=YEARLY;BYDAY=2SU;BYMONTH=3
TZNAME:PDT
END:DAYLIGHT
BEGIN:STANDARD
DTSTART:20261101T010000
TZOFFSETFROM:-0700
TZOFFSETTO:-0800
RRULE:FREQ=YEARLY;BYDAY=1SU;BYMONTH=11
TZNAME:PST
END:STANDARD
END:VTIMEZONE
BEGIN:VEVENT
DTSTAMP:20260423T151821Z
UID:2d809995-be31-4d1e-bf50-2ffbc0a21c45
DTSTART:20260430T170000
DTEND:20260430T183000
DESCRIPTION:
LOCATION:3830 N Sullivan Rd\, Spokane Valley\, WA 99216\, USA
SUMMARY:Spring Student Showcase - Exhibition of Learning
END:VEVENT
BEGIN:VEVENT
DTSTAMP:20260423T151821Z
UID:4faced58-7187-4ed6-9c7c-edfbe12cecee
DTSTART:20260501T110000
DTEND:20260501T123000
DESCRIPTION:
LOCATION:
SUMMARY:EVPP Curriculum Fair
END:VEVENT
BEGIN:VEVENT
DTSTAMP:20260423T151821Z
UID:49068683-cca1-4400-aba9-6cdc4f6dfa59
DTSTART;VALUE=DATE:20260504
DTEND;VALUE=DATE:20260509
DESCRIPTION:
LOCATION:
SUMMARY:SBA Testing - No Onsite Classes
END:VEVENT
BEGIN:VEVENT
DTSTAMP:20260423T151821Z
UID:d6fd3d5a-9fcd-4d76-addb-f7032d468a13
DTSTART:20260520T180000
DTEND:20260520T190000
DESCRIPTION:
LOCATION:
SUMMARY:Drama Play - Complaint Department and Lemonade
END:VEVENT
BEGIN:VEVENT
DTSTAMP:20260423T151821Z
UID:5b629d28-2dd7-44b3-9aa7-6ed27802be19
DTSTART;VALUE=DATE:20260522
DTEND;VALUE=DATE:20260523
DESCRIPTION:
LOCATION:
SUMMARY:No School - possible make-up day
END:VEVENT
BEGIN:VEVENT
DTSTAMP:20260423T151821Z
UID:35a3f843-a226-4b84-82f5-e2ec67205d95
DTSTART;VALUE=DATE:20260525
DTEND;VALUE=DATE:20260526
DESCRIPTION:
LOCATION:
SUMMARY:No School - Memorial Day
END:VEVENT
BEGIN:VEVENT
DTSTAMP:20260423T151821Z
UID:48e621eb-ad65-4643-88c2-7f2f2b1da173
DTSTART;VALUE=DATE:20260528
DTEND;VALUE=DATE:20260529
DESCRIPTION:
LOCATION:
SUMMARY:Onsite Classes - Last Day
END:VEVENT
BEGIN:VEVENT
DTSTAMP:20260423T151821Z
UID:453b844e-515a-4705-9732-94b34f5f04d5
DTSTART:20260528T090000
DTEND:20260528T143000
DESCRIPTION:
LOCATION:
SUMMARY:Field Day - EVPP
END:VEVENT
BEGIN:VEVENT
DTSTAMP:20260423T151821Z
UID:3cd9ac69-a53b-402d-ba09-300edf75a1de
DTSTART;VALUE=DATE:20260612
DTEND;VALUE=DATE:20260613
DESCRIPTION:
LOCATION:
SUMMARY:High School Graduation
END:VEVENT
BEGIN:VEVENT
DTSTAMP:20260423T151821Z
UID:ada9818a-998c-47d9-9789-65f3acbd3e3b
DTSTART;VALUE=DATE:20260617
DTEND;VALUE=DATE:20260618
DESCRIPTION:
LOCATION:
SUMMARY:Last Day of School
END:VEVENT
BEGIN:VEVENT
DTSTAMP:20260423T151821Z
UID:ced31a53-61ff-47d1-b6e1-b559a4d98dd4
DTSTART;VALUE=DATE:20260619
DTEND;VALUE=DATE:20260620
DESCRIPTION:
LOCATION:
SUMMARY:Juneteenth Holiday
END:VEVENT
BEGIN:VEVENT
DTSTAMP:20260423T151821Z
UID:da70258e-8fd2-4e9a-9809-20cd9ee5be97
DTSTART:20260825T080000
DTEND:20260825T083000
DESCRIPTION:
LOCATION:
SUMMARY:1st Day of School  - 2026-27
END:VEVENT
END:VCALENDAR
