BEGIN:VCALENDAR
VERSION:2.0
PRODID:icalendar-ruby
CALSCALE:GREGORIAN
BEGIN:VTIMEZONE
TZID:America/Los_Angeles
BEGIN:DAYLIGHT
DTSTART:20260308T030000
TZOFFSETFROM:-0800
TZOFFSETTO:-0700
RRULE:FREQ=YEARLY;BYDAY=2SU;BYMONTH=3
TZNAME:PDT
END:DAYLIGHT
BEGIN:STANDARD
DTSTART:20261101T010000
TZOFFSETFROM:-0700
TZOFFSETTO:-0800
RRULE:FREQ=YEARLY;BYDAY=1SU;BYMONTH=11
TZNAME:PST
END:STANDARD
END:VTIMEZONE
BEGIN:VEVENT
DTSTAMP:20260423T144625Z
UID:48247960-ab6c-4768-9a90-fb21743bdd4d
DTSTART:20260423T141500
DTEND:20260423T161500
DESCRIPTION:
LOCATION:
SUMMARY:Study Club - Library
END:VEVENT
BEGIN:VEVENT
DTSTAMP:20260423T144625Z
UID:1824ac4b-9ff8-4621-ac44-ec78c656410c
DTSTART:20260423T154500
DTEND:20260423T164500
DESCRIPTION:
LOCATION:
SUMMARY:EVMS 8th and 7th Varsity Baseball @ Cheney
END:VEVENT
BEGIN:VEVENT
DTSTAMP:20260423T144625Z
UID:8abfd2a3-6ad1-4721-8179-a91dd25b42db
DTSTART:20260423T154500
DTEND:20260423T164500
DESCRIPTION:
LOCATION:
SUMMARY:EVMS Baseball 8th and 7th JV @ Westwood 3:45pm
END:VEVENT
BEGIN:VEVENT
DTSTAMP:20260423T144625Z
UID:376cb832-568d-4e8e-aa38-606f7d756404
DTSTART;VALUE=DATE:20260427
DTEND;VALUE=DATE:20260428
DESCRIPTION:
LOCATION:
SUMMARY:Late Start Monday - School Starts at 9:10am
END:VEVENT
BEGIN:VEVENT
DTSTAMP:20260423T144625Z
UID:a96c253e-51c5-4a90-9b83-832c7c9eee1a
DTSTART;VALUE=DATE:20260428
DTEND;VALUE=DATE:20260429
DESCRIPTION:
LOCATION:
SUMMARY:School Bus Driver Appreciation Day
END:VEVENT
BEGIN:VEVENT
DTSTAMP:20260423T144625Z
UID:de200aab-6cbe-41a7-8d67-50f972329c8f
DTSTART:20260428T141500
DTEND:20260428T161500
DESCRIPTION:
LOCATION:
SUMMARY:Study Club - Library
END:VEVENT
BEGIN:VEVENT
DTSTAMP:20260423T144625Z
UID:bb0d5442-5e00-4168-a146-e7e9a6d0d954
DTSTART:20260428T154500
DTEND:20260428T164500
DESCRIPTION:
LOCATION:
SUMMARY:EVMS 8th and 7th Varsity Baseball @ Home
END:VEVENT
BEGIN:VEVENT
DTSTAMP:20260423T144625Z
UID:2033ed72-6964-463d-aaf7-69b15a413567
DTSTART:20260428T154500
DTEND:20260428T164500
DESCRIPTION:
LOCATION:
SUMMARY:EVMS Baseball 8th and 7th JV @ Freeman
END:VEVENT
BEGIN:VEVENT
DTSTAMP:20260423T144625Z
UID:0d3914fb-ff61-4a59-bff6-447693854078
DTSTART:20260428T154500
DTEND:20260428T164500
DESCRIPTION:
LOCATION:
SUMMARY:EVMS Tennis Jamboree @ Cheney
END:VEVENT
BEGIN:VEVENT
DTSTAMP:20260423T144625Z
UID:2c4cb7ea-24a9-4570-a923-f8a87aebbc9b
DTSTART:20260429T154500
DTEND:20260429T164500
DESCRIPTION:
LOCATION:
SUMMARY:EVMS Track @ East Valley High School
END:VEVENT
BEGIN:VEVENT
DTSTAMP:20260423T144625Z
UID:9171f72f-5e68-4bab-aa19-026ab79d8449
DTSTART:20260430T141500
DTEND:20260430T161500
DESCRIPTION:
LOCATION:
SUMMARY:Study Club - Library
END:VEVENT
BEGIN:VEVENT
DTSTAMP:20260423T144625Z
UID:ec8b2ef6-3a73-4c24-97ab-43e0c24e5520
DTSTART:20260430T154500
DTEND:20260430T164500
DESCRIPTION:
LOCATION:
SUMMARY:EVMS 8th and 7th JV Baseball @ Home
END:VEVENT
BEGIN:VEVENT
DTSTAMP:20260423T144625Z
UID:ced7f769-96fc-4712-b8a8-6ce24a721fa3
DTSTART:20260430T154500
DTEND:20260430T164500
DESCRIPTION:
LOCATION:
SUMMARY:EVMS Tennis @Cheney 3:45 pm
END:VEVENT
BEGIN:VEVENT
DTSTAMP:20260423T144625Z
UID:72544080-3c02-4f12-8a91-2e465e95610e
DTSTART;VALUE=DATE:20260501
DTEND;VALUE=DATE:20260502
DESCRIPTION:
LOCATION:
SUMMARY:12 Week Grades for 2nd Semester
END:VEVENT
BEGIN:VEVENT
DTSTAMP:20260423T144625Z
UID:41c06539-1e0a-4473-9715-4c407f8bd8cc
DTSTART;VALUE=DATE:20260501
DTEND;VALUE=DATE:20260502
DESCRIPTION:
LOCATION:
SUMMARY:School Lunch Hero Day
END:VEVENT
BEGIN:VEVENT
DTSTAMP:20260423T144625Z
UID:8b4873e8-9b42-4d2e-bdf6-54dfb986f406
DTSTART;VALUE=DATE:20260501
DTEND;VALUE=DATE:20260502
DESCRIPTION:
LOCATION:
SUMMARY:School Principal Appreciation Day
END:VEVENT
BEGIN:VEVENT
DTSTAMP:20260423T144625Z
UID:0f0d6f29-0a8c-49e7-97fd-f03853b5e412
DTSTART;VALUE=DATE:20260504
DTEND;VALUE=DATE:20260505
DESCRIPTION:
LOCATION:
SUMMARY:Late Start Monday - School Starts at 9:10am
END:VEVENT
BEGIN:VEVENT
DTSTAMP:20260423T144625Z
UID:d7ac8d0f-600a-4578-9041-abb510b77c43
DTSTART;VALUE=DATE:20260504
DTEND;VALUE=DATE:20260505
DESCRIPTION:
LOCATION:
SUMMARY:Teacher Appreciation Week
END:VEVENT
BEGIN:VEVENT
DTSTAMP:20260423T144625Z
UID:69a9a0e0-c81d-4928-902b-406f3cf05daf
DTSTART:20260504T154500
DTEND:20260504T164500
DESCRIPTION:
LOCATION:
SUMMARY:EVMS Tennis @ Home
END:VEVENT
BEGIN:VEVENT
DTSTAMP:20260423T144625Z
UID:dc95c8a1-11d2-46ee-a715-3f8dd524ce21
DTSTART;VALUE=DATE:20260505
DTEND;VALUE=DATE:20260506
DESCRIPTION:
LOCATION:
SUMMARY:Teacher Appreciation Week
END:VEVENT
BEGIN:VEVENT
DTSTAMP:20260423T144625Z
UID:b40789e7-a70a-4873-9e50-819f56edae71
DTSTART:20260505T141500
DTEND:20260505T161500
DESCRIPTION:
LOCATION:
SUMMARY:Study Club - Library
END:VEVENT
BEGIN:VEVENT
DTSTAMP:20260423T144625Z
UID:6c1e15f1-b2a3-4a31-9bd8-96850930de1b
DTSTART:20260505T154500
DTEND:20260505T164500
DESCRIPTION:
LOCATION:
SUMMARY:EVMS 8th and 7th Varsity Baseball @ Home
END:VEVENT
BEGIN:VEVENT
DTSTAMP:20260423T144625Z
UID:60aa9155-2c73-4827-aaab-904ce944171b
DTSTART:20260505T154500
DTEND:20260505T164500
DESCRIPTION:
LOCATION:
SUMMARY:EVMS Baseball 8th and 7th JV @Westwood
END:VEVENT
BEGIN:VEVENT
DTSTAMP:20260423T144625Z
UID:efaad79f-d2f8-4070-9d97-d9f6af8c341d
DTSTART:20260505T154500
DTEND:20260505T164500
DESCRIPTION:
LOCATION:
SUMMARY:EVMS Track @ Freeman
END:VEVENT
BEGIN:VEVENT
DTSTAMP:20260423T144625Z
UID:60b734e7-d0e1-4626-b958-0a3cf9b23c8c
DTSTART;VALUE=DATE:20260506
DTEND;VALUE=DATE:20260507
DESCRIPTION:
LOCATION:
SUMMARY:School Nurse Appreciation Day
END:VEVENT
BEGIN:VEVENT
DTSTAMP:20260423T144625Z
UID:09cef9e8-fed0-4839-a325-5c3d18bd774d
DTSTART;VALUE=DATE:20260506
DTEND;VALUE=DATE:20260507
DESCRIPTION:
LOCATION:
SUMMARY:Teacher Appreciation Week
END:VEVENT
BEGIN:VEVENT
DTSTAMP:20260423T144625Z
UID:fd220182-b2ad-44b0-a3f4-5bf21ce4088f
DTSTART;VALUE=DATE:20260507
DTEND;VALUE=DATE:20260508
DESCRIPTION:
LOCATION:
SUMMARY:Spring String Fling Rehearsal 
END:VEVENT
BEGIN:VEVENT
DTSTAMP:20260423T144625Z
UID:609488b5-f1af-4425-9ef8-6fc505d4cdc5
DTSTART;VALUE=DATE:20260507
DTEND;VALUE=DATE:20260508
DESCRIPTION:
LOCATION:
SUMMARY:Teacher Appreciation Week
END:VEVENT
BEGIN:VEVENT
DTSTAMP:20260423T144625Z
UID:48259a69-1240-426f-9ffc-f8a4698a34a7
DTSTART:20260507T141500
DTEND:20260507T161500
DESCRIPTION:
LOCATION:
SUMMARY:Study Club - Library
END:VEVENT
BEGIN:VEVENT
DTSTAMP:20260423T144625Z
UID:a235abbb-2b6e-49e8-ac2d-3560eee03a63
DTSTART:20260507T154500
DTEND:20260507T164500
DESCRIPTION:
LOCATION:
SUMMARY:EVMS 8th and 7th Varsity Baseball @ Centennial
END:VEVENT
BEGIN:VEVENT
DTSTAMP:20260423T144625Z
UID:8378c95c-ef37-4679-9587-37a9cb8f9276
DTSTART:20260507T154500
DTEND:20260507T164500
DESCRIPTION:
LOCATION:
SUMMARY:EVMS Baseball 8th and 7th JV @Home
END:VEVENT
BEGIN:VEVENT
DTSTAMP:20260423T144625Z
UID:03e8fdec-eaf2-4547-9a42-ac3ed6bd95e2
DTSTART:20260507T154500
DTEND:20260507T164500
DESCRIPTION:
LOCATION:
SUMMARY:EVMS Tennis @ Home
END:VEVENT
BEGIN:VEVENT
DTSTAMP:20260423T144625Z
UID:4545a0df-1c14-437b-be06-b567b1a39863
DTSTART:20260507T154500
DTEND:20260507T164500
DESCRIPTION:
LOCATION:
SUMMARY:EVMS Track @ West Valley High School
END:VEVENT
BEGIN:VEVENT
DTSTAMP:20260423T144625Z
UID:650661af-eefc-41ca-9db2-66fffe54667e
DTSTART:20260507T190000
DTEND:20260507T203000
DESCRIPTION:
LOCATION:
SUMMARY:Spring String Fling @ EVHS (Grades 5-12)
END:VEVENT
BEGIN:VEVENT
DTSTAMP:20260423T144625Z
UID:687fbde6-5523-454c-83ff-b8f7a45f275b
DTSTART;VALUE=DATE:20260508
DTEND;VALUE=DATE:20260509
DESCRIPTION:
LOCATION:
SUMMARY:Teacher Appreciation Week
END:VEVENT
BEGIN:VEVENT
DTSTAMP:20260423T144625Z
UID:e9b0e4ec-cec4-431d-b826-5641a1f1e5f5
DTSTART;VALUE=DATE:20260511
DTEND;VALUE=DATE:20260512
DESCRIPTION:
LOCATION:
SUMMARY:Late Start Monday - School Starts at 9:10am
END:VEVENT
BEGIN:VEVENT
DTSTAMP:20260423T144625Z
UID:66783ffe-ba85-450b-ad1e-68d665526070
DTSTART:20260512T141500
DTEND:20260512T161500
DESCRIPTION:
LOCATION:
SUMMARY:Study Club - Library
END:VEVENT
BEGIN:VEVENT
DTSTAMP:20260423T144625Z
UID:4ad7b902-b3a9-4788-b068-ef52e416b346
DTSTART:20260512T154500
DTEND:20260512T164500
DESCRIPTION:
LOCATION:
SUMMARY:EVMS 8th and 7th Varsity Baseball @ Home
END:VEVENT
BEGIN:VEVENT
DTSTAMP:20260423T144625Z
UID:235869f5-36f0-420c-b31a-1ce0ab8bbf18
DTSTART:20260512T154500
DTEND:20260512T164500
DESCRIPTION:
LOCATION:
SUMMARY:EVMS Baseball 8th and 7th JV @Westwood
END:VEVENT
BEGIN:VEVENT
DTSTAMP:20260423T144625Z
UID:304a8a38-eceb-4e73-b8f4-c34ddd371ff8
DTSTART:20260512T154500
DTEND:20260512T164500
DESCRIPTION:
LOCATION:
SUMMARY:EVMS Tennis @ Home
END:VEVENT
BEGIN:VEVENT
DTSTAMP:20260423T144625Z
UID:e2b938e0-de9c-4062-8096-592b086b8f86
DTSTART:20260512T154500
DTEND:20260512T164500
DESCRIPTION:
LOCATION:
SUMMARY:EVMS Track @ West Valley High School
END:VEVENT
BEGIN:VEVENT
DTSTAMP:20260423T144625Z
UID:d38e86f1-1185-4d76-90e7-77232db102e5
DTSTART:20260514T141500
DTEND:20260514T161500
DESCRIPTION:
LOCATION:
SUMMARY:Study Club - Library
END:VEVENT
BEGIN:VEVENT
DTSTAMP:20260423T144625Z
UID:e4dcd3ba-7a3f-4236-bc59-936b08c08e67
DTSTART:20260514T154500
DTEND:20260514T164500
DESCRIPTION:
LOCATION:
SUMMARY:EVMS 8th and 7th Varsity Baseball @ Freeman
END:VEVENT
BEGIN:VEVENT
DTSTAMP:20260423T144625Z
UID:9772b5b5-4d17-41c4-ab15-8edf5a414e82
DTSTART:20260514T154500
DTEND:20260514T164500
DESCRIPTION:
LOCATION:
SUMMARY:EVMS Baseball 8th and 7th JV @Home
END:VEVENT
BEGIN:VEVENT
DTSTAMP:20260423T144625Z
UID:29650dff-6b8c-4ed2-8412-d3e2f1135463
DTSTART:20260514T154500
DTEND:20260514T164500
DESCRIPTION:
LOCATION:
SUMMARY:EVMS Tennis @ Centenial
END:VEVENT
BEGIN:VEVENT
DTSTAMP:20260423T144625Z
UID:ea929b9e-5442-460d-9272-20293099e9f4
DTSTART:20260514T154500
DTEND:20260514T164500
DESCRIPTION:
LOCATION:
SUMMARY:EVMS Track @ East Valley High School
END:VEVENT
BEGIN:VEVENT
DTSTAMP:20260423T144625Z
UID:f5099fe4-9ae6-4177-a119-baf881666ede
DTSTART;VALUE=DATE:20260518
DTEND;VALUE=DATE:20260519
DESCRIPTION:
LOCATION:
SUMMARY:Late Start Monday - School Starts at 9:10am
END:VEVENT
BEGIN:VEVENT
DTSTAMP:20260423T144625Z
UID:a568225e-1239-41a6-a418-c725dea99f60
DTSTART;VALUE=DATE:20260518
DTEND;VALUE=DATE:20260519
DESCRIPTION:
LOCATION:
SUMMARY:SLP Appreciation Day
END:VEVENT
BEGIN:VEVENT
DTSTAMP:20260423T144625Z
UID:927ad824-9e15-401f-a35a-5be37622623e
DTSTART:20260518T154500
DTEND:20260518T164500
DESCRIPTION:
LOCATION:
SUMMARY:EVMS 8th and 7th Varsity Baseball @ Home
END:VEVENT
BEGIN:VEVENT
DTSTAMP:20260423T144625Z
UID:053e9263-de3d-4a3c-bf85-b1ee8582b86d
DTSTART:20260518T154500
DTEND:20260518T164500
DESCRIPTION:
LOCATION:
SUMMARY:EVMS Baseball 8th and 7th JV @ Centennial
END:VEVENT
BEGIN:VEVENT
DTSTAMP:20260423T144625Z
UID:6834c08c-4bda-4432-b2b2-7e15bb56bbdd
DTSTART:20260519T141500
DTEND:20260519T161500
DESCRIPTION:
LOCATION:
SUMMARY:Study Club - Library
END:VEVENT
BEGIN:VEVENT
DTSTAMP:20260423T144625Z
UID:3e76c381-3282-453f-a5cd-9162ad0bd6bb
DTSTART:20260519T154500
DTEND:20260519T164500
DESCRIPTION:
LOCATION:
SUMMARY:EVMS Tennis @ Westwood
END:VEVENT
BEGIN:VEVENT
DTSTAMP:20260423T144625Z
UID:2a2f5fbd-3510-4547-9ce1-2ddc14b222fa
DTSTART:20260520T153000
DTEND:20260520T163000
DESCRIPTION:
LOCATION:
SUMMARY:EVMS Track All League @ Cheney
END:VEVENT
BEGIN:VEVENT
DTSTAMP:20260423T144625Z
UID:67879090-801f-4e33-86e7-af6379708000
DTSTART:20260521T141500
DTEND:20260521T161500
DESCRIPTION:
LOCATION:
SUMMARY:Study Club - Library
END:VEVENT
BEGIN:VEVENT
DTSTAMP:20260423T144625Z
UID:e1da98fd-9c37-4b11-b98d-c5ceb00fbe13
DTSTART:20260521T154500
DTEND:20260521T164500
DESCRIPTION:
LOCATION:
SUMMARY:EVMS 8th and 7th Varsity Baseball @ Westwood
END:VEVENT
BEGIN:VEVENT
DTSTAMP:20260423T144625Z
UID:a1a28295-0ad7-4348-a8d4-8029370e84a0
DTSTART:20260521T154500
DTEND:20260521T164500
DESCRIPTION:
LOCATION:
SUMMARY:EVMS Baseball 8th and 7th JV @Home
END:VEVENT
BEGIN:VEVENT
DTSTAMP:20260423T144625Z
UID:f00bebd2-bc2c-4fe6-83e5-770e8205e7d9
DTSTART:20260521T154500
DTEND:20260521T164500
DESCRIPTION:
LOCATION:
SUMMARY:EVMS Tennis Varsity Tourn @ West Valley High School
END:VEVENT
BEGIN:VEVENT
DTSTAMP:20260423T144625Z
UID:8947ce1c-4b13-4720-a4b9-30ffa491c796
DTSTART;VALUE=DATE:20260522
DTEND;VALUE=DATE:20260523
DESCRIPTION:
LOCATION:
SUMMARY:Last Day of Tennis\, Baseball\, COED Track
END:VEVENT
BEGIN:VEVENT
DTSTAMP:20260423T144625Z
UID:025c87f9-200f-475e-b6eb-95cbbc957732
DTSTART;VALUE=DATE:20260522
DTEND;VALUE=DATE:20260523
DESCRIPTION:
LOCATION:
SUMMARY:School Closure - Possible Makeup Day 
END:VEVENT
BEGIN:VEVENT
DTSTAMP:20260423T144625Z
UID:ce6b8cb1-1a82-4730-ae8d-e76aaf391464
DTSTART;VALUE=DATE:20260525
DTEND;VALUE=DATE:20260526
DESCRIPTION:
LOCATION:
SUMMARY:Memorial Day - No School
END:VEVENT
BEGIN:VEVENT
DTSTAMP:20260423T144625Z
UID:dede4bd8-41f2-467f-89f2-9bc75878c315
DTSTART:20260526T141500
DTEND:20260526T161500
DESCRIPTION:
LOCATION:
SUMMARY:Study Club - Library
END:VEVENT
BEGIN:VEVENT
DTSTAMP:20260423T144625Z
UID:ebf73393-c192-4b12-ac93-de3e6ef29899
DTSTART:20260527T190000
DTEND:20260527T200000
DESCRIPTION:
LOCATION:
SUMMARY:Choir Concert @ EVHS (MS & HS)
END:VEVENT
BEGIN:VEVENT
DTSTAMP:20260423T144625Z
UID:5f8ef071-d266-4676-9414-38a6cb1d1671
DTSTART:20260528T141500
DTEND:20260528T161500
DESCRIPTION:
LOCATION:
SUMMARY:Study Club - Library
END:VEVENT
BEGIN:VEVENT
DTSTAMP:20260423T144625Z
UID:f79e1eac-30fe-439f-9265-c6dbc1a4a6c9
DTSTART:20260602T190000
DTEND:20260602T200000
DESCRIPTION:
LOCATION:
SUMMARY:Band & Orchestra Spring Awards Concert @ EVMS
END:VEVENT
BEGIN:VEVENT
DTSTAMP:20260423T144625Z
UID:a8f81506-d66f-4a1c-b82d-05c0b0e58417
DTSTART:20260610T180000
DTEND:20260610T190000
DESCRIPTION:
LOCATION:
SUMMARY:EVMS Improv Night
END:VEVENT
BEGIN:VEVENT
DTSTAMP:20260423T144625Z
UID:ffa63526-916f-47e6-87b5-06f61230c118
DTSTART;VALUE=DATE:20260611
DTEND;VALUE=DATE:20260612
DESCRIPTION:
LOCATION:
SUMMARY:Finals
END:VEVENT
BEGIN:VEVENT
DTSTAMP:20260423T144625Z
UID:49369f27-82c6-4b1b-ba22-6bae55272d69
DTSTART;VALUE=DATE:20260612
DTEND;VALUE=DATE:20260613
DESCRIPTION:
LOCATION:
SUMMARY:Finals
END:VEVENT
BEGIN:VEVENT
DTSTAMP:20260423T144625Z
UID:e0b9e51c-3d13-40f6-bfdd-fe7e8afa3e5e
DTSTART;VALUE=DATE:20260612
DTEND;VALUE=DATE:20260613
DESCRIPTION:
LOCATION:
SUMMARY:High School Graduation
END:VEVENT
BEGIN:VEVENT
DTSTAMP:20260423T144625Z
UID:5f241878-cbc2-4256-93a4-9b5d735d1964
DTSTART;VALUE=DATE:20260615
DTEND;VALUE=DATE:20260616
DESCRIPTION:
LOCATION:
SUMMARY:Leadership & Field Day (+Talent Show)
END:VEVENT
BEGIN:VEVENT
DTSTAMP:20260423T144625Z
UID:4a2ced97-7b02-4e7f-843d-003a23cc4a7c
DTSTART:20260616T074500
DTEND:20260616T084500
DESCRIPTION:
LOCATION:
SUMMARY:Academic Awards Ceremony
END:VEVENT
BEGIN:VEVENT
DTSTAMP:20260423T144625Z
UID:185f6a01-771c-468e-880f-e470af1f24e7
DTSTART:20260616T180000
DTEND:20260616T190000
DESCRIPTION:
LOCATION:
SUMMARY:8th Grade Promotion
END:VEVENT
BEGIN:VEVENT
DTSTAMP:20260423T144625Z
UID:50cfc5d2-ec93-46c9-969b-8db5024e382e
DTSTART:20260616T190000
DTEND:20260616T200000
DESCRIPTION:
LOCATION:
SUMMARY:8th Grade Celebration
END:VEVENT
BEGIN:VEVENT
DTSTAMP:20260423T144625Z
UID:cad8e3a0-1a68-43aa-9cac-ec4a00758e70
DTSTART;VALUE=DATE:20260617
DTEND;VALUE=DATE:20260618
DESCRIPTION:
LOCATION:
SUMMARY:Last Day of School: 7:40-9:10 am
END:VEVENT
BEGIN:VEVENT
DTSTAMP:20260423T144625Z
UID:752ee52a-332f-4e0a-a055-6e36d467976d
DTSTART;VALUE=DATE:20260617
DTEND;VALUE=DATE:20260618
DESCRIPTION:
LOCATION:
SUMMARY:End of 2nd Semester
END:VEVENT
BEGIN:VEVENT
DTSTAMP:20260423T144625Z
UID:2371c127-fd3d-43a2-8566-82cc49f60e06
DTSTART;VALUE=DATE:20260618
DTEND;VALUE=DATE:20260619
DESCRIPTION:
LOCATION:
SUMMARY:School Closure Make up Day
END:VEVENT
BEGIN:VEVENT
DTSTAMP:20260423T144625Z
UID:018750e6-bfc0-433b-8535-a0af5fd0eedc
DTSTART;VALUE=DATE:20260619
DTEND;VALUE=DATE:20260620
DESCRIPTION:
LOCATION:
SUMMARY:Juneteenth
END:VEVENT
BEGIN:VEVENT
DTSTAMP:20260423T144625Z
UID:8b52b605-88e5-49b0-8a54-1b77627fd09a
DTSTART;VALUE=DATE:20260904
DTEND;VALUE=DATE:20260905
DESCRIPTION:
LOCATION:
SUMMARY:Non-School Day
END:VEVENT
BEGIN:VEVENT
DTSTAMP:20260423T144625Z
UID:778f05c1-7311-459d-9032-fab70845bab5
DTSTART;VALUE=DATE:20260907
DTEND;VALUE=DATE:20260908
DESCRIPTION:
LOCATION:
SUMMARY:No School - Labor Day
END:VEVENT
BEGIN:VEVENT
DTSTAMP:20260423T144625Z
UID:43ede3c8-1fd7-44f5-a4d8-14ebf00f7ad0
DTSTART;VALUE=DATE:20260919
DTEND;VALUE=DATE:20260920
DESCRIPTION:
LOCATION:
SUMMARY:EVSD Golf Tourament
END:VEVENT
BEGIN:VEVENT
DTSTAMP:20260423T144625Z
UID:2b904aad-a9d7-447a-b005-1e04290f8586
DTSTART;VALUE=DATE:20261014
DTEND;VALUE=DATE:20261017
DESCRIPTION:
LOCATION:
SUMMARY:No School
END:VEVENT
BEGIN:VEVENT
DTSTAMP:20260423T144625Z
UID:2041380c-96b4-44a8-95f5-85d89aa7d6b4
DTSTART;VALUE=DATE:20261111
DTEND;VALUE=DATE:20261112
DESCRIPTION:
LOCATION:
SUMMARY:Veteran's Day - No School
END:VEVENT
BEGIN:VEVENT
DTSTAMP:20260423T144625Z
UID:2ce102ad-a073-4ee5-a788-43818bddc8a6
DTSTART;VALUE=DATE:20261123
DTEND;VALUE=DATE:20261125
DESCRIPTION:
LOCATION:
SUMMARY:Fall Student Conferences
END:VEVENT
BEGIN:VEVENT
DTSTAMP:20260423T144625Z
UID:e327062b-8f19-4315-8843-e8bbab0e82f6
DTSTART;VALUE=DATE:20261125
DTEND;VALUE=DATE:20261128
DESCRIPTION:
LOCATION:
SUMMARY:No School - Thanksgiving Break
END:VEVENT
BEGIN:VEVENT
DTSTAMP:20260423T144625Z
UID:9a584b81-584d-4119-8685-b0b151552009
DTSTART;VALUE=DATE:20261221
DTEND;VALUE=DATE:20261226
DESCRIPTION:
LOCATION:
SUMMARY:Winter Break
END:VEVENT
BEGIN:VEVENT
DTSTAMP:20260423T144625Z
UID:9129137d-d774-402c-b3d1-961f2c7d6c8a
DTSTART;VALUE=DATE:20261228
DTEND;VALUE=DATE:20270102
DESCRIPTION:
LOCATION:
SUMMARY:Winter Break
END:VEVENT
BEGIN:VEVENT
DTSTAMP:20260423T144625Z
UID:b8698095-7a23-48e0-a191-f79341914703
DTSTART;VALUE=DATE:20270118
DTEND;VALUE=DATE:20270119
DESCRIPTION:
LOCATION:
SUMMARY:No School - MLK Jr. Day
END:VEVENT
BEGIN:VEVENT
DTSTAMP:20260423T144625Z
UID:3980997a-8388-4589-abe6-a5b8746742d7
DTSTART;VALUE=DATE:20270125
DTEND;VALUE=DATE:20270126
DESCRIPTION:
LOCATION:
SUMMARY:End of 1st Semester
END:VEVENT
BEGIN:VEVENT
DTSTAMP:20260423T144625Z
UID:a13b6e9d-d711-4c1d-a8c6-f58605b39ada
DTSTART;VALUE=DATE:20270215
DTEND;VALUE=DATE:20270216
DESCRIPTION:
LOCATION:
SUMMARY:No School - President's Day
END:VEVENT
BEGIN:VEVENT
DTSTAMP:20260423T144625Z
UID:8949f792-8a0d-433e-a4de-8407b7cec41f
DTSTART;VALUE=DATE:20270216
DTEND;VALUE=DATE:20270220
DESCRIPTION:
LOCATION:
SUMMARY:No School - Mid-Winter Break
END:VEVENT
BEGIN:VEVENT
DTSTAMP:20260423T144625Z
UID:5312b240-ac3f-4fa7-9902-fbe7d55eb1ce
DTSTART;VALUE=DATE:20270312
DTEND;VALUE=DATE:20270313
DESCRIPTION:
LOCATION:
SUMMARY:Snow Make-Up Day / No School
END:VEVENT
BEGIN:VEVENT
DTSTAMP:20260423T144625Z
UID:26008ae9-65ad-436e-8281-32ae4ebec78e
DTSTART;VALUE=DATE:20270329
DTEND;VALUE=DATE:20270330
DESCRIPTION:
LOCATION:
SUMMARY:No Late Start
END:VEVENT
BEGIN:VEVENT
DTSTAMP:20260423T144625Z
UID:1cd33771-61fb-4377-a91e-f0c82abadd11
DTSTART;VALUE=DATE:20270401
DTEND;VALUE=DATE:20270403
DESCRIPTION:
LOCATION:
SUMMARY:Spring Student Conferences
END:VEVENT
BEGIN:VEVENT
DTSTAMP:20260423T144625Z
UID:56a07419-9ca5-4f7d-a85e-9ef2b32a0526
DTSTART;VALUE=DATE:20270405
DTEND;VALUE=DATE:20270410
DESCRIPTION:
LOCATION:
SUMMARY:Spring Break - No School
END:VEVENT
BEGIN:VEVENT
DTSTAMP:20260423T144625Z
UID:1fb3eec2-585b-4d3c-8f04-833855d297cb
DTSTART;VALUE=DATE:20270528
DTEND;VALUE=DATE:20270529
DESCRIPTION:
LOCATION:
SUMMARY:Snow Makeup Day / No School
END:VEVENT
BEGIN:VEVENT
DTSTAMP:20260423T144625Z
UID:e0330278-550f-4061-9dd5-42410e922ca9
DTSTART;VALUE=DATE:20270531
DTEND;VALUE=DATE:20270601
DESCRIPTION:
LOCATION:
SUMMARY:Memorial Day - No School
END:VEVENT
BEGIN:VEVENT
DTSTAMP:20260423T144625Z
UID:229263b5-2203-4e12-a422-56c93b7dc4d5
DTSTART;VALUE=DATE:20270611
DTEND;VALUE=DATE:20270612
DESCRIPTION:
LOCATION:
SUMMARY:EVHS Graduation
END:VEVENT
BEGIN:VEVENT
DTSTAMP:20260423T144625Z
UID:79df2d61-3fe8-4cc0-a2e4-f59d75d75687
DTSTART;VALUE=DATE:20270614
DTEND;VALUE=DATE:20270615
DESCRIPTION:
LOCATION:
SUMMARY:Finals
END:VEVENT
BEGIN:VEVENT
DTSTAMP:20260423T144625Z
UID:348d1f77-d5b5-49c7-858b-a72fa64e9bed
DTSTART:20270616T074500
DTEND:20270616T084500
DESCRIPTION:
LOCATION:
SUMMARY:Academic Awards Assembly
END:VEVENT
BEGIN:VEVENT
DTSTAMP:20260423T144625Z
UID:90274e5c-d012-467c-9e53-f2e2b32f7b46
DTSTART:20270616T180000
DTEND:20270616T190000
DESCRIPTION:
LOCATION:
SUMMARY:8th Grade Promotion
END:VEVENT
BEGIN:VEVENT
DTSTAMP:20260423T144625Z
UID:aa90c8d7-cfde-4a7c-93c7-24fe193d7e9d
DTSTART:20270616T190000
DTEND:20270616T200000
DESCRIPTION:
LOCATION:
SUMMARY:8th Grade Dance
END:VEVENT
BEGIN:VEVENT
DTSTAMP:20260423T144625Z
UID:a0a1138f-d4a9-43ad-9125-7b299e5657ba
DTSTART;VALUE=DATE:20270617
DTEND;VALUE=DATE:20270618
DESCRIPTION:
LOCATION:
SUMMARY:End of 2nd Semester
END:VEVENT
BEGIN:VEVENT
DTSTAMP:20260423T144625Z
UID:2faa314e-16cb-41c4-bf31-8c60aa1656f4
DTSTART;VALUE=DATE:20270617
DTEND;VALUE=DATE:20270618
DESCRIPTION:
LOCATION:
SUMMARY:Last Day of School / Early Dismissal
END:VEVENT
BEGIN:VEVENT
DTSTAMP:20260423T144625Z
UID:0d323256-5a87-468d-b7f6-806929c40931
DTSTART;VALUE=DATE:20270618
DTEND;VALUE=DATE:20270619
DESCRIPTION:
LOCATION:
SUMMARY:Juneteenth Observed (No School)
END:VEVENT
END:VCALENDAR
