BEGIN:VCALENDAR
VERSION:2.0
PRODID:icalendar-ruby
CALSCALE:GREGORIAN
BEGIN:VTIMEZONE
TZID:America/Los_Angeles
BEGIN:DAYLIGHT
DTSTART:20260308T030000
TZOFFSETFROM:-0800
TZOFFSETTO:-0700
RRULE:FREQ=YEARLY;BYDAY=2SU;BYMONTH=3
TZNAME:PDT
END:DAYLIGHT
BEGIN:STANDARD
DTSTART:20261101T010000
TZOFFSETFROM:-0700
TZOFFSETTO:-0800
RRULE:FREQ=YEARLY;BYDAY=1SU;BYMONTH=11
TZNAME:PST
END:STANDARD
END:VTIMEZONE
BEGIN:VEVENT
DTSTAMP:20260423T111159Z
UID:d86d6fb5-3c20-4c34-8efa-5fefbbdf7357
DTSTART:20260427T091500
DTEND:20260427T091500
DESCRIPTION:
LOCATION:
SUMMARY:Late Start
END:VEVENT
BEGIN:VEVENT
DTSTAMP:20260423T111159Z
UID:08914ffd-4c23-4fcc-ae4c-54edb715ece8
DTSTART:20260504T091500
DTEND:20260504T091500
DESCRIPTION:
LOCATION:
SUMMARY:Late Start
END:VEVENT
BEGIN:VEVENT
DTSTAMP:20260423T111159Z
UID:5e4367f5-92b3-4804-aec1-b2c8f078ee34
DTSTART:20260507T190000
DTEND:20260507T200000
DESCRIPTION:
LOCATION:East Valley High School\, 15711 E Wellesley Ave\, Spokane Valley\,
  WA 99216\, USA
SUMMARY:Spring String Fling
END:VEVENT
BEGIN:VEVENT
DTSTAMP:20260423T111159Z
UID:815fdc67-6246-46ac-ac5f-f101bc4b1905
DTSTART:20260511T091500
DTEND:20260511T091500
DESCRIPTION:
LOCATION:
SUMMARY:Late Start
END:VEVENT
BEGIN:VEVENT
DTSTAMP:20260423T111159Z
UID:d60115d8-e808-4d84-b814-d8a56e458fd0
DTSTART:20260513T170000
DTEND:20260513T183000
DESCRIPTION:
LOCATION:
SUMMARY:PTSA Member Meeting
END:VEVENT
BEGIN:VEVENT
DTSTAMP:20260423T111159Z
UID:d3e0b961-299c-4594-a509-335824a178a2
DTSTART:20260518T091500
DTEND:20260518T091500
DESCRIPTION:
LOCATION:
SUMMARY:Late Start
END:VEVENT
BEGIN:VEVENT
DTSTAMP:20260423T111159Z
UID:772b2443-bd4f-46c2-b8d0-9ef61bfda40a
DTSTART:20260529T130000
DTEND:20260529T133000
DESCRIPTION:
LOCATION:
SUMMARY:Character Trait Assembly
END:VEVENT
BEGIN:VEVENT
DTSTAMP:20260423T111159Z
UID:da430b02-6f07-4825-a049-54b1228880d3
DTSTART:20260610T170000
DTEND:20260610T183000
DESCRIPTION:
LOCATION:
SUMMARY:PTSA Member Meeting
END:VEVENT
BEGIN:VEVENT
DTSTAMP:20260423T111159Z
UID:558a39ce-421f-44cd-ad09-2951d26840a3
DTSTART:20260615T091500
DTEND:20260615T091500
DESCRIPTION:
LOCATION:
SUMMARY:Late Start
END:VEVENT
BEGIN:VEVENT
DTSTAMP:20260423T111159Z
UID:058a57d7-c2d1-4443-98d3-9f7ed89128b9
DTSTART:20260617T183000
DTEND:20260617T193000
DESCRIPTION:
LOCATION:
SUMMARY:Band Concert- 5-8th grades
END:VEVENT
BEGIN:VEVENT
DTSTAMP:20260423T111159Z
UID:fb50d1ad-c8d2-4542-afbd-343fea6d05ca
DTSTART:20260624T180000
DTEND:20260624T190000
DESCRIPTION:
LOCATION:
SUMMARY:8th Grade Promotion
END:VEVENT
BEGIN:VEVENT
DTSTAMP:20260423T111159Z
UID:d27b67ee-5a5d-44a8-ada0-3ed6bd7cc166
DTSTART:20260625T103000
DTEND:20260625T160000
DESCRIPTION:
LOCATION:
SUMMARY:8th grade Silverwood
END:VEVENT
BEGIN:VEVENT
DTSTAMP:20260423T111159Z
UID:b7dfffdd-2af0-415f-ba19-593dd651d299
DTSTART:20260626T170000
DTEND:20260626T190000
DESCRIPTION:
LOCATION:
SUMMARY:End of Year Social
END:VEVENT
END:VCALENDAR
