BEGIN:VCALENDAR
VERSION:2.0
PRODID:icalendar-ruby
CALSCALE:GREGORIAN
BEGIN:VTIMEZONE
TZID:America/New_York
BEGIN:DAYLIGHT
DTSTART:20260308T030000
TZOFFSETFROM:-0500
TZOFFSETTO:-0400
RRULE:FREQ=YEARLY;BYDAY=2SU;BYMONTH=3
TZNAME:EDT
END:DAYLIGHT
BEGIN:STANDARD
DTSTART:20261101T010000
TZOFFSETFROM:-0400
TZOFFSETTO:-0500
RRULE:FREQ=YEARLY;BYDAY=1SU;BYMONTH=11
TZNAME:EST
END:STANDARD
END:VTIMEZONE
BEGIN:VEVENT
DTSTAMP:20260425T131738Z
UID:9d98cdfe-a0b9-47b8-8022-8ed248ee3ba9
DTSTART;VALUE=DATE:20260427
DTEND;VALUE=DATE:20260502
DESCRIPTION:
LOCATION:
SUMMARY:April Vacation - No School
END:VEVENT
BEGIN:VEVENT
DTSTAMP:20260425T131738Z
UID:4c054019-91c6-485e-afd3-2f010c39764c
DTSTART:20260520T090000
DTEND:20260520T110000
DESCRIPTION:
LOCATION:
SUMMARY:4th Grade Step up Day to Southside
END:VEVENT
BEGIN:VEVENT
DTSTAMP:20260425T131738Z
UID:a6edbac9-adda-4ce2-9cd1-9486b332ff72
DTSTART;VALUE=DATE:20260525
DTEND;VALUE=DATE:20260526
DESCRIPTION:
LOCATION:
SUMMARY:Memorial Day Holiday - No School
END:VEVENT
BEGIN:VEVENT
DTSTAMP:20260425T131738Z
UID:a20ba85c-8580-451b-9719-edbea48f4c5d
DTSTART:20260603T180000
DTEND:20260603T190000
DESCRIPTION:
LOCATION:
SUMMARY:HGF SPring Concert- Band\, Strings & Chorus
END:VEVENT
BEGIN:VEVENT
DTSTAMP:20260425T131738Z
UID:d7af77eb-d530-46ca-8f3f-7a1fa7017f84
DTSTART:20260613T080000
DTEND:20260613T093000
DESCRIPTION:
LOCATION:
SUMMARY:West High School Graduation
END:VEVENT
BEGIN:VEVENT
DTSTAMP:20260425T131738Z
UID:a2f6f79d-558c-4bfd-8c6f-d926f22b289d
DTSTART:20260613T100000
DTEND:20260613T110000
DESCRIPTION:
LOCATION:
SUMMARY:Memorial Graduation
END:VEVENT
BEGIN:VEVENT
DTSTAMP:20260425T131738Z
UID:4737430e-14f6-4cb2-8038-66e534da7ac6
DTSTART:20260613T121500
DTEND:20260613T131500
DESCRIPTION:
LOCATION:
SUMMARY:MST Graduation
END:VEVENT
BEGIN:VEVENT
DTSTAMP:20260425T131738Z
UID:11feedec-2765-47cf-81f4-d599d8552a2e
DTSTART:20260613T140000
DTEND:20260613T150000
DESCRIPTION:
LOCATION:
SUMMARY:Central Graduation
END:VEVENT
BEGIN:VEVENT
DTSTAMP:20260425T131738Z
UID:7f8a4867-883f-4755-887d-0218ecb1acee
DTSTART;VALUE=DATE:20260617
DTEND;VALUE=DATE:20260618
DESCRIPTION:
LOCATION:
SUMMARY:Last Day of School
END:VEVENT
BEGIN:VEVENT
DTSTAMP:20260425T131738Z
UID:55a60f8e-8681-4082-8a1c-03fd161bf308
DTSTART;VALUE=DATE:20260619
DTEND;VALUE=DATE:20260620
DESCRIPTION:
LOCATION:
SUMMARY:Juneteenth Holiday
END:VEVENT
BEGIN:VEVENT
DTSTAMP:20260425T131738Z
UID:225906c6-c20c-463d-815e-e920657f47fb
DTSTART;VALUE=DATE:20260820
DTEND;VALUE=DATE:20260821
DESCRIPTION:
LOCATION:
SUMMARY:CelebratED 2026 
END:VEVENT
BEGIN:VEVENT
DTSTAMP:20260425T131738Z
UID:b23a58d1-d699-483d-9671-f06d7be5bf2f
DTSTART;VALUE=DATE:20260827
DTEND;VALUE=DATE:20260828
DESCRIPTION:
LOCATION:
SUMMARY:Teacher Professional Learning Day
END:VEVENT
BEGIN:VEVENT
DTSTAMP:20260425T131738Z
UID:0fbdcf49-eae3-4244-981d-1528f58a70fa
DTSTART;VALUE=DATE:20260828
DTEND;VALUE=DATE:20260829
DESCRIPTION:
LOCATION:
SUMMARY:Teacher Professional Learning Day
END:VEVENT
BEGIN:VEVENT
DTSTAMP:20260425T131738Z
UID:1f8e1552-5a63-42c2-8daa-91717d5f330f
DTSTART;VALUE=DATE:20260831
DTEND;VALUE=DATE:20260901
DESCRIPTION:
LOCATION:
SUMMARY:Teacher Professional Learning Day
END:VEVENT
BEGIN:VEVENT
DTSTAMP:20260425T131738Z
UID:c9e6c3ba-ba5d-413f-84fc-9d354e5f5206
DTSTART;VALUE=DATE:20260901
DTEND;VALUE=DATE:20260902
DESCRIPTION:
LOCATION:
SUMMARY:Teacher Professional Learning Day
END:VEVENT
BEGIN:VEVENT
DTSTAMP:20260425T131738Z
UID:3ea32f68-b39a-484b-8289-2e4fd730cd7d
DTSTART;VALUE=DATE:20260902
DTEND;VALUE=DATE:20260903
DESCRIPTION:
LOCATION:
SUMMARY:Teacher Professional Learning Day
END:VEVENT
BEGIN:VEVENT
DTSTAMP:20260425T131738Z
UID:9fdd4542-0f31-4d9f-9187-7e84aaf6d939
DTSTART;VALUE=DATE:20260903
DTEND;VALUE=DATE:20260904
DESCRIPTION:
LOCATION:
SUMMARY:First Day of School (26-27 School Year) K-12 
END:VEVENT
BEGIN:VEVENT
DTSTAMP:20260425T131738Z
UID:8440e7fb-18c7-49ad-acc6-5036cf50f51f
DTSTART;VALUE=DATE:20260907
DTEND;VALUE=DATE:20260908
DESCRIPTION:
LOCATION:
SUMMARY:Labor Day - No School 
END:VEVENT
BEGIN:VEVENT
DTSTAMP:20260425T131738Z
UID:bdc1931a-7a3e-4aff-a513-7dfef4aaf2f4
DTSTART;VALUE=DATE:20260908
DTEND;VALUE=DATE:20260909
DESCRIPTION:
LOCATION:
SUMMARY:No - School - Primary Election Day 
END:VEVENT
BEGIN:VEVENT
DTSTAMP:20260425T131738Z
UID:cfc881b8-bc5b-40d0-bbbf-a47ede261d19
DTSTART;VALUE=DATE:20260908
DTEND;VALUE=DATE:20260909
DESCRIPTION:
LOCATION:
SUMMARY:Teacher Professional Learning Day
END:VEVENT
BEGIN:VEVENT
DTSTAMP:20260425T131738Z
UID:5e56258b-4973-435f-8c11-978a6f9964b5
DTSTART;VALUE=DATE:20261103
DTEND;VALUE=DATE:20261104
DESCRIPTION:
LOCATION:
SUMMARY:No School - Election Day
END:VEVENT
BEGIN:VEVENT
DTSTAMP:20260425T131738Z
UID:9680adca-675d-4b7b-9102-830b7e03cbae
DTSTART;VALUE=DATE:20261106
DTEND;VALUE=DATE:20261107
DESCRIPTION:
LOCATION:
SUMMARY:Early Release - Grades K - 4
END:VEVENT
BEGIN:VEVENT
DTSTAMP:20260425T131738Z
UID:ebc5cd8e-b53b-4f55-be3e-b63aa0444d7d
DTSTART;VALUE=DATE:20261106
DTEND;VALUE=DATE:20261107
DESCRIPTION:
LOCATION:
SUMMARY:Elementary Parent Teacher Conferences
END:VEVENT
BEGIN:VEVENT
DTSTAMP:20260425T131738Z
UID:ddc98381-9f3d-4c99-a339-91fcf589ff29
DTSTART;VALUE=DATE:20261111
DTEND;VALUE=DATE:20261112
DESCRIPTION:
LOCATION:
SUMMARY:Veterans' Day - No School
END:VEVENT
BEGIN:VEVENT
DTSTAMP:20260425T131738Z
UID:1a1b20e0-b7d7-4e70-9481-25e8b7be2324
DTSTART;VALUE=DATE:20261125
DTEND;VALUE=DATE:20261128
DESCRIPTION:
LOCATION:
SUMMARY:Thanksgiving Break - No School
END:VEVENT
BEGIN:VEVENT
DTSTAMP:20260425T131738Z
UID:16cdd638-ada1-488a-b273-6cca6b337564
DTSTART;VALUE=DATE:20261223
DTEND;VALUE=DATE:20261224
DESCRIPTION:
LOCATION:
SUMMARY:Early Release K - 4 Only 
END:VEVENT
BEGIN:VEVENT
DTSTAMP:20260425T131738Z
UID:652d34ed-a9c5-40ff-922a-26a210a1bc16
DTSTART;VALUE=DATE:20261224
DTEND;VALUE=DATE:20270102
DESCRIPTION:
LOCATION:
SUMMARY:Winter Break 
END:VEVENT
BEGIN:VEVENT
DTSTAMP:20260425T131738Z
UID:eb333820-9f53-469f-bfc6-8737945f1971
DTSTART;VALUE=DATE:20270118
DTEND;VALUE=DATE:20270119
DESCRIPTION:
LOCATION:
SUMMARY:Martin Luther King Jr Day - No School 
END:VEVENT
BEGIN:VEVENT
DTSTAMP:20260425T131738Z
UID:6c9f790b-2b54-4c5a-9b9c-c354d6739f1b
DTSTART;VALUE=DATE:20270215
DTEND;VALUE=DATE:20270216
DESCRIPTION:
LOCATION:
SUMMARY:Presidents' Day - No  School
END:VEVENT
BEGIN:VEVENT
DTSTAMP:20260425T131738Z
UID:a5d4eee9-19b8-4c5e-a54e-f487d46297a8
DTSTART;VALUE=DATE:20270222
DTEND;VALUE=DATE:20270227
DESCRIPTION:
LOCATION:
SUMMARY:February Break
END:VEVENT
BEGIN:VEVENT
DTSTAMP:20260425T131738Z
UID:36adcb01-3218-4d74-9b6a-1853e260bf5e
DTSTART;VALUE=DATE:20270315
DTEND;VALUE=DATE:20270316
DESCRIPTION:
LOCATION:
SUMMARY:No School - Professional Learning Day 
END:VEVENT
BEGIN:VEVENT
DTSTAMP:20260425T131738Z
UID:b5be9973-57a0-4851-89c1-fa5a582fd735
DTSTART;VALUE=DATE:20270426
DTEND;VALUE=DATE:20270501
DESCRIPTION:
LOCATION:
SUMMARY:April Vacation - No School
END:VEVENT
BEGIN:VEVENT
DTSTAMP:20260425T131738Z
UID:25ac2995-f04e-4185-afd3-4c6dc1cad01d
DTSTART;VALUE=DATE:20270531
DTEND;VALUE=DATE:20270601
DESCRIPTION:
LOCATION:
SUMMARY:Memorial Day - No School
END:VEVENT
BEGIN:VEVENT
DTSTAMP:20260425T131738Z
UID:9a896c82-6343-449b-b1ac-0f93360db35f
DTSTART;VALUE=DATE:20270614
DTEND;VALUE=DATE:20270615
DESCRIPTION:
LOCATION:
SUMMARY:Preschool Last Day
END:VEVENT
BEGIN:VEVENT
DTSTAMP:20260425T131738Z
UID:08e42ddd-2856-46ab-9551-53917dfb595b
DTSTART;VALUE=DATE:20270616
DTEND;VALUE=DATE:20270617
DESCRIPTION:
LOCATION:
SUMMARY:Last Day of School (26-27 School Year)
END:VEVENT
BEGIN:VEVENT
DTSTAMP:20260425T131738Z
UID:3b11af68-a55f-40b2-9950-3fb2966206f0
DTSTART;VALUE=DATE:20270617
DTEND;VALUE=DATE:20270618
DESCRIPTION:
LOCATION:
SUMMARY:Teacher Professional Learning Day
END:VEVENT
BEGIN:VEVENT
DTSTAMP:20260425T131738Z
UID:b1064ca7-c109-483e-a50b-e877502012dd
DTSTART;VALUE=DATE:20270618
DTEND;VALUE=DATE:20270619
DESCRIPTION:
LOCATION:
SUMMARY:Juneteenth Observed 
END:VEVENT
BEGIN:VEVENT
DTSTAMP:20260425T131738Z
UID:ce1062e7-86e2-4e4f-a180-55e2fc31d329
DTSTART;VALUE=DATE:20270619
DTEND;VALUE=DATE:20270620
DESCRIPTION:
LOCATION:
SUMMARY:Juneteenth Holiday
END:VEVENT
BEGIN:VEVENT
DTSTAMP:20260425T131738Z
UID:fe0d8fe5-e145-47f1-963c-3255e8581e5a
DTSTART;VALUE=DATE:20280619
DTEND;VALUE=DATE:20280620
DESCRIPTION:
LOCATION:
SUMMARY:Juneteenth Holiday
END:VEVENT
BEGIN:VEVENT
DTSTAMP:20260425T131738Z
UID:c719022c-3112-4409-abf3-191418200382
DTSTART;VALUE=DATE:20290619
DTEND;VALUE=DATE:20290620
DESCRIPTION:
LOCATION:
SUMMARY:Juneteenth Holiday
END:VEVENT
BEGIN:VEVENT
DTSTAMP:20260425T131738Z
UID:cd130462-7303-40a7-8be7-a724eb111c64
DTSTART;VALUE=DATE:20300619
DTEND;VALUE=DATE:20300620
DESCRIPTION:
LOCATION:
SUMMARY:Juneteenth Holiday
END:VEVENT
BEGIN:VEVENT
DTSTAMP:20260425T131738Z
UID:ccc1bb3e-e0a0-488a-818c-5d8f8ff8ed77
DTSTART;VALUE=DATE:20310619
DTEND;VALUE=DATE:20310620
DESCRIPTION:
LOCATION:
SUMMARY:Juneteenth Holiday
END:VEVENT
BEGIN:VEVENT
DTSTAMP:20260425T131738Z
UID:66624ab5-2834-44ac-a5f9-4333e61491c2
DTSTART;VALUE=DATE:20320619
DTEND;VALUE=DATE:20320620
DESCRIPTION:
LOCATION:
SUMMARY:Juneteenth Holiday
END:VEVENT
BEGIN:VEVENT
DTSTAMP:20260425T131738Z
UID:43978c3d-a18e-4f0d-8db3-c6d85ea12f37
DTSTART;VALUE=DATE:20330619
DTEND;VALUE=DATE:20330620
DESCRIPTION:
LOCATION:
SUMMARY:Juneteenth Holiday
END:VEVENT
BEGIN:VEVENT
DTSTAMP:20260425T131738Z
UID:07924ccd-b18f-4991-92c1-4e4c9257f80d
DTSTART;VALUE=DATE:20340619
DTEND;VALUE=DATE:20340620
DESCRIPTION:
LOCATION:
SUMMARY:Juneteenth Holiday
END:VEVENT
BEGIN:VEVENT
DTSTAMP:20260425T131738Z
UID:480f8a47-c454-445a-b445-384b46c1f031
DTSTART;VALUE=DATE:20350619
DTEND;VALUE=DATE:20350620
DESCRIPTION:
LOCATION:
SUMMARY:Juneteenth Holiday
END:VEVENT
BEGIN:VEVENT
DTSTAMP:20260425T131738Z
UID:cbdd4049-0ae9-475c-bc95-33ab66798309
DTSTART;VALUE=DATE:20360619
DTEND;VALUE=DATE:20360620
DESCRIPTION:
LOCATION:
SUMMARY:Juneteenth Holiday
END:VEVENT
BEGIN:VEVENT
DTSTAMP:20260425T131738Z
UID:b425b745-f6aa-46e7-ae2c-c21b1f63a7f2
DTSTART;VALUE=DATE:20370619
DTEND;VALUE=DATE:20370620
DESCRIPTION:
LOCATION:
SUMMARY:Juneteenth Holiday
END:VEVENT
BEGIN:VEVENT
DTSTAMP:20260425T131738Z
UID:29d7f300-7a79-4061-b013-28703fb1b21f
DTSTART;VALUE=DATE:20380619
DTEND;VALUE=DATE:20380620
DESCRIPTION:
LOCATION:
SUMMARY:Juneteenth Holiday
END:VEVENT
BEGIN:VEVENT
DTSTAMP:20260425T131738Z
UID:ea99a637-124f-4608-b5df-5a1447db40cd
DTSTART;VALUE=DATE:20390619
DTEND;VALUE=DATE:20390620
DESCRIPTION:
LOCATION:
SUMMARY:Juneteenth Holiday
END:VEVENT
BEGIN:VEVENT
DTSTAMP:20260425T131738Z
UID:bf6fbad1-eefe-474b-9dcc-c69a20307ce5
DTSTART;VALUE=DATE:20400619
DTEND;VALUE=DATE:20400620
DESCRIPTION:
LOCATION:
SUMMARY:Juneteenth Holiday
END:VEVENT
BEGIN:VEVENT
DTSTAMP:20260425T131738Z
UID:2588c92f-946c-4c3a-984d-1732de0138a0
DTSTART;VALUE=DATE:20410619
DTEND;VALUE=DATE:20410620
DESCRIPTION:
LOCATION:
SUMMARY:Juneteenth Holiday
END:VEVENT
BEGIN:VEVENT
DTSTAMP:20260425T131738Z
UID:ec10a672-e247-4c9e-90c9-de02c9ee2b7e
DTSTART;VALUE=DATE:20420619
DTEND;VALUE=DATE:20420620
DESCRIPTION:
LOCATION:
SUMMARY:Juneteenth Holiday
END:VEVENT
BEGIN:VEVENT
DTSTAMP:20260425T131738Z
UID:d73a84de-432b-489b-9137-fcb9f1b4cb87
DTSTART;VALUE=DATE:20430619
DTEND;VALUE=DATE:20430620
DESCRIPTION:
LOCATION:
SUMMARY:Juneteenth Holiday
END:VEVENT
BEGIN:VEVENT
DTSTAMP:20260425T131738Z
UID:b0c83a21-67ea-4d55-9da3-e2cc8b853835
DTSTART;VALUE=DATE:20440619
DTEND;VALUE=DATE:20440620
DESCRIPTION:
LOCATION:
SUMMARY:Juneteenth Holiday
END:VEVENT
BEGIN:VEVENT
DTSTAMP:20260425T131738Z
UID:9ff1522f-6519-4366-abb2-0b3df3ba1e11
DTSTART;VALUE=DATE:20450619
DTEND;VALUE=DATE:20450620
DESCRIPTION:
LOCATION:
SUMMARY:Juneteenth Holiday
END:VEVENT
BEGIN:VEVENT
DTSTAMP:20260425T131738Z
UID:ea77079c-5707-49ae-92bc-994e7ae50b97
DTSTART;VALUE=DATE:20460619
DTEND;VALUE=DATE:20460620
DESCRIPTION:
LOCATION:
SUMMARY:Juneteenth Holiday
END:VEVENT
BEGIN:VEVENT
DTSTAMP:20260425T131738Z
UID:967d1ba6-219f-4494-8a43-96c65784396e
DTSTART;VALUE=DATE:20470619
DTEND;VALUE=DATE:20470620
DESCRIPTION:
LOCATION:
SUMMARY:Juneteenth Holiday
END:VEVENT
BEGIN:VEVENT
DTSTAMP:20260425T131738Z
UID:9ccfb366-753e-45aa-b29b-f0a262e487d3
DTSTART;VALUE=DATE:20480619
DTEND;VALUE=DATE:20480620
DESCRIPTION:
LOCATION:
SUMMARY:Juneteenth Holiday
END:VEVENT
BEGIN:VEVENT
DTSTAMP:20260425T131738Z
UID:76b43f43-e94a-415e-a814-5ecb93fc1c21
DTSTART;VALUE=DATE:20490619
DTEND;VALUE=DATE:20490620
DESCRIPTION:
LOCATION:
SUMMARY:Juneteenth Holiday
END:VEVENT
BEGIN:VEVENT
DTSTAMP:20260425T131738Z
UID:8308de30-1719-4ae1-9a2f-8ab8f36af458
DTSTART;VALUE=DATE:20500619
DTEND;VALUE=DATE:20500620
DESCRIPTION:
LOCATION:
SUMMARY:Juneteenth Holiday
END:VEVENT
BEGIN:VEVENT
DTSTAMP:20260425T131738Z
UID:af815ab5-6c99-4129-a1ca-880732b13c72
DTSTART;VALUE=DATE:20510619
DTEND;VALUE=DATE:20510620
DESCRIPTION:
LOCATION:
SUMMARY:Juneteenth Holiday
END:VEVENT
BEGIN:VEVENT
DTSTAMP:20260425T131738Z
UID:6b81755b-953a-4757-b4ef-9274f23a7812
DTSTART;VALUE=DATE:20520619
DTEND;VALUE=DATE:20520620
DESCRIPTION:
LOCATION:
SUMMARY:Juneteenth Holiday
END:VEVENT
BEGIN:VEVENT
DTSTAMP:20260425T131738Z
UID:e789944d-5209-41bf-b942-8cdc99b1aed1
DTSTART;VALUE=DATE:20530619
DTEND;VALUE=DATE:20530620
DESCRIPTION:
LOCATION:
SUMMARY:Juneteenth Holiday
END:VEVENT
BEGIN:VEVENT
DTSTAMP:20260425T131738Z
UID:6e9f742b-123e-43a1-aae2-02da71640304
DTSTART;VALUE=DATE:20540619
DTEND;VALUE=DATE:20540620
DESCRIPTION:
LOCATION:
SUMMARY:Juneteenth Holiday
END:VEVENT
BEGIN:VEVENT
DTSTAMP:20260425T131738Z
UID:13e74b54-05db-4511-b062-22185486dc2e
DTSTART;VALUE=DATE:20550619
DTEND;VALUE=DATE:20550620
DESCRIPTION:
LOCATION:
SUMMARY:Juneteenth Holiday
END:VEVENT
BEGIN:VEVENT
DTSTAMP:20260425T131738Z
UID:816d2baa-59df-4892-a70b-5ae70e0edf46
DTSTART;VALUE=DATE:20560619
DTEND;VALUE=DATE:20560620
DESCRIPTION:
LOCATION:
SUMMARY:Juneteenth Holiday
END:VEVENT
BEGIN:VEVENT
DTSTAMP:20260425T131738Z
UID:af4e325f-79a4-4644-b8c7-a819281c14ad
DTSTART;VALUE=DATE:20570619
DTEND;VALUE=DATE:20570620
DESCRIPTION:
LOCATION:
SUMMARY:Juneteenth Holiday
END:VEVENT
BEGIN:VEVENT
DTSTAMP:20260425T131738Z
UID:c6ad0db5-d0aa-4ad4-864f-ad4e986c3f04
DTSTART;VALUE=DATE:20580619
DTEND;VALUE=DATE:20580620
DESCRIPTION:
LOCATION:
SUMMARY:Juneteenth Holiday
END:VEVENT
BEGIN:VEVENT
DTSTAMP:20260425T131738Z
UID:59bedd56-42e9-4587-9133-2001386027b1
DTSTART;VALUE=DATE:20590619
DTEND;VALUE=DATE:20590620
DESCRIPTION:
LOCATION:
SUMMARY:Juneteenth Holiday
END:VEVENT
BEGIN:VEVENT
DTSTAMP:20260425T131738Z
UID:7f726840-3e2b-4e9e-9aca-3f77f71da5f2
DTSTART;VALUE=DATE:20600619
DTEND;VALUE=DATE:20600620
DESCRIPTION:
LOCATION:
SUMMARY:Juneteenth Holiday
END:VEVENT
BEGIN:VEVENT
DTSTAMP:20260425T131738Z
UID:b42aac5c-d2df-4ab6-bb3c-585b3031aa73
DTSTART;VALUE=DATE:20610619
DTEND;VALUE=DATE:20610620
DESCRIPTION:
LOCATION:
SUMMARY:Juneteenth Holiday
END:VEVENT
BEGIN:VEVENT
DTSTAMP:20260425T131738Z
UID:155b9c4f-79b4-46b6-bcf3-a635780c835f
DTSTART;VALUE=DATE:20620619
DTEND;VALUE=DATE:20620620
DESCRIPTION:
LOCATION:
SUMMARY:Juneteenth Holiday
END:VEVENT
BEGIN:VEVENT
DTSTAMP:20260425T131738Z
UID:faf4e7e2-dbb1-494a-a219-f18965538885
DTSTART;VALUE=DATE:20630619
DTEND;VALUE=DATE:20630620
DESCRIPTION:
LOCATION:
SUMMARY:Juneteenth Holiday
END:VEVENT
BEGIN:VEVENT
DTSTAMP:20260425T131738Z
UID:51698e65-e494-4909-9b34-2f6c2ec01031
DTSTART;VALUE=DATE:20640619
DTEND;VALUE=DATE:20640620
DESCRIPTION:
LOCATION:
SUMMARY:Juneteenth Holiday
END:VEVENT
BEGIN:VEVENT
DTSTAMP:20260425T131738Z
UID:cc25c4f7-60bd-4e54-920b-51469356d1f1
DTSTART;VALUE=DATE:20650619
DTEND;VALUE=DATE:20650620
DESCRIPTION:
LOCATION:
SUMMARY:Juneteenth Holiday
END:VEVENT
BEGIN:VEVENT
DTSTAMP:20260425T131738Z
UID:2874ac26-ff86-4b39-bd83-64d272cbb8c4
DTSTART;VALUE=DATE:20660619
DTEND;VALUE=DATE:20660620
DESCRIPTION:
LOCATION:
SUMMARY:Juneteenth Holiday
END:VEVENT
BEGIN:VEVENT
DTSTAMP:20260425T131738Z
UID:e2348dfa-6644-48da-91aa-62fd939c3aad
DTSTART;VALUE=DATE:20670619
DTEND;VALUE=DATE:20670620
DESCRIPTION:
LOCATION:
SUMMARY:Juneteenth Holiday
END:VEVENT
BEGIN:VEVENT
DTSTAMP:20260425T131738Z
UID:7767def7-8887-4940-bfd5-931ef2b5cfcd
DTSTART;VALUE=DATE:20680619
DTEND;VALUE=DATE:20680620
DESCRIPTION:
LOCATION:
SUMMARY:Juneteenth Holiday
END:VEVENT
BEGIN:VEVENT
DTSTAMP:20260425T131738Z
UID:b961dc4a-06de-452f-8feb-3f8e70907fa7
DTSTART;VALUE=DATE:20690619
DTEND;VALUE=DATE:20690620
DESCRIPTION:
LOCATION:
SUMMARY:Juneteenth Holiday
END:VEVENT
BEGIN:VEVENT
DTSTAMP:20260425T131738Z
UID:23804b4b-048c-4a14-bdd0-4d1ff48d1e37
DTSTART;VALUE=DATE:20700619
DTEND;VALUE=DATE:20700620
DESCRIPTION:
LOCATION:
SUMMARY:Juneteenth Holiday
END:VEVENT
BEGIN:VEVENT
DTSTAMP:20260425T131738Z
UID:29073940-808b-42bf-8644-c49c8e4b0afb
DTSTART;VALUE=DATE:20710619
DTEND;VALUE=DATE:20710620
DESCRIPTION:
LOCATION:
SUMMARY:Juneteenth Holiday
END:VEVENT
BEGIN:VEVENT
DTSTAMP:20260425T131738Z
UID:e97eac3b-8745-40e7-b191-06a3fdbece3c
DTSTART;VALUE=DATE:20720619
DTEND;VALUE=DATE:20720620
DESCRIPTION:
LOCATION:
SUMMARY:Juneteenth Holiday
END:VEVENT
BEGIN:VEVENT
DTSTAMP:20260425T131738Z
UID:7e1b86e5-615e-4ea6-afcf-e447e445322b
DTSTART;VALUE=DATE:20730619
DTEND;VALUE=DATE:20730620
DESCRIPTION:
LOCATION:
SUMMARY:Juneteenth Holiday
END:VEVENT
BEGIN:VEVENT
DTSTAMP:20260425T131738Z
UID:95a2dbd8-761d-41a7-b53b-c3c72be6f6dd
DTSTART;VALUE=DATE:20740619
DTEND;VALUE=DATE:20740620
DESCRIPTION:
LOCATION:
SUMMARY:Juneteenth Holiday
END:VEVENT
BEGIN:VEVENT
DTSTAMP:20260425T131738Z
UID:21050c32-5d39-4e3c-8d88-f19021e652b0
DTSTART;VALUE=DATE:20750619
DTEND;VALUE=DATE:20750620
DESCRIPTION:
LOCATION:
SUMMARY:Juneteenth Holiday
END:VEVENT
BEGIN:VEVENT
DTSTAMP:20260425T131738Z
UID:5a58c891-542b-4f8b-9810-230ebc65d8df
DTSTART;VALUE=DATE:20760619
DTEND;VALUE=DATE:20760620
DESCRIPTION:
LOCATION:
SUMMARY:Juneteenth Holiday
END:VEVENT
BEGIN:VEVENT
DTSTAMP:20260425T131738Z
UID:5035c765-8ef8-40c8-9a32-eec3bd96beac
DTSTART;VALUE=DATE:20770619
DTEND;VALUE=DATE:20770620
DESCRIPTION:
LOCATION:
SUMMARY:Juneteenth Holiday
END:VEVENT
BEGIN:VEVENT
DTSTAMP:20260425T131738Z
UID:571bbaf4-f935-4445-af89-e8b5dcea4502
DTSTART;VALUE=DATE:20780619
DTEND;VALUE=DATE:20780620
DESCRIPTION:
LOCATION:
SUMMARY:Juneteenth Holiday
END:VEVENT
BEGIN:VEVENT
DTSTAMP:20260425T131738Z
UID:7fa5b027-fd5b-4dd7-9595-198fa1c4c85a
DTSTART;VALUE=DATE:20790619
DTEND;VALUE=DATE:20790620
DESCRIPTION:
LOCATION:
SUMMARY:Juneteenth Holiday
END:VEVENT
BEGIN:VEVENT
DTSTAMP:20260425T131738Z
UID:49c8e22e-44ae-43a2-b365-778cf2f164bb
DTSTART;VALUE=DATE:20800619
DTEND;VALUE=DATE:20800620
DESCRIPTION:
LOCATION:
SUMMARY:Juneteenth Holiday
END:VEVENT
BEGIN:VEVENT
DTSTAMP:20260425T131738Z
UID:d191dd69-c824-40bb-933b-ca4d7a82b009
DTSTART;VALUE=DATE:20810619
DTEND;VALUE=DATE:20810620
DESCRIPTION:
LOCATION:
SUMMARY:Juneteenth Holiday
END:VEVENT
BEGIN:VEVENT
DTSTAMP:20260425T131738Z
UID:b3e9ac73-2f77-4039-bf71-970a6418abe4
DTSTART;VALUE=DATE:20820619
DTEND;VALUE=DATE:20820620
DESCRIPTION:
LOCATION:
SUMMARY:Juneteenth Holiday
END:VEVENT
BEGIN:VEVENT
DTSTAMP:20260425T131738Z
UID:da7a7a80-81f0-4764-8ae3-8c780f3ed986
DTSTART;VALUE=DATE:20830619
DTEND;VALUE=DATE:20830620
DESCRIPTION:
LOCATION:
SUMMARY:Juneteenth Holiday
END:VEVENT
BEGIN:VEVENT
DTSTAMP:20260425T131738Z
UID:9f7f66d7-ff48-4769-af8b-0cd80702c2fc
DTSTART;VALUE=DATE:20840619
DTEND;VALUE=DATE:20840620
DESCRIPTION:
LOCATION:
SUMMARY:Juneteenth Holiday
END:VEVENT
BEGIN:VEVENT
DTSTAMP:20260425T131738Z
UID:5fcef19f-c1ca-4f7e-84b5-640b6b106888
DTSTART;VALUE=DATE:20850619
DTEND;VALUE=DATE:20850620
DESCRIPTION:
LOCATION:
SUMMARY:Juneteenth Holiday
END:VEVENT
BEGIN:VEVENT
DTSTAMP:20260425T131738Z
UID:c4f814d2-bc3b-46bd-9d83-220dd86aad0d
DTSTART;VALUE=DATE:20860619
DTEND;VALUE=DATE:20860620
DESCRIPTION:
LOCATION:
SUMMARY:Juneteenth Holiday
END:VEVENT
BEGIN:VEVENT
DTSTAMP:20260425T131738Z
UID:3fccaf8c-bd09-4594-b58a-3442ccecd695
DTSTART;VALUE=DATE:20870619
DTEND;VALUE=DATE:20870620
DESCRIPTION:
LOCATION:
SUMMARY:Juneteenth Holiday
END:VEVENT
BEGIN:VEVENT
DTSTAMP:20260425T131738Z
UID:ed9480eb-a6e2-41c4-ad2d-5734e453171c
DTSTART;VALUE=DATE:20880619
DTEND;VALUE=DATE:20880620
DESCRIPTION:
LOCATION:
SUMMARY:Juneteenth Holiday
END:VEVENT
BEGIN:VEVENT
DTSTAMP:20260425T131738Z
UID:fc725e4f-057f-4c49-b74d-b5de65092deb
DTSTART;VALUE=DATE:20890619
DTEND;VALUE=DATE:20890620
DESCRIPTION:
LOCATION:
SUMMARY:Juneteenth Holiday
END:VEVENT
BEGIN:VEVENT
DTSTAMP:20260425T131738Z
UID:4fe118ab-4271-4ba7-9c42-3389dbbeae0e
DTSTART;VALUE=DATE:20900619
DTEND;VALUE=DATE:20900620
DESCRIPTION:
LOCATION:
SUMMARY:Juneteenth Holiday
END:VEVENT
BEGIN:VEVENT
DTSTAMP:20260425T131738Z
UID:06840926-3b8f-4a17-8e0c-e126c77a1387
DTSTART;VALUE=DATE:20910619
DTEND;VALUE=DATE:20910620
DESCRIPTION:
LOCATION:
SUMMARY:Juneteenth Holiday
END:VEVENT
BEGIN:VEVENT
DTSTAMP:20260425T131738Z
UID:fb2816ec-6c0e-45dc-9291-e22aafa3fdb8
DTSTART;VALUE=DATE:20920619
DTEND;VALUE=DATE:20920620
DESCRIPTION:
LOCATION:
SUMMARY:Juneteenth Holiday
END:VEVENT
BEGIN:VEVENT
DTSTAMP:20260425T131738Z
UID:70eb1372-6759-4420-af74-e2f3e8e6f4bd
DTSTART;VALUE=DATE:20930619
DTEND;VALUE=DATE:20930620
DESCRIPTION:
LOCATION:
SUMMARY:Juneteenth Holiday
END:VEVENT
BEGIN:VEVENT
DTSTAMP:20260425T131738Z
UID:fe3105f7-59b1-4428-992b-ef5ede0e69e1
DTSTART;VALUE=DATE:20940619
DTEND;VALUE=DATE:20940620
DESCRIPTION:
LOCATION:
SUMMARY:Juneteenth Holiday
END:VEVENT
BEGIN:VEVENT
DTSTAMP:20260425T131738Z
UID:7b56fe7d-a55e-4f4d-aaae-5e30430cedc0
DTSTART;VALUE=DATE:20950619
DTEND;VALUE=DATE:20950620
DESCRIPTION:
LOCATION:
SUMMARY:Juneteenth Holiday
END:VEVENT
BEGIN:VEVENT
DTSTAMP:20260425T131738Z
UID:f4dbef17-07af-4a68-ac14-8f5294ecd899
DTSTART;VALUE=DATE:20960619
DTEND;VALUE=DATE:20960620
DESCRIPTION:
LOCATION:
SUMMARY:Juneteenth Holiday
END:VEVENT
BEGIN:VEVENT
DTSTAMP:20260425T131738Z
UID:3482b61c-b95d-4900-ae87-bbe47e6c7bb8
DTSTART;VALUE=DATE:20970619
DTEND;VALUE=DATE:20970620
DESCRIPTION:
LOCATION:
SUMMARY:Juneteenth Holiday
END:VEVENT
BEGIN:VEVENT
DTSTAMP:20260425T131738Z
UID:eb29cdf5-c98b-44bf-a9b0-ed8eb89ced06
DTSTART;VALUE=DATE:20980619
DTEND;VALUE=DATE:20980620
DESCRIPTION:
LOCATION:
SUMMARY:Juneteenth Holiday
END:VEVENT
BEGIN:VEVENT
DTSTAMP:20260425T131738Z
UID:1ccab0be-89f0-41fc-8198-62c2a363da57
DTSTART;VALUE=DATE:20990619
DTEND;VALUE=DATE:20990620
DESCRIPTION:
LOCATION:
SUMMARY:Juneteenth Holiday
END:VEVENT
END:VCALENDAR
