BEGIN:VCALENDAR
VERSION:2.0
PRODID:icalendar-ruby
CALSCALE:GREGORIAN
BEGIN:VTIMEZONE
TZID:America/New_York
BEGIN:DAYLIGHT
DTSTART:20260308T030000
TZOFFSETFROM:-0500
TZOFFSETTO:-0400
RRULE:FREQ=YEARLY;BYDAY=2SU;BYMONTH=3
TZNAME:EDT
END:DAYLIGHT
BEGIN:STANDARD
DTSTART:20261101T010000
TZOFFSETFROM:-0400
TZOFFSETTO:-0500
RRULE:FREQ=YEARLY;BYDAY=1SU;BYMONTH=11
TZNAME:EST
END:STANDARD
END:VTIMEZONE
BEGIN:VEVENT
DTSTAMP:20260425T175350Z
UID:59bde7e5-2782-42cc-b53d-b01149595ff7
DTSTART;VALUE=DATE:20260505
DTEND;VALUE=DATE:20260506
DESCRIPTION:
LOCATION:
SUMMARY:Staff Development Day (Election Day)
END:VEVENT
BEGIN:VEVENT
DTSTAMP:20260425T175350Z
UID:5a36e3d9-ead9-401e-98bb-039f53e87561
DTSTART;VALUE=DATE:20260505
DTEND;VALUE=DATE:20260506
DESCRIPTION:
LOCATION:
SUMMARY:Staff Development (Election Day)
END:VEVENT
BEGIN:VEVENT
DTSTAMP:20260425T175350Z
UID:90c51b1b-3fec-4205-b3a4-23ad1467c02a
DTSTART;VALUE=DATE:20260521
DTEND;VALUE=DATE:20260522
DESCRIPTION:
LOCATION:
SUMMARY:Clinch Graduation
END:VEVENT
BEGIN:VEVENT
DTSTAMP:20260425T175350Z
UID:d6afc834-680d-4557-b77a-1f81d1c89b23
DTSTART;VALUE=DATE:20260521
DTEND;VALUE=DATE:20260522
DESCRIPTION:
LOCATION:
SUMMARY:Clinch Graduation
END:VEVENT
BEGIN:VEVENT
DTSTAMP:20260425T175350Z
UID:2fff3281-4f69-431f-9792-0159580dfd91
DTSTART;VALUE=DATE:20260521
DTEND;VALUE=DATE:20260522
DESCRIPTION:
LOCATION:
SUMMARY:Staff Development Day - From Stockpile. No School for Students.
END:VEVENT
BEGIN:VEVENT
DTSTAMP:20260425T175350Z
UID:f636a526-b809-4a11-bf8a-5408f7e2852b
DTSTART;VALUE=DATE:20260521
DTEND;VALUE=DATE:20260522
DESCRIPTION:
LOCATION:
SUMMARY:Staff Development Day - From Stockpile. No School for Students.
END:VEVENT
BEGIN:VEVENT
DTSTAMP:20260425T175350Z
UID:4f1b2c6f-6944-47c3-b9b1-a5f253ec65f4
DTSTART;VALUE=DATE:20260522
DTEND;VALUE=DATE:20260523
DESCRIPTION:
LOCATION:
SUMMARY:Cherokee Graduation
END:VEVENT
BEGIN:VEVENT
DTSTAMP:20260425T175350Z
UID:9cecde11-9b0c-46f5-9b60-3601f555b67f
DTSTART;VALUE=DATE:20260522
DTEND;VALUE=DATE:20260523
DESCRIPTION:
LOCATION:
SUMMARY:Cherokee Graduation
END:VEVENT
BEGIN:VEVENT
DTSTAMP:20260425T175350Z
UID:afdc7e39-dd6a-4451-a9d6-e397118cdf95
DTSTART;VALUE=DATE:20260522
DTEND;VALUE=DATE:20260523
DESCRIPTION:
LOCATION:
SUMMARY:Last Day of School — Students dismissed after picking up Report C
 ards End of the 4th Nine Weeks and 2nd Semester
END:VEVENT
BEGIN:VEVENT
DTSTAMP:20260425T175350Z
UID:5f490af4-a0bd-4c4d-bbcd-33dfbae40909
DTSTART;VALUE=DATE:20260522
DTEND;VALUE=DATE:20260523
DESCRIPTION:
LOCATION:
SUMMARY:Last Day of School — Students dismissed after picking up Report C
 ards End of the 4th Nine Weeks and 2nd Semester
END:VEVENT
BEGIN:VEVENT
DTSTAMP:20260425T175350Z
UID:ae9fe4e5-9707-4456-be0b-ff0e64d03215
DTSTART;VALUE=DATE:20260523
DTEND;VALUE=DATE:20260524
DESCRIPTION:
LOCATION:
SUMMARY:VHS Graduation at 10:00
END:VEVENT
BEGIN:VEVENT
DTSTAMP:20260425T175350Z
UID:48d2762b-4e5a-4a3d-ab0f-4b9f422519bd
DTSTART;VALUE=DATE:20260523
DTEND;VALUE=DATE:20260524
DESCRIPTION:
LOCATION:
SUMMARY:VHS Graduation at 10:00
END:VEVENT
BEGIN:VEVENT
DTSTAMP:20260425T175350Z
UID:c9b3eb53-eabb-4a4e-8283-64dd5fd98493
DTSTART;VALUE=DATE:20260710
DTEND;VALUE=DATE:20260711
DESCRIPTION:
LOCATION:
SUMMARY:Principals and High School Counselors Return
END:VEVENT
BEGIN:VEVENT
DTSTAMP:20260425T175350Z
UID:92a4c890-7e22-4cee-bcf4-092b999a8d83
DTSTART;VALUE=DATE:20260724
DTEND;VALUE=DATE:20260725
DESCRIPTION:
LOCATION:
SUMMARY:Required In-Service for Teachers
END:VEVENT
BEGIN:VEVENT
DTSTAMP:20260425T175350Z
UID:bf9d63b1-d847-4dd5-8324-c232eba10c1d
DTSTART;VALUE=DATE:20260727
DTEND;VALUE=DATE:20260728
DESCRIPTION:
LOCATION:
SUMMARY:Required In-Service for Teachers
END:VEVENT
BEGIN:VEVENT
DTSTAMP:20260425T175350Z
UID:4c9e6728-31fc-4f76-97b8-f4b6b715ac44
DTSTART;VALUE=DATE:20260728
DTEND;VALUE=DATE:20260729
DESCRIPTION:
LOCATION:
SUMMARY:Required In-Service for Teachers
END:VEVENT
BEGIN:VEVENT
DTSTAMP:20260425T175350Z
UID:040b58bd-f5af-4f84-8387-b2034a249daf
DTSTART;VALUE=DATE:20260729
DTEND;VALUE=DATE:20260730
DESCRIPTION:
LOCATION:
SUMMARY:Required In-Service for Teachers
END:VEVENT
BEGIN:VEVENT
DTSTAMP:20260425T175350Z
UID:df2191be-46d4-4d0a-b142-7a10eb0b7920
DTSTART;VALUE=DATE:20260730
DTEND;VALUE=DATE:20260731
DESCRIPTION:
LOCATION:
SUMMARY:Required In-Service for Teachers and Educational Assistants
END:VEVENT
BEGIN:VEVENT
DTSTAMP:20260425T175350Z
UID:16b97335-902a-43ec-8440-d722a7f828a8
DTSTART;VALUE=DATE:20260731
DTEND;VALUE=DATE:20260801
DESCRIPTION:
LOCATION:
SUMMARY:Required In-Service for Teachers and Educational Assistants
END:VEVENT
BEGIN:VEVENT
DTSTAMP:20260425T175350Z
UID:374bfb74-237a-47f8-9595-30cfb134c059
DTSTART;VALUE=DATE:20260801
DTEND;VALUE=DATE:20260802
DESCRIPTION:
LOCATION:
SUMMARY:Required In-Service for Teachers No School for Students
END:VEVENT
BEGIN:VEVENT
DTSTAMP:20260425T175350Z
UID:00780ee7-1e0a-42ab-8f23-09d1074ede01
DTSTART:20260803T080000
DTEND:20260803T113000
DESCRIPTION:
LOCATION:
SUMMARY:First Day for Students - Early Dismissal @ 11:30
END:VEVENT
BEGIN:VEVENT
DTSTAMP:20260425T175350Z
UID:c1ced23f-e522-4d00-a6b1-e0a15dd12583
DTSTART;VALUE=DATE:20260806
DTEND;VALUE=DATE:20260807
DESCRIPTION:
LOCATION:
SUMMARY:Required In-Service for Teachers\, No School for Students
END:VEVENT
BEGIN:VEVENT
DTSTAMP:20260425T175350Z
UID:fa882011-f52a-4372-95bd-b7b33d1a3b17
DTSTART;VALUE=DATE:20260903
DTEND;VALUE=DATE:20260904
DESCRIPTION:
LOCATION:
SUMMARY:1st Progress Report
END:VEVENT
BEGIN:VEVENT
DTSTAMP:20260425T175350Z
UID:389f3b77-e82e-4705-acc7-561b81fff906
DTSTART;VALUE=DATE:20260907
DTEND;VALUE=DATE:20260908
DESCRIPTION:
LOCATION:
SUMMARY:No School: Labor Day
END:VEVENT
BEGIN:VEVENT
DTSTAMP:20260425T175350Z
UID:64fcc777-5d97-4430-9f4a-e2169bb2465a
DTSTART;VALUE=DATE:20260921
DTEND;VALUE=DATE:20260922
DESCRIPTION:
LOCATION:
SUMMARY:High School Parent Teacher Conferences Scheduled by the School
END:VEVENT
BEGIN:VEVENT
DTSTAMP:20260425T175350Z
UID:e0bbcc99-363e-4e96-8ede-592deedc6c21
DTSTART;VALUE=DATE:20260922
DTEND;VALUE=DATE:20260923
DESCRIPTION:
LOCATION:
SUMMARY:High School Parent Teacher Conferences Scheduled by the School
END:VEVENT
BEGIN:VEVENT
DTSTAMP:20260425T175350Z
UID:e0ce8336-c005-4b95-8cb5-965a18c4cce8
DTSTART;VALUE=DATE:20260923
DTEND;VALUE=DATE:20260924
DESCRIPTION:
LOCATION:
SUMMARY:High School Parent Teacher Conferences Scheduled by the School
END:VEVENT
BEGIN:VEVENT
DTSTAMP:20260425T175350Z
UID:5aac1c5f-1bbe-41cc-8569-6b32950280af
DTSTART;VALUE=DATE:20260924
DTEND;VALUE=DATE:20260925
DESCRIPTION:
LOCATION:
SUMMARY:High School Parent Teacher Conferences Scheduled by the School
END:VEVENT
BEGIN:VEVENT
DTSTAMP:20260425T175350Z
UID:b9b3c4e4-366f-4668-aa10-a41a1e738c06
DTSTART;VALUE=DATE:20260925
DTEND;VALUE=DATE:20260926
DESCRIPTION:
LOCATION:
SUMMARY:High School Parent Teacher Conferences Scheduled by the School
END:VEVENT
BEGIN:VEVENT
DTSTAMP:20260425T175350Z
UID:d05b014c-597a-46af-b4e0-7644c0bc7583
DTSTART;VALUE=DATE:20261005
DTEND;VALUE=DATE:20261010
DESCRIPTION:
LOCATION:
SUMMARY:Fall Break
END:VEVENT
BEGIN:VEVENT
DTSTAMP:20260425T175350Z
UID:86ef5673-f0d8-4fd4-aefa-699c9ab18b8d
DTSTART;VALUE=DATE:20261016
DTEND;VALUE=DATE:20261017
DESCRIPTION:
LOCATION:
SUMMARY:1st Report Card
END:VEVENT
BEGIN:VEVENT
DTSTAMP:20260425T175350Z
UID:095ef888-d0f4-4f43-bddd-aeff2b6d2bb5
DTSTART;VALUE=DATE:20261019
DTEND;VALUE=DATE:20261024
DESCRIPTION:
LOCATION:
SUMMARY:Elementary and Middle Parent Conferences Scheduled by the Schools
END:VEVENT
BEGIN:VEVENT
DTSTAMP:20260425T175350Z
UID:73abfe55-accf-4d17-9501-c09ac1962ab1
DTSTART;VALUE=DATE:20261103
DTEND;VALUE=DATE:20261104
DESCRIPTION:
LOCATION:
SUMMARY:Required In-Serv ice for Teachers\, no school for students
END:VEVENT
BEGIN:VEVENT
DTSTAMP:20260425T175350Z
UID:8309d258-0121-4c79-8bdf-ef093d976a0a
DTSTART;VALUE=DATE:20261112
DTEND;VALUE=DATE:20261113
DESCRIPTION:
LOCATION:
SUMMARY:2nd Progress Report
END:VEVENT
BEGIN:VEVENT
DTSTAMP:20260425T175350Z
UID:e11db46c-b1d3-40b9-9433-dde81721d548
DTSTART;VALUE=DATE:20261125
DTEND;VALUE=DATE:20261128
DESCRIPTION:
LOCATION:
SUMMARY:Thanksgiving Break
END:VEVENT
BEGIN:VEVENT
DTSTAMP:20260425T175350Z
UID:dc80b07e-efc1-41c6-8d4d-29aaf73c2414
DTSTART:20261218T080000
DTEND:20261218T113000
DESCRIPTION:
LOCATION:
SUMMARY:Early Dismissal  11:30
END:VEVENT
BEGIN:VEVENT
DTSTAMP:20260425T175350Z
UID:aaa004b4-621c-40c6-afeb-72b4937c5599
DTSTART;VALUE=DATE:20261221
DTEND;VALUE=DATE:20270104
DESCRIPTION:
LOCATION:
SUMMARY:Christmas Break
END:VEVENT
BEGIN:VEVENT
DTSTAMP:20260425T175350Z
UID:06fac03a-eb4a-46a6-88af-85d6ad65de86
DTSTART;VALUE=DATE:20270104
DTEND;VALUE=DATE:20270105
DESCRIPTION:
LOCATION:
SUMMARY:Required In-Service for Teachers\;  No students
END:VEVENT
BEGIN:VEVENT
DTSTAMP:20260425T175350Z
UID:2f1ad8fc-1d2b-4209-86ed-7428b00e4228
DTSTART;VALUE=DATE:20270105
DTEND;VALUE=DATE:20270106
DESCRIPTION:
LOCATION:
SUMMARY:Classes Resume for Students
END:VEVENT
BEGIN:VEVENT
DTSTAMP:20260425T175350Z
UID:1c18b030-2c8f-496a-a7ba-c4fb666b9acc
DTSTART;VALUE=DATE:20270111
DTEND;VALUE=DATE:20270112
DESCRIPTION:
LOCATION:
SUMMARY:2nd Report Card
END:VEVENT
BEGIN:VEVENT
DTSTAMP:20260425T175350Z
UID:2901d4de-1620-427e-bf45-d5d1d2b49409
DTSTART;VALUE=DATE:20270118
DTEND;VALUE=DATE:20270119
DESCRIPTION:
LOCATION:
SUMMARY:No School: Martin Luther King Jr. Day
END:VEVENT
BEGIN:VEVENT
DTSTAMP:20260425T175350Z
UID:82548fbd-e5fd-440a-9b7e-237a852fb207
DTSTART;VALUE=DATE:20270204
DTEND;VALUE=DATE:20270205
DESCRIPTION:
LOCATION:
SUMMARY:3rd Progress Report
END:VEVENT
BEGIN:VEVENT
DTSTAMP:20260425T175350Z
UID:a75465e5-d31c-46e9-815c-7d57d7a26433
DTSTART;VALUE=DATE:20270208
DTEND;VALUE=DATE:20270213
DESCRIPTION:
LOCATION:
SUMMARY:All Schools Parent Conferences\; scheduled by the schools
END:VEVENT
BEGIN:VEVENT
DTSTAMP:20260425T175350Z
UID:7bf4448c-49e4-47e4-9e77-e8056782a7f3
DTSTART;VALUE=DATE:20270215
DTEND;VALUE=DATE:20270216
DESCRIPTION:
LOCATION:
SUMMARY:President's Day (No School)
END:VEVENT
BEGIN:VEVENT
DTSTAMP:20260425T175350Z
UID:69323379-9756-4a58-a5dc-cb30f560a02a
DTSTART;VALUE=DATE:20270216
DTEND;VALUE=DATE:20270217
DESCRIPTION:
LOCATION:
SUMMARY:Staff Development Day: No students
END:VEVENT
BEGIN:VEVENT
DTSTAMP:20260425T175350Z
UID:28893338-cafe-451e-866b-5e4967cd3dce
DTSTART;VALUE=DATE:20270315
DTEND;VALUE=DATE:20270320
DESCRIPTION:
LOCATION:
SUMMARY:Spring Break
END:VEVENT
BEGIN:VEVENT
DTSTAMP:20260425T175350Z
UID:b7570791-38d3-4b77-bdde-e1f9de4ad061
DTSTART;VALUE=DATE:20270326
DTEND;VALUE=DATE:20270327
DESCRIPTION:
LOCATION:
SUMMARY:Good Friday Holiday
END:VEVENT
BEGIN:VEVENT
DTSTAMP:20260425T175350Z
UID:930d5513-422e-4677-9c24-b781eb8ca818
DTSTART;VALUE=DATE:20270423
DTEND;VALUE=DATE:20270424
DESCRIPTION:
LOCATION:
SUMMARY:Final Progress Report
END:VEVENT
BEGIN:VEVENT
DTSTAMP:20260425T175350Z
UID:a960cf29-4aaf-42bf-9c2e-86555ff215f7
DTSTART;VALUE=DATE:20270520
DTEND;VALUE=DATE:20270521
DESCRIPTION:
LOCATION:
SUMMARY:Clinch Graduation 
END:VEVENT
BEGIN:VEVENT
DTSTAMP:20260425T175350Z
UID:ade7f874-5673-4ed8-b52e-c98495cd04c3
DTSTART;VALUE=DATE:20270520
DTEND;VALUE=DATE:20270521
DESCRIPTION:
LOCATION:
SUMMARY:Staff Development Day for all Staff
END:VEVENT
BEGIN:VEVENT
DTSTAMP:20260425T175350Z
UID:5c06a758-3206-471c-811e-c3a3f8732bb6
DTSTART;VALUE=DATE:20270521
DTEND;VALUE=DATE:20270522
DESCRIPTION:
LOCATION:
SUMMARY:Cherokee Graduation
END:VEVENT
BEGIN:VEVENT
DTSTAMP:20260425T175350Z
UID:af15e0a8-8f3b-418f-a4ea-90599c43a0a0
DTSTART;VALUE=DATE:20270521
DTEND;VALUE=DATE:20270522
DESCRIPTION:
LOCATION:
SUMMARY:Report Card Pick-up/Last day of school
END:VEVENT
BEGIN:VEVENT
DTSTAMP:20260425T175350Z
UID:27f3f070-5adb-46cc-a071-9d839f009c85
DTSTART;VALUE=DATE:20270522
DTEND;VALUE=DATE:20270523
DESCRIPTION:
LOCATION:
SUMMARY:Volunteer Graduation
END:VEVENT
END:VCALENDAR
