BEGIN:VCALENDAR
VERSION:2.0
PRODID:icalendar-ruby
CALSCALE:GREGORIAN
BEGIN:VTIMEZONE
TZID:America/New_York
BEGIN:DAYLIGHT
DTSTART:20260308T030000
TZOFFSETFROM:-0500
TZOFFSETTO:-0400
RRULE:FREQ=YEARLY;BYDAY=2SU;BYMONTH=3
TZNAME:EDT
END:DAYLIGHT
BEGIN:STANDARD
DTSTART:20261101T010000
TZOFFSETFROM:-0400
TZOFFSETTO:-0500
RRULE:FREQ=YEARLY;BYDAY=1SU;BYMONTH=11
TZNAME:EST
END:STANDARD
END:VTIMEZONE
BEGIN:VEVENT
DTSTAMP:20260425T233459Z
UID:edfc9f79-48e6-43d9-b178-c664c6168707
DTSTART:20260425T080000
DTEND:20260425T090000
DESCRIPTION:
LOCATION:1 Tribe Way\, Kingsport\, TN 37664\, USA
SUMMARY:Baseball @ DB (V)
END:VEVENT
BEGIN:VEVENT
DTSTAMP:20260425T233459Z
UID:8d59a511-5715-4335-ad16-f58bbd152482
DTSTART:20260427T150000
DTEND:20260427T170000
DESCRIPTION:
LOCATION:
SUMMARY:Credit Recovery
END:VEVENT
BEGIN:VEVENT
DTSTAMP:20260425T233459Z
UID:9ec532a6-5d52-4cef-b075-9addf3aa033e
DTSTART:20260427T173000
DTEND:20260427T183000
DESCRIPTION:
LOCATION:
SUMMARY:Softball @ Sullivan East
END:VEVENT
BEGIN:VEVENT
DTSTAMP:20260425T233459Z
UID:af9936c3-bb4e-432e-96eb-1888dc5dd40f
DTSTART;VALUE=DATE:20260428
DTEND;VALUE=DATE:20260501
DESCRIPTION:
LOCATION:
SUMMARY:Algebra 1\, Algebra 2\, & Geometry EOC Testing
END:VEVENT
BEGIN:VEVENT
DTSTAMP:20260425T233459Z
UID:d8e87c66-2626-42ad-81ea-8dedfbe60169
DTSTART;VALUE=DATE:20260428
DTEND;VALUE=DATE:20260429
DESCRIPTION:
LOCATION:210 Tusculum Blvd\, Greeneville\, TN 37745\, USA
SUMMARY:Twin Lakes Conference Track Meet
END:VEVENT
BEGIN:VEVENT
DTSTAMP:20260425T233459Z
UID:f9ac34ba-a3d3-4a81-b534-899a27b7ba51
DTSTART:20260428T150000
DTEND:20260428T170000
DESCRIPTION:
LOCATION:
SUMMARY:Credit Recovery
END:VEVENT
BEGIN:VEVENT
DTSTAMP:20260425T233459Z
UID:8ad45872-3c9b-4ef4-a754-1666dab2e9b3
DTSTART:20260428T173000
DTEND:20260428T183000
DESCRIPTION:
LOCATION:
SUMMARY:Softball vs University High (home)
END:VEVENT
BEGIN:VEVENT
DTSTAMP:20260425T233459Z
UID:7a20a258-c290-436c-90cf-fdfefb61a47b
DTSTART:20260428T180000
DTEND:20260428T190000
DESCRIPTION:
LOCATION:
SUMMARY:Boys soccer @ Grainger
END:VEVENT
BEGIN:VEVENT
DTSTAMP:20260425T233459Z
UID:531dd1f4-b0fe-4539-88e6-7f2321e77672
DTSTART;VALUE=DATE:20260429
DTEND;VALUE=DATE:20260503
DESCRIPTION:
LOCATION:
SUMMARY:Baseball Conference Tournament
END:VEVENT
BEGIN:VEVENT
DTSTAMP:20260425T233459Z
UID:89175a49-b7c0-48d6-965e-b089dd8e3463
DTSTART:20260429T071500
DTEND:20260429T074500
DESCRIPTION:
LOCATION:
SUMMARY:First Priority
END:VEVENT
BEGIN:VEVENT
DTSTAMP:20260425T233459Z
UID:22242085-16b9-4f92-b2e0-f6dcdf8a406d
DTSTART:20260429T150000
DTEND:20260429T170000
DESCRIPTION:
LOCATION:
SUMMARY:Credit Recovery
END:VEVENT
BEGIN:VEVENT
DTSTAMP:20260425T233459Z
UID:e1258340-a6ce-4a12-bb55-16ad88adaf62
DTSTART;VALUE=DATE:20260430
DTEND;VALUE=DATE:20260501
DESCRIPTION:
LOCATION:
SUMMARY:SDC Precalculus Testing
END:VEVENT
BEGIN:VEVENT
DTSTAMP:20260425T233459Z
UID:4f3439c2-1721-4402-883e-1aa149fb03cf
DTSTART:20260430T080000
DTEND:20260430T100000
DESCRIPTION:
LOCATION:
SUMMARY:Stars Vanderbilt
END:VEVENT
BEGIN:VEVENT
DTSTAMP:20260425T233459Z
UID:64ec17a2-adc1-4105-8df4-48beb6ff9074
DTSTART:20260430T150000
DTEND:20260430T170000
DESCRIPTION:
LOCATION:
SUMMARY:Credit Recovery
END:VEVENT
BEGIN:VEVENT
DTSTAMP:20260425T233459Z
UID:24a5900e-fac0-414b-9dc9-d07dbbb16762
DTSTART:20260430T173000
DTEND:20260430T183000
DESCRIPTION:
LOCATION:115 W Dumplin Valley Rd\, Dandridge\, TN 37725\, USA
SUMMARY:Softball @ JeffCo
END:VEVENT
BEGIN:VEVENT
DTSTAMP:20260425T233459Z
UID:4dbd99d0-d167-4857-8e48-d184b052757b
DTSTART;VALUE=DATE:20260501
DTEND;VALUE=DATE:20260502
DESCRIPTION:
LOCATION:2927 TN-66\, Rogersville\, TN 37857\, USA
SUMMARY:TMSAA Class A Section 1 Track Meet
END:VEVENT
BEGIN:VEVENT
DTSTAMP:20260425T233459Z
UID:ae84271b-c48f-4427-966f-02743d789ea8
DTSTART:20260501T160000
DTEND:20260501T190000
DESCRIPTION:
LOCATION:
SUMMARY:TMSAA Section 1A Track Meet
END:VEVENT
BEGIN:VEVENT
DTSTAMP:20260425T233459Z
UID:d619269e-5d6c-4fee-adbf-dd2700f60c73
DTSTART;VALUE=DATE:20260502
DTEND;VALUE=DATE:20260503
DESCRIPTION:
LOCATION:2927 TN-66\, Rogersville\, TN 37857\, USA
SUMMARY:TMSAA Class AA Region 1 Track Meet
END:VEVENT
BEGIN:VEVENT
DTSTAMP:20260425T233459Z
UID:e6ea975c-7eb9-4802-bf36-260cf6db8152
DTSTART:20260502T100000
DTEND:20260502T130000
DESCRIPTION:
LOCATION:
SUMMARY:TMSAA Region 1 AA Track Meet
END:VEVENT
BEGIN:VEVENT
DTSTAMP:20260425T233459Z
UID:d45e2433-84a2-4b27-a6d5-82d476a78769
DTSTART;VALUE=DATE:20260504
DTEND;VALUE=DATE:20260505
DESCRIPTION:
LOCATION:2201 US-11W\, Rutledge\, TN 37861\, USA
SUMMARY:Softball District Tournament
END:VEVENT
BEGIN:VEVENT
DTSTAMP:20260425T233459Z
UID:66666846-8b2a-47ec-89f8-a7b1274066c6
DTSTART:20260504T080000
DTEND:20260504T110000
DESCRIPTION:
LOCATION:
SUMMARY:AP Biology Exam
END:VEVENT
BEGIN:VEVENT
DTSTAMP:20260425T233459Z
UID:8d290915-7f52-499e-86fe-c7fc73f27717
DTSTART:20260504T150000
DTEND:20260504T170000
DESCRIPTION:
LOCATION:
SUMMARY:Credit Recovery
END:VEVENT
BEGIN:VEVENT
DTSTAMP:20260425T233459Z
UID:a1e0a6e4-e9cc-45d8-b96c-c89e7ee08519
DTSTART;VALUE=DATE:20260505
DTEND;VALUE=DATE:20260506
DESCRIPTION:
LOCATION:
SUMMARY:Staff Development Day (Election Day)
END:VEVENT
BEGIN:VEVENT
DTSTAMP:20260425T233459Z
UID:3cf55b88-d158-42c1-9fb9-3633fe0ab15f
DTSTART;VALUE=DATE:20260505
DTEND;VALUE=DATE:20260506
DESCRIPTION:
LOCATION:
SUMMARY:Staff Development Day (Election Day)
END:VEVENT
BEGIN:VEVENT
DTSTAMP:20260425T233459Z
UID:23a1b94a-94b2-4ad6-b209-c23f7100e5bd
DTSTART:20260505T150000
DTEND:20260505T170000
DESCRIPTION:
LOCATION:
SUMMARY:Credit Recovery
END:VEVENT
BEGIN:VEVENT
DTSTAMP:20260425T233459Z
UID:286c2315-7964-43fe-bc64-649608041523
DTSTART;VALUE=DATE:20260506
DTEND;VALUE=DATE:20260507
DESCRIPTION:
LOCATION:
SUMMARY:Biology EOC Testing
END:VEVENT
BEGIN:VEVENT
DTSTAMP:20260425T233459Z
UID:9dbcfdf0-fb59-4f1d-bab9-e82e57e2536b
DTSTART:20260506T071500
DTEND:20260506T074500
DESCRIPTION:
LOCATION:
SUMMARY:First Priority
END:VEVENT
BEGIN:VEVENT
DTSTAMP:20260425T233459Z
UID:ae53ff1f-6e5f-4e17-968e-8e57a35fa85d
DTSTART:20260506T080000
DTEND:20260506T110000
DESCRIPTION:
LOCATION:
SUMMARY:AP English Lit Exam
END:VEVENT
BEGIN:VEVENT
DTSTAMP:20260425T233459Z
UID:c112aefd-dd31-4c98-8404-b70da81c07c5
DTSTART:20260506T150000
DTEND:20260506T170000
DESCRIPTION:
LOCATION:
SUMMARY:Credit Recovery
END:VEVENT
BEGIN:VEVENT
DTSTAMP:20260425T233459Z
UID:d0f8f05d-e446-4cbd-b8c7-ea3cc354c602
DTSTART;VALUE=DATE:20260507
DTEND;VALUE=DATE:20260508
DESCRIPTION:
LOCATION:
SUMMARY:TSSAA Sectional Track Meet
END:VEVENT
BEGIN:VEVENT
DTSTAMP:20260425T233459Z
UID:eb70f18f-6f5a-45f3-a0fc-de34399755ff
DTSTART:20260507T091500
DTEND:20260507T100000
DESCRIPTION:
LOCATION:
SUMMARY:Senior Signing Day
END:VEVENT
BEGIN:VEVENT
DTSTAMP:20260425T233459Z
UID:7f820e3e-f9e5-4ea5-9958-2500a90b4ba6
DTSTART:20260507T150000
DTEND:20260507T170000
DESCRIPTION:
LOCATION:
SUMMARY:Credit Recovery
END:VEVENT
BEGIN:VEVENT
DTSTAMP:20260425T233459Z
UID:d1628161-89dd-4593-9a00-562466d69c5f
DTSTART:20260507T170000
DTEND:20260507T180000
DESCRIPTION:
LOCATION:
SUMMARY:Spring Band Concert
END:VEVENT
BEGIN:VEVENT
DTSTAMP:20260425T233459Z
UID:a3e26710-8896-4322-af16-f1019fbe9ec9
DTSTART:20260508T080000
DTEND:20260508T110000
DESCRIPTION:
LOCATION:
SUMMARY:AP US History Exam
END:VEVENT
BEGIN:VEVENT
DTSTAMP:20260425T233459Z
UID:f540be71-cd69-48be-a255-58732bbb94a6
DTSTART:20260511T080000
DTEND:20260511T110000
DESCRIPTION:
LOCATION:
SUMMARY:AP Calculus Exam
END:VEVENT
BEGIN:VEVENT
DTSTAMP:20260425T233459Z
UID:07daeea0-1877-436f-b84c-1355252316b6
DTSTART:20260511T120000
DTEND:20260511T150000
DESCRIPTION:
LOCATION:
SUMMARY:AP Seminar Exam
END:VEVENT
BEGIN:VEVENT
DTSTAMP:20260425T233459Z
UID:adac33e6-7080-4fc2-ade3-c3ead2d49fbf
DTSTART:20260511T150000
DTEND:20260511T170000
DESCRIPTION:
LOCATION:
SUMMARY:Credit Recovery
END:VEVENT
BEGIN:VEVENT
DTSTAMP:20260425T233459Z
UID:8b69d143-e045-4112-8b4c-c8451bd425d6
DTSTART:20260512T080000
DTEND:20260512T110000
DESCRIPTION:
LOCATION:
SUMMARY:AP Precalculus Exam
END:VEVENT
BEGIN:VEVENT
DTSTAMP:20260425T233459Z
UID:f61d4452-b3e9-4692-a2fe-248febb338e3
DTSTART:20260512T120000
DTEND:20260512T150000
DESCRIPTION:
LOCATION:
SUMMARY:AP Psychology Exam
END:VEVENT
BEGIN:VEVENT
DTSTAMP:20260425T233459Z
UID:8f50fe2c-6971-40f1-84c0-549a30bd5e5c
DTSTART:20260512T130000
DTEND:20260512T143000
DESCRIPTION:
LOCATION:
SUMMARY:Underclass Awards
END:VEVENT
BEGIN:VEVENT
DTSTAMP:20260425T233459Z
UID:f401e1ae-4793-4c7a-9c5e-919fdc4fcc3c
DTSTART:20260512T150000
DTEND:20260512T170000
DESCRIPTION:
LOCATION:
SUMMARY:Credit Recovery
END:VEVENT
BEGIN:VEVENT
DTSTAMP:20260425T233459Z
UID:3b0cf03f-99b9-4841-a163-34bfbc8edada
DTSTART;VALUE=DATE:20260513
DTEND;VALUE=DATE:20260515
DESCRIPTION:
LOCATION:Knoxville\, TN 37996\, USA
SUMMARY:Track State Championship Decathlon/Pentathlon Meet
END:VEVENT
BEGIN:VEVENT
DTSTAMP:20260425T233459Z
UID:1ab8872c-da04-438c-a6d7-53f816943530
DTSTART:20260513T071500
DTEND:20260513T074500
DESCRIPTION:
LOCATION:
SUMMARY:First Priority
END:VEVENT
BEGIN:VEVENT
DTSTAMP:20260425T233459Z
UID:2b89d602-4adc-4f5a-89e1-72d592447810
DTSTART:20260513T080000
DTEND:20260513T113000
DESCRIPTION:
LOCATION:
SUMMARY:AP English Language Exam
END:VEVENT
BEGIN:VEVENT
DTSTAMP:20260425T233459Z
UID:3d44e8a7-f892-4f71-b535-cd43322af951
DTSTART:20260513T150000
DTEND:20260513T170000
DESCRIPTION:
LOCATION:
SUMMARY:Credit Recovery
END:VEVENT
BEGIN:VEVENT
DTSTAMP:20260425T233459Z
UID:38e187f4-acc4-46af-ba00-07387868fb29
DTSTART;VALUE=DATE:20260514
DTEND;VALUE=DATE:20260515
DESCRIPTION:
LOCATION:
SUMMARY:MOBUCK DAY
END:VEVENT
BEGIN:VEVENT
DTSTAMP:20260425T233459Z
UID:acb6f22e-d95b-4a2c-be90-93af8dec332d
DTSTART:20260514T120000
DTEND:20260514T150000
DESCRIPTION:
LOCATION:
SUMMARY:AP Comp Sci Principles Exam
END:VEVENT
BEGIN:VEVENT
DTSTAMP:20260425T233459Z
UID:a19935ab-9810-46b1-b6f5-f98a06c776d4
DTSTART:20260514T150000
DTEND:20260514T170000
DESCRIPTION:
LOCATION:
SUMMARY:Credit Recovery
END:VEVENT
BEGIN:VEVENT
DTSTAMP:20260425T233459Z
UID:92cdc076-cab4-472b-886d-47c44ebbbff7
DTSTART;VALUE=DATE:20260515
DTEND;VALUE=DATE:20260516
DESCRIPTION:
LOCATION:
SUMMARY:Senior Walk/Senior Day of Play
END:VEVENT
BEGIN:VEVENT
DTSTAMP:20260425T233459Z
UID:5d5a3770-b515-4e3c-a31f-be37fbae4ef4
DTSTART:20260515T180000
DTEND:20260515T200000
DESCRIPTION:
LOCATION:
SUMMARY:Senior Awards Night
END:VEVENT
BEGIN:VEVENT
DTSTAMP:20260425T233459Z
UID:6726d856-f848-4074-953c-61f2993795a7
DTSTART:20260516T180000
DTEND:20260516T193000
DESCRIPTION:
LOCATION:
SUMMARY:Band Banquet
END:VEVENT
BEGIN:VEVENT
DTSTAMP:20260425T233459Z
UID:c6525a71-5e20-4625-bfc7-60f19afb1075
DTSTART;VALUE=DATE:20260518
DTEND;VALUE=DATE:20260521
DESCRIPTION:
LOCATION:
SUMMARY:Chromebook Collection
END:VEVENT
BEGIN:VEVENT
DTSTAMP:20260425T233459Z
UID:ed7e9c75-ce35-4e8a-80bb-c06a95c9a987
DTSTART:20260518T120000
DTEND:20260518T153000
DESCRIPTION:
LOCATION:
SUMMARY:AP CompSci Principles Exam
END:VEVENT
BEGIN:VEVENT
DTSTAMP:20260425T233459Z
UID:fe3b66db-73de-4184-84fe-93ef5d8457d0
DTSTART:20260518T120000
DTEND:20260518T150000
DESCRIPTION:
LOCATION:
SUMMARY:AP Human Geography Exam
END:VEVENT
BEGIN:VEVENT
DTSTAMP:20260425T233459Z
UID:3bc075c4-c8f6-4264-814c-e49c265b6400
DTSTART:20260518T150000
DTEND:20260518T170000
DESCRIPTION:
LOCATION:
SUMMARY:Credit Recovery
END:VEVENT
BEGIN:VEVENT
DTSTAMP:20260425T233459Z
UID:7b76e098-77c3-4619-ad03-83b1b31ba9a5
DTSTART;VALUE=DATE:20260519
DTEND;VALUE=DATE:20260520
DESCRIPTION:
LOCATION:
SUMMARY:Semester Exams (1st\, 2nd\, & 3rd period)
END:VEVENT
BEGIN:VEVENT
DTSTAMP:20260425T233459Z
UID:da374987-ab6c-4c32-a7a1-018f3419797b
DTSTART;VALUE=DATE:20260519
DTEND;VALUE=DATE:20260520
DESCRIPTION:
LOCATION:Knoxville\, TN 37996\, USA
SUMMARY:Track State Championship Meet
END:VEVENT
BEGIN:VEVENT
DTSTAMP:20260425T233459Z
UID:dc643139-596f-4583-a767-b34504c05fe9
DTSTART:20260519T080000
DTEND:20260519T110000
DESCRIPTION:
LOCATION:
SUMMARY:AP Govt Exam
END:VEVENT
BEGIN:VEVENT
DTSTAMP:20260425T233459Z
UID:0f8da4d9-8b14-4d54-b2a9-aceee4630bcb
DTSTART:20260519T113000
DTEND:20260519T150000
DESCRIPTION:
LOCATION:
SUMMARY:Semester Exams for 4th & 5th period
END:VEVENT
BEGIN:VEVENT
DTSTAMP:20260425T233459Z
UID:1af8affc-137c-4d56-b32b-a7c5ebd989a6
DTSTART:20260519T150000
DTEND:20260519T170000
DESCRIPTION:
LOCATION:
SUMMARY:Credit Recovery
END:VEVENT
BEGIN:VEVENT
DTSTAMP:20260425T233459Z
UID:cc46f9aa-f4b8-46ec-8413-e3c2998d2833
DTSTART:20260520T080000
DTEND:20260520T113000
DESCRIPTION:
LOCATION:
SUMMARY:Semester Exams for 1st\, 2nd\, & 3rd period
END:VEVENT
BEGIN:VEVENT
DTSTAMP:20260425T233459Z
UID:e0150955-843b-4808-a4f9-cc501048306c
DTSTART:20260520T150000
DTEND:20260520T170000
DESCRIPTION:
LOCATION:
SUMMARY:Credit Recovery
END:VEVENT
BEGIN:VEVENT
DTSTAMP:20260425T233459Z
UID:18cefd64-181d-4a17-895f-12dfa2f1cd38
DTSTART;VALUE=DATE:20260521
DTEND;VALUE=DATE:20260522
DESCRIPTION:
LOCATION:
SUMMARY:Clinch Graduation
END:VEVENT
BEGIN:VEVENT
DTSTAMP:20260425T233459Z
UID:c423c4ae-787b-48ae-9fc7-54a5f34f89de
DTSTART;VALUE=DATE:20260521
DTEND;VALUE=DATE:20260522
DESCRIPTION:
LOCATION:
SUMMARY:Staff Development Day - From Stockpile. No School for Students.
END:VEVENT
BEGIN:VEVENT
DTSTAMP:20260425T233459Z
UID:68bd0998-c76c-4517-bc21-44e53530189e
DTSTART;VALUE=DATE:20260521
DTEND;VALUE=DATE:20260522
DESCRIPTION:
LOCATION:
SUMMARY:Staff Development Day -  No School for Students.
END:VEVENT
BEGIN:VEVENT
DTSTAMP:20260425T233459Z
UID:15c0a6a9-2fcf-4d13-8efe-8173b6d67f84
DTSTART:20260521T080000
DTEND:20260521T100000
DESCRIPTION:
LOCATION:
SUMMARY:Senior Breakfast/Graduation Practice
END:VEVENT
BEGIN:VEVENT
DTSTAMP:20260425T233459Z
UID:a0097f34-8c5b-4b7e-a2a8-02a0229e84f3
DTSTART;VALUE=DATE:20260522
DTEND;VALUE=DATE:20260523
DESCRIPTION:
LOCATION:
SUMMARY:Cherokee Graduation
END:VEVENT
BEGIN:VEVENT
DTSTAMP:20260425T233459Z
UID:02b2bd96-18ba-4e93-b11d-817eb6237ee8
DTSTART;VALUE=DATE:20260522
DTEND;VALUE=DATE:20260523
DESCRIPTION:
LOCATION:
SUMMARY:Cherokee Graduation
END:VEVENT
BEGIN:VEVENT
DTSTAMP:20260425T233459Z
UID:a6ba4b80-d3ca-45e1-8af7-98d6aa7a47c9
DTSTART;VALUE=DATE:20260522
DTEND;VALUE=DATE:20260523
DESCRIPTION:
LOCATION:
SUMMARY:Last Day of School 
END:VEVENT
BEGIN:VEVENT
DTSTAMP:20260425T233459Z
UID:bb4088b0-48f1-4a5f-b2ed-93b580a45028
DTSTART;VALUE=DATE:20260522
DTEND;VALUE=DATE:20260523
DESCRIPTION:
LOCATION:
SUMMARY:Last Day of School — Students dismissed after picking up Report C
 ards End of the 4th Nine Weeks and 2nd Semester
END:VEVENT
BEGIN:VEVENT
DTSTAMP:20260425T233459Z
UID:6c9487b0-e24b-411b-b2b3-188d106d83a7
DTSTART;VALUE=DATE:20260523
DTEND;VALUE=DATE:20260524
DESCRIPTION:
LOCATION:
SUMMARY:VHS Graduation at 10:00
END:VEVENT
BEGIN:VEVENT
DTSTAMP:20260425T233459Z
UID:85115536-e8aa-40f3-950e-cc1bea8e44a1
DTSTART;VALUE=DATE:20260710
DTEND;VALUE=DATE:20260711
DESCRIPTION:
LOCATION:
SUMMARY:Principals and High School Counselors Return
END:VEVENT
BEGIN:VEVENT
DTSTAMP:20260425T233459Z
UID:3f76f6a2-f698-44f9-8cbe-602c953cd1a3
DTSTART;VALUE=DATE:20260724
DTEND;VALUE=DATE:20260725
DESCRIPTION:
LOCATION:
SUMMARY:Required In-Service for Teachers
END:VEVENT
BEGIN:VEVENT
DTSTAMP:20260425T233459Z
UID:eac69b13-d90f-4419-858b-ef9238279c47
DTSTART;VALUE=DATE:20260727
DTEND;VALUE=DATE:20260728
DESCRIPTION:
LOCATION:
SUMMARY:Required In-Service for Teachers
END:VEVENT
BEGIN:VEVENT
DTSTAMP:20260425T233459Z
UID:43634040-cb8a-4e0e-bf9a-bf2f92c32b08
DTSTART;VALUE=DATE:20260728
DTEND;VALUE=DATE:20260729
DESCRIPTION:
LOCATION:
SUMMARY:Required In-Service for Teachers
END:VEVENT
BEGIN:VEVENT
DTSTAMP:20260425T233459Z
UID:e373626b-f920-4b7a-9f40-962ea6a1c6fd
DTSTART;VALUE=DATE:20260729
DTEND;VALUE=DATE:20260730
DESCRIPTION:
LOCATION:
SUMMARY:Required In-Service for Teachers
END:VEVENT
BEGIN:VEVENT
DTSTAMP:20260425T233459Z
UID:d5ccd30a-69d2-4eb3-b46a-e6d351667c49
DTSTART;VALUE=DATE:20260730
DTEND;VALUE=DATE:20260731
DESCRIPTION:
LOCATION:
SUMMARY:Required In-Service for Teachers and Educational Assistants
END:VEVENT
BEGIN:VEVENT
DTSTAMP:20260425T233459Z
UID:fd75dcff-dbcd-400f-acba-bab1c0f94c3b
DTSTART;VALUE=DATE:20260731
DTEND;VALUE=DATE:20260801
DESCRIPTION:
LOCATION:
SUMMARY:Required In-Service for Teachers and Educational Assistants
END:VEVENT
BEGIN:VEVENT
DTSTAMP:20260425T233459Z
UID:5a439992-e0a5-4ff1-b02f-0f06ce70af04
DTSTART;VALUE=DATE:20260801
DTEND;VALUE=DATE:20260802
DESCRIPTION:
LOCATION:
SUMMARY:Required In-Service for Teachers No School for Students
END:VEVENT
BEGIN:VEVENT
DTSTAMP:20260425T233459Z
UID:47187cf3-9d79-4fb3-8fbb-fef2a4cf8769
DTSTART:20260803T080000
DTEND:20260803T113000
DESCRIPTION:
LOCATION:
SUMMARY:First Day for Students - Early Dismissal @ 11:30
END:VEVENT
BEGIN:VEVENT
DTSTAMP:20260425T233459Z
UID:10cbee77-d371-47f3-aeb0-c7e0a2b6b0f5
DTSTART;VALUE=DATE:20260806
DTEND;VALUE=DATE:20260807
DESCRIPTION:
LOCATION:
SUMMARY:Required In-Service for Teachers\, No School for Students
END:VEVENT
BEGIN:VEVENT
DTSTAMP:20260425T233459Z
UID:353fdfe7-7b1e-41bf-b7f8-6023f16cd573
DTSTART;VALUE=DATE:20260903
DTEND;VALUE=DATE:20260904
DESCRIPTION:
LOCATION:
SUMMARY:1st Progress Report
END:VEVENT
BEGIN:VEVENT
DTSTAMP:20260425T233459Z
UID:f1f5ef57-5ee4-4050-a0c6-0c9bc54f0b02
DTSTART;VALUE=DATE:20260907
DTEND;VALUE=DATE:20260908
DESCRIPTION:
LOCATION:
SUMMARY:No School: Labor Day
END:VEVENT
BEGIN:VEVENT
DTSTAMP:20260425T233459Z
UID:fb1ac9d5-dcc6-420c-931a-905ef3ab202c
DTSTART;VALUE=DATE:20260921
DTEND;VALUE=DATE:20260922
DESCRIPTION:
LOCATION:
SUMMARY:High School Parent Teacher Conferences Scheduled by the School
END:VEVENT
BEGIN:VEVENT
DTSTAMP:20260425T233459Z
UID:98db0c72-8436-4a4c-82b0-c0f75f527e4e
DTSTART;VALUE=DATE:20260922
DTEND;VALUE=DATE:20260923
DESCRIPTION:
LOCATION:
SUMMARY:High School Parent Teacher Conferences Scheduled by the School
END:VEVENT
BEGIN:VEVENT
DTSTAMP:20260425T233459Z
UID:d9bf5b94-f6ef-4c7e-aa8b-6e2654022efc
DTSTART;VALUE=DATE:20260923
DTEND;VALUE=DATE:20260924
DESCRIPTION:
LOCATION:
SUMMARY:High School Parent Teacher Conferences Scheduled by the School
END:VEVENT
BEGIN:VEVENT
DTSTAMP:20260425T233459Z
UID:85d2207b-5e67-4b4e-8e90-40e4b2eb88d2
DTSTART;VALUE=DATE:20260924
DTEND;VALUE=DATE:20260925
DESCRIPTION:
LOCATION:
SUMMARY:High School Parent Teacher Conferences Scheduled by the School
END:VEVENT
BEGIN:VEVENT
DTSTAMP:20260425T233459Z
UID:bbb08a1d-7a21-4a43-ac4f-59bb0ecfcbb8
DTSTART;VALUE=DATE:20260925
DTEND;VALUE=DATE:20260926
DESCRIPTION:
LOCATION:
SUMMARY:High School Parent Teacher Conferences Scheduled by the School
END:VEVENT
BEGIN:VEVENT
DTSTAMP:20260425T233459Z
UID:ae50579a-cfc5-402f-9031-ca0072aca3d3
DTSTART;VALUE=DATE:20261005
DTEND;VALUE=DATE:20261010
DESCRIPTION:
LOCATION:
SUMMARY:Fall Break
END:VEVENT
BEGIN:VEVENT
DTSTAMP:20260425T233459Z
UID:b131ebf7-b267-4a49-9845-f5296e728a05
DTSTART;VALUE=DATE:20261016
DTEND;VALUE=DATE:20261017
DESCRIPTION:
LOCATION:
SUMMARY:1st Report Card
END:VEVENT
BEGIN:VEVENT
DTSTAMP:20260425T233459Z
UID:83cd9ee8-7da7-45fd-a51f-8a58c3e873bc
DTSTART;VALUE=DATE:20261019
DTEND;VALUE=DATE:20261024
DESCRIPTION:
LOCATION:
SUMMARY:Elementary and Middle Parent Conferences Scheduled by the Schools
END:VEVENT
BEGIN:VEVENT
DTSTAMP:20260425T233459Z
UID:900762c4-396c-449c-b96e-26ccb9208b43
DTSTART;VALUE=DATE:20261103
DTEND;VALUE=DATE:20261104
DESCRIPTION:
LOCATION:
SUMMARY:Required In-Serv ice for Teachers\, no school for students
END:VEVENT
BEGIN:VEVENT
DTSTAMP:20260425T233459Z
UID:e277df18-505f-4e94-8dbd-3301c030c931
DTSTART;VALUE=DATE:20261112
DTEND;VALUE=DATE:20261113
DESCRIPTION:
LOCATION:
SUMMARY:2nd Progress Report
END:VEVENT
BEGIN:VEVENT
DTSTAMP:20260425T233459Z
UID:5e013a39-33a9-4207-b579-d3fbba2d148a
DTSTART;VALUE=DATE:20261125
DTEND;VALUE=DATE:20261128
DESCRIPTION:
LOCATION:
SUMMARY:Thanksgiving Break
END:VEVENT
BEGIN:VEVENT
DTSTAMP:20260425T233459Z
UID:273ae0cd-e071-4f63-9677-c5886b978146
DTSTART:20261218T080000
DTEND:20261218T113000
DESCRIPTION:
LOCATION:
SUMMARY:Early Dismissal  11:30
END:VEVENT
BEGIN:VEVENT
DTSTAMP:20260425T233459Z
UID:cc6a9477-fddc-4fa3-b642-95ace3f878d3
DTSTART;VALUE=DATE:20261221
DTEND;VALUE=DATE:20270104
DESCRIPTION:
LOCATION:
SUMMARY:Christmas Break
END:VEVENT
BEGIN:VEVENT
DTSTAMP:20260425T233459Z
UID:0f062e0b-99c5-4ce6-9f18-047038c918a8
DTSTART;VALUE=DATE:20270104
DTEND;VALUE=DATE:20270105
DESCRIPTION:
LOCATION:
SUMMARY:Required In-Service for Teachers\;  No students
END:VEVENT
BEGIN:VEVENT
DTSTAMP:20260425T233459Z
UID:8039c121-c47b-4b0e-8107-ad416052c992
DTSTART;VALUE=DATE:20270105
DTEND;VALUE=DATE:20270106
DESCRIPTION:
LOCATION:
SUMMARY:Classes Resume for Students
END:VEVENT
BEGIN:VEVENT
DTSTAMP:20260425T233459Z
UID:482556c1-b3c2-468b-8741-15ab7cf63fc9
DTSTART;VALUE=DATE:20270111
DTEND;VALUE=DATE:20270112
DESCRIPTION:
LOCATION:
SUMMARY:2nd Report Card
END:VEVENT
BEGIN:VEVENT
DTSTAMP:20260425T233459Z
UID:250acf57-3ebc-4ccf-aea5-94f732fc2ef3
DTSTART;VALUE=DATE:20270118
DTEND;VALUE=DATE:20270119
DESCRIPTION:
LOCATION:
SUMMARY:No School: Martin Luther King Jr. Day
END:VEVENT
BEGIN:VEVENT
DTSTAMP:20260425T233459Z
UID:d6aa522b-9c24-4c04-86df-1d20a798c1c2
DTSTART;VALUE=DATE:20270204
DTEND;VALUE=DATE:20270205
DESCRIPTION:
LOCATION:
SUMMARY:3rd Progress Report
END:VEVENT
BEGIN:VEVENT
DTSTAMP:20260425T233459Z
UID:3077ddfb-1fb0-4fca-a045-b4ce85291b10
DTSTART;VALUE=DATE:20270208
DTEND;VALUE=DATE:20270213
DESCRIPTION:
LOCATION:
SUMMARY:All Schools Parent Conferences\; scheduled by the schools
END:VEVENT
BEGIN:VEVENT
DTSTAMP:20260425T233459Z
UID:0cd9c4d1-9856-48d6-ae42-43450a746982
DTSTART;VALUE=DATE:20270215
DTEND;VALUE=DATE:20270216
DESCRIPTION:
LOCATION:
SUMMARY:President's Day (No School)
END:VEVENT
BEGIN:VEVENT
DTSTAMP:20260425T233459Z
UID:5af6f4f7-4e2c-4312-b372-a5f70db9ac90
DTSTART;VALUE=DATE:20270216
DTEND;VALUE=DATE:20270217
DESCRIPTION:
LOCATION:
SUMMARY:Staff Development Day: No students
END:VEVENT
BEGIN:VEVENT
DTSTAMP:20260425T233459Z
UID:1aa56850-7d7c-4209-8d22-460dc6ff4701
DTSTART;VALUE=DATE:20270315
DTEND;VALUE=DATE:20270320
DESCRIPTION:
LOCATION:
SUMMARY:Spring Break
END:VEVENT
BEGIN:VEVENT
DTSTAMP:20260425T233459Z
UID:61c34be2-5ac3-44c0-9cec-8759b2db8cb9
DTSTART;VALUE=DATE:20270326
DTEND;VALUE=DATE:20270327
DESCRIPTION:
LOCATION:
SUMMARY:Good Friday Holiday
END:VEVENT
BEGIN:VEVENT
DTSTAMP:20260425T233459Z
UID:2b940073-21b7-40e4-8032-3f2b0f194e6e
DTSTART;VALUE=DATE:20270423
DTEND;VALUE=DATE:20270424
DESCRIPTION:
LOCATION:
SUMMARY:Final Progress Report
END:VEVENT
BEGIN:VEVENT
DTSTAMP:20260425T233459Z
UID:ec349c74-e029-4bd7-889c-6c06657e0ece
DTSTART;VALUE=DATE:20270520
DTEND;VALUE=DATE:20270521
DESCRIPTION:
LOCATION:
SUMMARY:Clinch Graduation 
END:VEVENT
BEGIN:VEVENT
DTSTAMP:20260425T233459Z
UID:830868a9-370d-48e4-8d13-3aaa1c734aa9
DTSTART;VALUE=DATE:20270520
DTEND;VALUE=DATE:20270521
DESCRIPTION:
LOCATION:
SUMMARY:Staff Development Day for all Staff
END:VEVENT
BEGIN:VEVENT
DTSTAMP:20260425T233459Z
UID:a6322f42-c80c-4882-b8c6-0fcb147825a2
DTSTART;VALUE=DATE:20270521
DTEND;VALUE=DATE:20270522
DESCRIPTION:
LOCATION:
SUMMARY:Cherokee Graduation
END:VEVENT
BEGIN:VEVENT
DTSTAMP:20260425T233459Z
UID:f016a3a0-c768-4ea0-b8c6-97b96f0f2b5d
DTSTART;VALUE=DATE:20270521
DTEND;VALUE=DATE:20270522
DESCRIPTION:
LOCATION:
SUMMARY:Report Card Pick-up/Last day of school
END:VEVENT
BEGIN:VEVENT
DTSTAMP:20260425T233459Z
UID:26d0f8db-8b9e-4281-8333-cc02ed40b60c
DTSTART;VALUE=DATE:20270522
DTEND;VALUE=DATE:20270523
DESCRIPTION:
LOCATION:
SUMMARY:Volunteer Graduation
END:VEVENT
END:VCALENDAR
