BEGIN:VCALENDAR
VERSION:2.0
PRODID:icalendar-ruby
CALSCALE:GREGORIAN
BEGIN:VTIMEZONE
TZID:America/Chicago
BEGIN:DAYLIGHT
DTSTART:20260308T030000
TZOFFSETFROM:-0600
TZOFFSETTO:-0500
RRULE:FREQ=YEARLY;BYDAY=2SU;BYMONTH=3
TZNAME:CDT
END:DAYLIGHT
BEGIN:STANDARD
DTSTART:20261101T010000
TZOFFSETFROM:-0500
TZOFFSETTO:-0600
RRULE:FREQ=YEARLY;BYDAY=1SU;BYMONTH=11
TZNAME:CST
END:STANDARD
END:VTIMEZONE
BEGIN:VEVENT
DTSTAMP:20260420T040148Z
UID:3f5f6efb-6dac-4ae2-a29b-f06314f2856e
DTSTART:20260420T183000
DTEND:20260420T193000
DESCRIPTION:
LOCATION:
SUMMARY:Board of Education Meeting
END:VEVENT
BEGIN:VEVENT
DTSTAMP:20260420T040148Z
UID:c8affc91-58f1-4a91-8f67-bc4ac642cca8
DTSTART:20260421T160000
DTEND:20260421T170000
DESCRIPTION:
LOCATION:
SUMMARY:Home Track Meet
END:VEVENT
BEGIN:VEVENT
DTSTAMP:20260420T040148Z
UID:9f2cbfcb-f352-4fe5-bd11-dd39f6223773
DTSTART:20260423T160000
DTEND:20260423T170000
DESCRIPTION:
LOCATION:
SUMMARY:Track @ Warrensburg (Bus Time - 2:30 pm)
END:VEVENT
BEGIN:VEVENT
DTSTAMP:20260420T040148Z
UID:ab1fba13-c3bb-43c7-b423-5579917a7d08
DTSTART:20260425T100000
DTEND:20260425T110000
DESCRIPTION:
LOCATION:
SUMMARY:Track @ Arcola (Bus Time - 8:15am)
END:VEVENT
BEGIN:VEVENT
DTSTAMP:20260420T040148Z
UID:10286fe7-646a-4a00-a9e2-36f3965c368a
DTSTART:20260427T180000
DTEND:20260427T190000
DESCRIPTION:
LOCATION:
SUMMARY:2027 Washington D.C. Meeting
END:VEVENT
BEGIN:VEVENT
DTSTAMP:20260420T040148Z
UID:a77dd2c2-1dbc-40c8-8def-399213c57d1f
DTSTART:20260429T160000
DTEND:20260429T170000
DESCRIPTION:
LOCATION:
SUMMARY:Track @ MTZ (Bus Time - 2:45 pm)
END:VEVENT
BEGIN:VEVENT
DTSTAMP:20260420T040148Z
UID:cf9d1c5a-3d48-4bf1-9349-8467036601cb
DTSTART:20260430T180000
DTEND:20260430T190000
DESCRIPTION:
LOCATION:
SUMMARY:MMS & MHS Band Concert
END:VEVENT
BEGIN:VEVENT
DTSTAMP:20260420T040148Z
UID:04d938a0-d913-409f-8503-2f46c0779048
DTSTART:20260501T160000
DTEND:20260501T170000
DESCRIPTION:
LOCATION:
SUMMARY:Track @ Shelbyville (Bus Time - 2:30 pm)
END:VEVENT
BEGIN:VEVENT
DTSTAMP:20260420T040148Z
UID:b78a0856-8610-4b05-becc-ab435fd8a0d9
DTSTART:20260504T150000
DTEND:20260504T160000
DESCRIPTION:
LOCATION:
SUMMARY:Okaw Track Meet @ Maroa Forsyth (Bus Time - 1:10 pm)
END:VEVENT
BEGIN:VEVENT
DTSTAMP:20260420T040148Z
UID:456c04f8-78ef-4a04-b8eb-67e4e13155a7
DTSTART;VALUE=DATE:20260506
DTEND;VALUE=DATE:20260507
DESCRIPTION:
LOCATION:
SUMMARY:1:30/1:50 Dismissal
END:VEVENT
BEGIN:VEVENT
DTSTAMP:20260420T040148Z
UID:9dfbe486-1743-412f-80ed-edfe6c4a83b9
DTSTART;VALUE=DATE:20260506
DTEND;VALUE=DATE:20260507
DESCRIPTION:
LOCATION:
SUMMARY:1:30 p.m. Dismissal - PD
END:VEVENT
BEGIN:VEVENT
DTSTAMP:20260420T040148Z
UID:9ffe21d5-f64a-47d7-b4a1-7a088fd88720
DTSTART;VALUE=DATE:20260509
DTEND;VALUE=DATE:20260510
DESCRIPTION:
LOCATION:
SUMMARY:Track Sectionals @ Central A&M (Bus Time - TBA)
END:VEVENT
BEGIN:VEVENT
DTSTAMP:20260420T040148Z
UID:b5467cd0-c126-46f7-9492-02f8774fac28
DTSTART;VALUE=DATE:20260511
DTEND;VALUE=DATE:20260512
DESCRIPTION:
LOCATION:
SUMMARY:Sports Day
END:VEVENT
BEGIN:VEVENT
DTSTAMP:20260420T040148Z
UID:615e15ee-0085-470c-ace7-eb90537afd9c
DTSTART:20260511T160000
DTEND:20260511T170000
DESCRIPTION:
LOCATION:
SUMMARY:Track Meet @ Mt. Zion (Bus Time - 2:45 pm)
END:VEVENT
BEGIN:VEVENT
DTSTAMP:20260420T040148Z
UID:5383d10d-26ed-45e1-acd3-797920db1fa4
DTSTART;VALUE=DATE:20260512
DTEND;VALUE=DATE:20260513
DESCRIPTION:
LOCATION:
SUMMARY:Dress Like a Teacher Day
END:VEVENT
BEGIN:VEVENT
DTSTAMP:20260420T040148Z
UID:b1f22d94-6437-407f-a08c-af20e16e20b5
DTSTART:20260512T170000
DTEND:20260512T200000
DESCRIPTION:
LOCATION:
SUMMARY:Instrument Tryout Night with The Music Shoppe
END:VEVENT
BEGIN:VEVENT
DTSTAMP:20260420T040148Z
UID:f8649c4c-15b2-41b8-84ef-5a43816386fc
DTSTART;VALUE=DATE:20260513
DTEND;VALUE=DATE:20260514
DESCRIPTION:
LOCATION:
SUMMARY:BBQ Dad & Soccer Mom Day
END:VEVENT
BEGIN:VEVENT
DTSTAMP:20260420T040148Z
UID:34f870c5-f036-461c-8b49-9d4113d304d8
DTSTART;VALUE=DATE:20260514
DTEND;VALUE=DATE:20260515
DESCRIPTION:
LOCATION:
SUMMARY:Dress Like Your Younger Self Day
END:VEVENT
BEGIN:VEVENT
DTSTAMP:20260420T040148Z
UID:d9ff8853-f6ec-4283-9aec-5d1426f8046d
DTSTART;VALUE=DATE:20260515
DTEND;VALUE=DATE:20260516
DESCRIPTION:
LOCATION:
SUMMARY:Anything But a Backpack Day
END:VEVENT
BEGIN:VEVENT
DTSTAMP:20260420T040148Z
UID:ac6966d4-a2de-443d-bc71-628483459aaa
DTSTART:20260518T170000
DTEND:20260518T180000
DESCRIPTION:
LOCATION:
SUMMARY:Track Banquet
END:VEVENT
BEGIN:VEVENT
DTSTAMP:20260420T040148Z
UID:010b4ef5-1c7e-4e62-8d08-195378f003da
DTSTART:20260518T183000
DTEND:20260518T193000
DESCRIPTION:
LOCATION:
SUMMARY:Board of Education Meeting
END:VEVENT
BEGIN:VEVENT
DTSTAMP:20260420T040148Z
UID:c88e5f65-d7f6-4d6b-8a40-91e00ea7b905
DTSTART:20260520T140000
DTEND:20260520T143000
DESCRIPTION:
LOCATION:
SUMMARY:Locker Clean Out
END:VEVENT
BEGIN:VEVENT
DTSTAMP:20260420T040148Z
UID:ccda3747-e8e7-42b6-97ad-9868b0141e31
DTSTART:20260523T170000
DTEND:20260523T180000
DESCRIPTION:
LOCATION:
SUMMARY:Meridian Commencement
END:VEVENT
BEGIN:VEVENT
DTSTAMP:20260420T040148Z
UID:ef2a26fb-02fe-48d7-a1d7-77ab8d127a28
DTSTART;VALUE=DATE:20260526
DTEND;VALUE=DATE:20260527
DESCRIPTION:
LOCATION:
SUMMARY:Last Day - 1:30 p.m. Dismissal
END:VEVENT
BEGIN:VEVENT
DTSTAMP:20260420T040148Z
UID:3a5e83fa-c670-4906-bd82-5e701463f365
DTSTART;VALUE=DATE:20260527
DTEND;VALUE=DATE:20260528
DESCRIPTION:
LOCATION:
SUMMARY:Tentative Teacher In-Service
END:VEVENT
BEGIN:VEVENT
DTSTAMP:20260420T040148Z
UID:a3a85af1-eca0-4f82-9c91-ea5956425c99
DTSTART:20260622T183000
DTEND:20260622T193000
DESCRIPTION:
LOCATION:
SUMMARY:Board of Education Meeting
END:VEVENT
BEGIN:VEVENT
DTSTAMP:20260420T040148Z
UID:e049b5d1-4389-4600-a498-d50100c94303
DTSTART:20260720T183000
DTEND:20260720T193000
DESCRIPTION:
LOCATION:
SUMMARY:Board of Education Meeting
END:VEVENT
BEGIN:VEVENT
DTSTAMP:20260420T040148Z
UID:b816493c-d4b7-4ed3-a21d-f2d4037c7efe
DTSTART;VALUE=DATE:20260803
DTEND;VALUE=DATE:20260804
DESCRIPTION:
LOCATION:
SUMMARY:Online Registration Opens
END:VEVENT
BEGIN:VEVENT
DTSTAMP:20260420T040148Z
UID:6fbec503-e800-458a-9dbf-97e8b925b627
DTSTART;VALUE=DATE:20260803
DTEND;VALUE=DATE:20260804
DESCRIPTION:
LOCATION:
SUMMARY:Online Registration Opens
END:VEVENT
BEGIN:VEVENT
DTSTAMP:20260420T040148Z
UID:41ee3b17-c7d1-4012-82e6-a326e7b958c6
DTSTART;VALUE=DATE:20260805
DTEND;VALUE=DATE:20260806
DESCRIPTION:
LOCATION:
SUMMARY:New Student Registration
END:VEVENT
BEGIN:VEVENT
DTSTAMP:20260420T040148Z
UID:cd11b38a-1e4e-440f-bd27-9fba0291d7f7
DTSTART:20260805T080000
DTEND:20260805T150000
DESCRIPTION:
LOCATION:
SUMMARY:New Student Registration
END:VEVENT
BEGIN:VEVENT
DTSTAMP:20260420T040148Z
UID:67c097ee-64eb-4d7a-b943-f8ebdfd91649
DTSTART:20260810T183000
DTEND:20260810T193000
DESCRIPTION:
LOCATION:
SUMMARY:Board of Education Meeting @ MES
END:VEVENT
BEGIN:VEVENT
DTSTAMP:20260420T040148Z
UID:30bbd237-b037-4b21-a55b-174458a05945
DTSTART;VALUE=DATE:20260814
DTEND;VALUE=DATE:20260815
DESCRIPTION:
LOCATION:
SUMMARY:Teacher Institute Day
END:VEVENT
BEGIN:VEVENT
DTSTAMP:20260420T040148Z
UID:3bcface4-89e3-4193-aa39-a6bb72990dc3
DTSTART;VALUE=DATE:20260817
DTEND;VALUE=DATE:20260818
DESCRIPTION:
LOCATION:
SUMMARY:Teacher Institute Day
END:VEVENT
BEGIN:VEVENT
DTSTAMP:20260420T040148Z
UID:0d8cb51d-1e96-44df-953f-b35db776c108
DTSTART;VALUE=DATE:20260818
DTEND;VALUE=DATE:20260819
DESCRIPTION:
LOCATION:
SUMMARY:First Day of School - 1:30 p.m. Dismissal
END:VEVENT
BEGIN:VEVENT
DTSTAMP:20260420T040148Z
UID:d9a12413-5839-4161-b3c5-0f5fd0e58d69
DTSTART;VALUE=DATE:20260904
DTEND;VALUE=DATE:20260905
DESCRIPTION:
LOCATION:
SUMMARY:SIP Day - 11:10 a.m. Dismissal 
END:VEVENT
BEGIN:VEVENT
DTSTAMP:20260420T040148Z
UID:f6992ee2-a02c-44da-9d08-307d628374a9
DTSTART;VALUE=DATE:20260907
DTEND;VALUE=DATE:20260908
DESCRIPTION:
LOCATION:
SUMMARY:No School - Labor Day
END:VEVENT
BEGIN:VEVENT
DTSTAMP:20260420T040148Z
UID:5db10b07-cc66-4e45-9050-89f6f1032766
DTSTART:20260921T183000
DTEND:20260921T193000
DESCRIPTION:
LOCATION:
SUMMARY:Board of Education Meeting
END:VEVENT
BEGIN:VEVENT
DTSTAMP:20260420T040148Z
UID:4995ea78-6ece-4590-9db4-e0e55bfc0caf
DTSTART;VALUE=DATE:20261009
DTEND;VALUE=DATE:20261010
DESCRIPTION:
LOCATION:
SUMMARY:SIP Day - 11:10 a.m. Dismissal
END:VEVENT
BEGIN:VEVENT
DTSTAMP:20260420T040148Z
UID:8ab3c43a-6f66-4cc5-9d52-0b2d44bfda4b
DTSTART;VALUE=DATE:20261012
DTEND;VALUE=DATE:20261013
DESCRIPTION:
LOCATION:
SUMMARY:No School - Columbus Day
END:VEVENT
BEGIN:VEVENT
DTSTAMP:20260420T040148Z
UID:710e570e-d6d1-4562-b064-cd026d00afbe
DTSTART:20261019T183000
DTEND:20261019T193000
DESCRIPTION:
LOCATION:
SUMMARY:Board of Education Meeting
END:VEVENT
BEGIN:VEVENT
DTSTAMP:20260420T040148Z
UID:ec67a6f9-e6c4-4673-90cb-b92b46337e3d
DTSTART:20261030T080000
DTEND:20261030T190000
DESCRIPTION:
LOCATION:
SUMMARY:Parent Teacher Conferences - No School
END:VEVENT
BEGIN:VEVENT
DTSTAMP:20260420T040148Z
UID:7d36726d-cefa-433f-b990-70b053daff47
DTSTART;VALUE=DATE:20261102
DTEND;VALUE=DATE:20261103
DESCRIPTION:
LOCATION:
SUMMARY:No School - PT Conference Observed
END:VEVENT
BEGIN:VEVENT
DTSTAMP:20260420T040148Z
UID:057f01fc-7d82-4584-a034-7a801fdc8c0d
DTSTART:20261116T183000
DTEND:20261116T193000
DESCRIPTION:
LOCATION:
SUMMARY:Board of Education Meeting
END:VEVENT
BEGIN:VEVENT
DTSTAMP:20260420T040148Z
UID:4cd18f7f-cacf-41a2-b4f6-40691443e2b1
DTSTART;VALUE=DATE:20261124
DTEND;VALUE=DATE:20261125
DESCRIPTION:
LOCATION:
SUMMARY:1:30 p.m. Dismissal
END:VEVENT
BEGIN:VEVENT
DTSTAMP:20260420T040148Z
UID:462d3237-6d2d-4a12-a8b6-6d3962614de3
DTSTART;VALUE=DATE:20261125
DTEND;VALUE=DATE:20261128
DESCRIPTION:
LOCATION:
SUMMARY:No School - Thanksgiving
END:VEVENT
BEGIN:VEVENT
DTSTAMP:20260420T040148Z
UID:3b094722-3f7c-4d48-9a3f-6496c7f6ffb6
DTSTART;VALUE=DATE:20261216
DTEND;VALUE=DATE:20261218
DESCRIPTION:
LOCATION:
SUMMARY:1st Semester Exams
END:VEVENT
BEGIN:VEVENT
DTSTAMP:20260420T040148Z
UID:6d597047-62da-4426-8eb8-a59bcdf72535
DTSTART;VALUE=DATE:20261218
DTEND;VALUE=DATE:20261219
DESCRIPTION:
LOCATION:
SUMMARY:1:30 p.m. Dismissal 
END:VEVENT
BEGIN:VEVENT
DTSTAMP:20260420T040148Z
UID:4a87a51f-da53-46c3-9a9b-1eac63f504cf
DTSTART;VALUE=DATE:20261221
DTEND;VALUE=DATE:20270102
DESCRIPTION:
LOCATION:
SUMMARY:No School - Christmas Break
END:VEVENT
BEGIN:VEVENT
DTSTAMP:20260420T040148Z
UID:0992ad46-ba8a-4b54-af86-2b46bf30252f
DTSTART:20261221T183000
DTEND:20261221T193000
DESCRIPTION:
LOCATION:
SUMMARY:Board of Education Meeting
END:VEVENT
BEGIN:VEVENT
DTSTAMP:20260420T040148Z
UID:0bc6d0b3-2680-4bfd-ba26-0de07e5d3835
DTSTART;VALUE=DATE:20270104
DTEND;VALUE=DATE:20270105
DESCRIPTION:
LOCATION:
SUMMARY:Teacher Institute
END:VEVENT
BEGIN:VEVENT
DTSTAMP:20260420T040148Z
UID:46eddaed-01a1-433a-8a87-44d4b7809341
DTSTART;VALUE=DATE:20270118
DTEND;VALUE=DATE:20270119
DESCRIPTION:
LOCATION:
SUMMARY:No School - MLK Jr. Day
END:VEVENT
BEGIN:VEVENT
DTSTAMP:20260420T040148Z
UID:79fe76b2-89aa-4ce5-9100-7a345ea5be9a
DTSTART;VALUE=DATE:20270212
DTEND;VALUE=DATE:20270213
DESCRIPTION:
LOCATION:
SUMMARY:SIP Day - 11:10 a.m. Dismissal
END:VEVENT
BEGIN:VEVENT
DTSTAMP:20260420T040148Z
UID:741d376f-3469-48cc-9146-d3eb79995c37
DTSTART;VALUE=DATE:20270215
DTEND;VALUE=DATE:20270216
DESCRIPTION:
LOCATION:
SUMMARY:No School - President's Day
END:VEVENT
BEGIN:VEVENT
DTSTAMP:20260420T040148Z
UID:f3402aa9-f518-4c9c-98a3-f541fddba0f7
DTSTART:20270316T113000
DTEND:20270316T193000
DESCRIPTION:
LOCATION:
SUMMARY:JH Band Festival at Meridian
END:VEVENT
BEGIN:VEVENT
DTSTAMP:20260420T040148Z
UID:448a7d95-1e01-4efa-b294-f762f93c228e
DTSTART;VALUE=DATE:20270324
DTEND;VALUE=DATE:20270325
DESCRIPTION:
LOCATION:
SUMMARY:1:30 p.m. Dismissal 
END:VEVENT
BEGIN:VEVENT
DTSTAMP:20260420T040148Z
UID:82bda800-bfdb-49a4-863a-09ea26cbcf39
DTSTART;VALUE=DATE:20270325
DTEND;VALUE=DATE:20270330
DESCRIPTION:
LOCATION:
SUMMARY:No School - Spring Break
END:VEVENT
BEGIN:VEVENT
DTSTAMP:20260420T040148Z
UID:9919d542-f1b9-45fe-a49b-6376fdab5d60
DTSTART;VALUE=DATE:20270423
DTEND;VALUE=DATE:20270424
DESCRIPTION:
LOCATION:
SUMMARY:SIP Day - 11:10 a.m. Dismissal
END:VEVENT
BEGIN:VEVENT
DTSTAMP:20260420T040148Z
UID:2a130975-0d46-49f8-a404-204d26f08d84
DTSTART;VALUE=DATE:20270519
DTEND;VALUE=DATE:20270520
DESCRIPTION:
LOCATION:
SUMMARY:Tentative Last Day of School - 1:30 p.m. Dismissal
END:VEVENT
BEGIN:VEVENT
DTSTAMP:20260420T040148Z
UID:cea7c700-8f5c-48a1-adc3-f2d12144eea7
DTSTART;VALUE=DATE:20270520
DTEND;VALUE=DATE:20270521
DESCRIPTION:
LOCATION:
SUMMARY:Tentative Teacher Institute
END:VEVENT
END:VCALENDAR
