BEGIN:VCALENDAR
VERSION:2.0
PRODID:icalendar-ruby
CALSCALE:GREGORIAN
BEGIN:VTIMEZONE
TZID:America/Los_Angeles
BEGIN:DAYLIGHT
DTSTART:20260308T030000
TZOFFSETFROM:-0800
TZOFFSETTO:-0700
RRULE:FREQ=YEARLY;BYDAY=2SU;BYMONTH=3
TZNAME:PDT
END:DAYLIGHT
BEGIN:STANDARD
DTSTART:20261101T010000
TZOFFSETFROM:-0700
TZOFFSETTO:-0800
RRULE:FREQ=YEARLY;BYDAY=1SU;BYMONTH=11
TZNAME:PST
END:STANDARD
END:VTIMEZONE
BEGIN:VEVENT
DTSTAMP:20260423T151542Z
UID:f70c2150-3221-414d-a815-c110e8b185af
DTSTART:20260428T180000
DTEND:20260428T200000
DESCRIPTION:
LOCATION:3830 N Sullivan Rd\, Spokane Valley\, WA 99216\, USA
SUMMARY:Board Meeting
END:VEVENT
BEGIN:VEVENT
DTSTAMP:20260423T151542Z
UID:04e3ba54-444a-472e-a462-90e0f204c77f
DTSTART:20260512T180000
DTEND:20260512T200000
DESCRIPTION:
LOCATION:3830 N Sullivan Rd\, Spokane Valley\, WA 99216\, USA
SUMMARY:Board Meeting
END:VEVENT
BEGIN:VEVENT
DTSTAMP:20260423T151542Z
UID:16100efa-dd51-4a71-878b-3850dd25fda3
DTSTART;VALUE=DATE:20260525
DTEND;VALUE=DATE:20260526
DESCRIPTION:
LOCATION:
SUMMARY:NO SCHOOL | Memorial Day
END:VEVENT
BEGIN:VEVENT
DTSTAMP:20260423T151542Z
UID:633e3af0-d59b-4f6e-b848-6f8395f38014
DTSTART;VALUE=DATE:20260526
DTEND;VALUE=DATE:20260528
DESCRIPTION:
LOCATION:
SUMMARY:CCS ONLY - NO SCHOOL | May Break
END:VEVENT
BEGIN:VEVENT
DTSTAMP:20260423T151542Z
UID:379c75c7-c625-4934-9d7f-5a3c92f8a169
DTSTART:20260526T180000
DTEND:20260526T200000
DESCRIPTION:
LOCATION:3830 N Sullivan Rd\, Spokane Valley\, WA 99216\, USA
SUMMARY:Board Meeting
END:VEVENT
BEGIN:VEVENT
DTSTAMP:20260423T151542Z
UID:2811e822-a54e-4182-8fa5-c9eeb2bca1ba
DTSTART:20260609T180000
DTEND:20260609T200000
DESCRIPTION:
LOCATION:15711 E Wellesley Ave\, Spokane Valley\, WA 99216\, USA
SUMMARY:Board Meeting
END:VEVENT
BEGIN:VEVENT
DTSTAMP:20260423T151542Z
UID:4f065179-4230-4438-b67c-8c828a4dc4db
DTSTART;VALUE=DATE:20260612
DTEND;VALUE=DATE:20260613
DESCRIPTION:
LOCATION:
SUMMARY:Graduation
END:VEVENT
BEGIN:VEVENT
DTSTAMP:20260423T151542Z
UID:46dce8a0-f73d-4e41-b76d-65e0629eb78e
DTSTART;VALUE=DATE:20260619
DTEND;VALUE=DATE:20260620
DESCRIPTION:
LOCATION:
SUMMARY:CCS ONLY - NO SCHOOL | Juneteenth
END:VEVENT
BEGIN:VEVENT
DTSTAMP:20260423T151542Z
UID:0ffd00af-172f-43fd-93e9-86ad3bbba5d1
DTSTART:20260623T180000
DTEND:20260623T200000
DESCRIPTION:
LOCATION:3830 N Sullivan Rd\, Spokane Valley\, WA 99216\, USA
SUMMARY:Board Meeting
END:VEVENT
BEGIN:VEVENT
DTSTAMP:20260423T151542Z
UID:57e6e483-6774-4946-8746-843777ad9838
DTSTART:20260728T180000
DTEND:20260728T200000
DESCRIPTION:
LOCATION:3830 N Sullivan Rd\, Spokane Valley\, WA 99216\, USA
SUMMARY:Board Meeting
END:VEVENT
BEGIN:VEVENT
DTSTAMP:20260423T151542Z
UID:b2f187e7-8d55-43d4-8845-69babae67b9f
DTSTART:20260825T180000
DTEND:20260825T200000
DESCRIPTION:
LOCATION:3830 N Sullivan Rd\, Spokane Valley\, WA 99216\, USA
SUMMARY:Board Meeting
END:VEVENT
END:VCALENDAR
