BEGIN:VCALENDAR
VERSION:2.0
PRODID:icalendar-ruby
CALSCALE:GREGORIAN
BEGIN:VTIMEZONE
TZID:America/Chicago
BEGIN:DAYLIGHT
DTSTART:20260308T030000
TZOFFSETFROM:-0600
TZOFFSETTO:-0500
RRULE:FREQ=YEARLY;BYDAY=2SU;BYMONTH=3
TZNAME:CDT
END:DAYLIGHT
BEGIN:STANDARD
DTSTART:20261101T010000
TZOFFSETFROM:-0500
TZOFFSETTO:-0600
RRULE:FREQ=YEARLY;BYDAY=1SU;BYMONTH=11
TZNAME:CST
END:STANDARD
END:VTIMEZONE
BEGIN:VEVENT
DTSTAMP:20260423T112320Z
UID:ed7f963a-3dab-48ec-956b-3d2315ca3aed
DTSTART:20260424T090000
DTEND:20260424T140000
DESCRIPTION:
LOCATION:Kansas Children's Discovery Center\, 4400 SW 10th Ave\, Topeka\, K
 S 66604\, USA
SUMMARY:1st Grade Field Trip to Kansas Children's Discovery Center
END:VEVENT
BEGIN:VEVENT
DTSTAMP:20260423T112320Z
UID:469a15ca-2644-4b9c-affe-70a5360841e5
DTSTART:20260424T173000
DTEND:20260424T190000
DESCRIPTION:
LOCATION:Main Gym\, Commons
SUMMARY:Fine Arts' Night
END:VEVENT
BEGIN:VEVENT
DTSTAMP:20260423T112320Z
UID:49428891-21b1-45fc-9843-9ba50fb5e57a
DTSTART:20260429T141500
DTEND:20260429T141500
DESCRIPTION:
LOCATION:
SUMMARY:TES Early Release
END:VEVENT
BEGIN:VEVENT
DTSTAMP:20260423T112320Z
UID:c3cb61d2-052e-44f9-a08c-377b71fc9087
DTSTART:20260430T180000
DTEND:20260430T200000
DESCRIPTION:Purin&#39\;s classes-6:00 pm\nKlingbeil&#39\;s classes-7:00 pm
LOCATION:Main Gym
SUMMARY:5th Grade Music Program
END:VEVENT
BEGIN:VEVENT
DTSTAMP:20260423T112320Z
UID:a94103c5-cbf9-445d-9b1a-3b893551005a
DTSTART:20260504T183000
DTEND:20260504T193000
DESCRIPTION:
LOCATION:Tonganoxie Middle School\, 824 Washington St\, Tonganoxie\, KS 660
 86\, USA
SUMMARY:Band Concert for 5th-8th Gr (5th Gr @ 6:30 PM)
END:VEVENT
BEGIN:VEVENT
DTSTAMP:20260423T112320Z
UID:41e90e11-5a34-4239-becf-7dcfe421b7ce
DTSTART:20260505T093000
DTEND:20260505T113000
DESCRIPTION:
LOCATION:Royal Crest Lanes\, 933 Iowa St\, Lawrence\, KS 66044\, USA
SUMMARY:5th Grade STAR Trip to Royal Crest Lanes
END:VEVENT
BEGIN:VEVENT
DTSTAMP:20260423T112320Z
UID:febbdb40-153c-440e-aaea-6bee5f6e0869
DTSTART:20260506T141500
DTEND:20260506T141500
DESCRIPTION:
LOCATION:
SUMMARY:TES Early Release
END:VEVENT
BEGIN:VEVENT
DTSTAMP:20260423T112320Z
UID:c486fdcd-2463-4c97-b3c8-078fe283176b
DTSTART;VALUE=DATE:20260508
DTEND;VALUE=DATE:20260509
DESCRIPTION:
LOCATION:
SUMMARY:Field Day
END:VEVENT
BEGIN:VEVENT
DTSTAMP:20260423T112320Z
UID:6cbf92c6-7aa8-4625-907e-038ee51d1da5
DTSTART;VALUE=DATE:20260511
DTEND;VALUE=DATE:20260512
DESCRIPTION:
LOCATION:
SUMMARY:Field Day Rain Make-up Date
END:VEVENT
BEGIN:VEVENT
DTSTAMP:20260423T112320Z
UID:875729d3-9b5f-4927-8887-aa12d379c714
DTSTART:20260513T141500
DTEND:20260513T141500
DESCRIPTION:
LOCATION:
SUMMARY:TES Early Release
END:VEVENT
BEGIN:VEVENT
DTSTAMP:20260423T112320Z
UID:3a27b63d-8785-48bf-8277-5b4f4111f91c
DTSTART;VALUE=DATE:20260514
DTEND;VALUE=DATE:20260515
DESCRIPTION:
LOCATION:
SUMMARY:5th Grade Picnic
END:VEVENT
BEGIN:VEVENT
DTSTAMP:20260423T112320Z
UID:323e25f9-7c86-4d6f-bf40-15372f4ca7c4
DTSTART;VALUE=DATE:20260515
DTEND;VALUE=DATE:20260516
DESCRIPTION:
LOCATION:
SUMMARY:Last Day of School - Half Day
END:VEVENT
BEGIN:VEVENT
DTSTAMP:20260423T112320Z
UID:3dfe14e1-0d55-481a-8ff0-4f109718a756
DTSTART;VALUE=DATE:20260518
DTEND;VALUE=DATE:20260519
DESCRIPTION:
LOCATION:
SUMMARY:SLP Day
END:VEVENT
BEGIN:VEVENT
DTSTAMP:20260423T112320Z
UID:ee0dced7-b8d4-4aba-883b-91284ecde92f
DTSTART;VALUE=DATE:20260929
DTEND;VALUE=DATE:20260930
DESCRIPTION:
LOCATION:
SUMMARY:Individual Picture Day
END:VEVENT
BEGIN:VEVENT
DTSTAMP:20260423T112320Z
UID:7d261ca2-8048-4432-9a4a-f2d2e2d79b1a
DTSTART;VALUE=DATE:20261022
DTEND;VALUE=DATE:20261023
DESCRIPTION:
LOCATION:
SUMMARY:Individual Picture Retake Day
END:VEVENT
END:VCALENDAR
