BEGIN:VCALENDAR
VERSION:2.0
PRODID:icalendar-ruby
CALSCALE:GREGORIAN
BEGIN:VTIMEZONE
TZID:America/Chicago
BEGIN:DAYLIGHT
DTSTART:20260308T030000
TZOFFSETFROM:-0600
TZOFFSETTO:-0500
RRULE:FREQ=YEARLY;BYDAY=2SU;BYMONTH=3
TZNAME:CDT
END:DAYLIGHT
BEGIN:STANDARD
DTSTART:20261101T010000
TZOFFSETFROM:-0500
TZOFFSETTO:-0600
RRULE:FREQ=YEARLY;BYDAY=1SU;BYMONTH=11
TZNAME:CST
END:STANDARD
END:VTIMEZONE
BEGIN:VEVENT
DTSTAMP:20260423T185919Z
UID:9fb11cc2-b878-4439-a733-628cd9e02c1a
DTSTART:20260423T100000
DTEND:20260423T150000
DESCRIPTION:
LOCATION:Spring Hill - Sycamore Ridge
SUMMARY:V Boys Golf @ Sycamore Ridge
END:VEVENT
BEGIN:VEVENT
DTSTAMP:20260423T185919Z
UID:beab8bf1-ce65-4380-851b-3780ce14c007
DTSTART:20260423T160000
DTEND:20260423T180000
DESCRIPTION:<p><b>**</b>first game at 4:00pm. If there is a lightning strik
 e we will end the event and not try to wait the storm out. Due to the pote
 ntial of not being able to finish both games we will not charge gate. Plea
 se let me know if you have any questions. Thanks **</p><p><b><br></b></p>
 <p><b>Game Time:</b>     4:30 C-Team</p><p>6:30 C-Team</p><p> <br></p>
LOCATION:Tonganoxie Recreation Commission Baseball Fields
SUMMARY:C Baseball vs Eudora
END:VEVENT
BEGIN:VEVENT
DTSTAMP:20260423T185919Z
UID:17e09fd0-9ca2-441c-9abc-e7797f6fc531
DTSTART:20260423T163000
DTEND:20260423T183000
DESCRIPTION:All spectators need to park in the parking lot WEST of the stad
 ium (the Middle School parking lot) and use the entrance on the WEST side 
 of the field. There will be no admittance on the east side\, however spect
 ators are welcome to sit in the west or east side bleachers.<br><br>Admiss
 ion Ticket Prices: $5 K-12 Students / $7 Adults / 65+ Free at the gate or 
 through GoFan.<br>○ <a href="https://gofan.co/event/6315259?schoolId=KS1
 8125">https://gofan.co/event/6315259?schoolId=KS18125</a><br><br>● We wi
 ll NOT have concessions.<br>● No Live Stream
LOCATION:Paola High School
SUMMARY:JV/V G Soc @ Paola
END:VEVENT
BEGIN:VEVENT
DTSTAMP:20260423T185919Z
UID:3b38a2e1-4570-4539-8d5d-34665e5f1e6c
DTSTART:20260424T143000
DTEND:20260424T170000
DESCRIPTION:
LOCATION:Shawnee Mission Softball Complex
SUMMARY:V Softball Tourney @ Shawnee Mission Softball Complex
END:VEVENT
BEGIN:VEVENT
DTSTAMP:20260423T185919Z
UID:60cd045e-0838-4603-ae45-e0a323a9da21
DTSTART:20260424T160000
DTEND:20260424T170000
DESCRIPTION:
LOCATION:Eudora High School
SUMMARY:V Track @ Eudora
END:VEVENT
BEGIN:VEVENT
DTSTAMP:20260423T185919Z
UID:3a7598b1-432b-452d-86bb-04f0d7f46319
DTSTART:20260424T170000
DTEND:20260424T183000
DESCRIPTION:<p dir="ltr"><b>Game Time:</b>     5:00 Varsity</p><br><p dir
 ="ltr"><b>Senior Night:</b> 4:30 Golf and Baseball Seniors will be recogni
 zed on the field.  </p><br><p dir="ltr"> <b>Admission:</b>    Adults 
 $7</p><p dir="ltr">K-12 Students - $5</p><p dir="ltr"><b>Cash at the gate 
 or ticket can be purchased online at</b></p><p dir="ltr"><b><a href="https
 ://tickets.gobound.com/tickets/events/h2026022705033101237b7e998912840/che
 ckout">https://tickets.gobound.com/tickets/events/h2026022705033101237b7e9
 98912840/checkout</a></b></p>
LOCATION:Tonganoxie Recreation Commission Baseball Fields
SUMMARY:V Baseball vs Turner (Senior Night)
END:VEVENT
BEGIN:VEVENT
DTSTAMP:20260423T185919Z
UID:f5f2e5b3-6616-469e-ac2a-aa6792a70f79
DTSTART:20260424T180000
DTEND:20260424T200000
DESCRIPTION:<p dir="ltr"><b>Game Time:</b>     4:30 JV</p><p dir="ltr">6:
 00 Varsity</p><p dir="ltr"> </p><p dir="ltr"><b>Admission:</b>    Adult
 s $7\, Students $5  </p><p dir="ltr"><b>Cash at the gate or Online ticke
 ts are available at</b></p><p dir="ltr"><a href="https://tickets.gobound.c
 om/tickets/events/h202603100541204826a795020f17a48/checkout"><u>https://ti
 ckets.gobound.com/tickets/events/h202603100541204826a795020f17a48/checkout
 </u></a></p>
LOCATION:Beatty Field\, Tonganoxie\, KS
SUMMARY:JV/V G Soc vs Basehor Linwood
END:VEVENT
BEGIN:VEVENT
DTSTAMP:20260423T185919Z
UID:7ed2b6f9-4ef8-4c7c-ba7b-0a0a9f035371
DTSTART;VALUE=DATE:20260425
DTEND;VALUE=DATE:20260426
DESCRIPTION:
LOCATION:Andover\, KS\, USA
SUMMARY:KSHSAA State Solo & Small Ensemble Festival @ Desoto
END:VEVENT
BEGIN:VEVENT
DTSTAMP:20260423T185919Z
UID:4a903c30-70d2-4d3d-8717-06284943af9c
DTSTART:20260425T090000
DTEND:20260425T170000
DESCRIPTION:<a href="https://docs.google.com/document/d/14mqwGC-zoElHPDItdJ
 6JR52YJHctTuuzc0mq4pBP0T8/edit?tab=t.0">Game Details</a>
LOCATION:Shawnee Mission Softball Complex
SUMMARY:V Softball Tourney @ Shawnee Mission Softball Complex
END:VEVENT
BEGIN:VEVENT
DTSTAMP:20260423T185919Z
UID:0beaaf1f-b27a-417e-9e21-da61e8922d0a
DTSTART:20260427T133000
DTEND:20260427T160000
DESCRIPTION:
LOCATION:Basehor - Falcon Lakes
SUMMARY:V Boys Golf @ Falcon Lakes
END:VEVENT
BEGIN:VEVENT
DTSTAMP:20260423T185919Z
UID:f3c15477-22af-4a61-bda5-8dbb32563cfe
DTSTART:20260427T153000
DTEND:20260427T170000
DESCRIPTION:
LOCATION:Beatty Field\, Tonganoxie\, KS 66086
SUMMARY:JV Track @ Home
END:VEVENT
BEGIN:VEVENT
DTSTAMP:20260423T185919Z
UID:77dc0e2c-9ad7-4241-90ad-c1b0d679472c
DTSTART:20260427T160000
DTEND:20260427T180000
DESCRIPTION:Rescheduled Game from 04/01<br><br><p dir="ltr"><b>Game Time:</
 b>     4:00 JV</p><p dir="ltr">6:00 JV</p><br> <b>Admission:</b>    F
 ree
LOCATION:Tonganoxie Recreation Commission Baseball Fields
SUMMARY:JV Baseball vs Seaman
END:VEVENT
BEGIN:VEVENT
DTSTAMP:20260423T185919Z
UID:783ee571-28e9-466e-bc0d-7246f9c9e2eb
DTSTART:20260428T163000
DTEND:20260428T183000
DESCRIPTION:
LOCATION:Baldwin High School Baseball Field
SUMMARY:JV/V Baseball @ Baldwin
END:VEVENT
BEGIN:VEVENT
DTSTAMP:20260423T185919Z
UID:ea58fec2-db02-484e-b8ee-51d5486a887f
DTSTART:20260428T163000
DTEND:20260428T190000
DESCRIPTION:
LOCATION:Baldwin High School
SUMMARY:JV/V Softball @ Baldwin
END:VEVENT
BEGIN:VEVENT
DTSTAMP:20260423T185919Z
UID:0f3b25e7-a9c5-4087-9d7f-082957a021dd
DTSTART;VALUE=DATE:20260429
DTEND;VALUE=DATE:20260430
DESCRIPTION:
LOCATION:Kansas City Kansas Community College\, 7250 State Ave\, Kansas Cit
 y\, KS 66112\, USA
SUMMARY:KCKCC Jazz Summit
END:VEVENT
BEGIN:VEVENT
DTSTAMP:20260423T185919Z
UID:5964a4bb-bcbd-422f-bff1-ace5fc24ee19
DTSTART:20260429T143000
DTEND:20260429T143000
DESCRIPTION:
LOCATION:
SUMMARY:THS Early Release
END:VEVENT
BEGIN:VEVENT
DTSTAMP:20260423T185919Z
UID:1642acb8-26f3-4284-9068-f05981415d3e
DTSTART:20260429T160000
DTEND:20260429T180000
DESCRIPTION:
LOCATION:Tonganoxie Recreation Commission Baseball Fields
SUMMARY:C Baseball vs Basehor-Linwood
END:VEVENT
BEGIN:VEVENT
DTSTAMP:20260423T185919Z
UID:7dde1469-be4d-4001-b1fd-56654da7e8ae
DTSTART:20260429T170000
DTEND:20260429T200000
DESCRIPTION:<ul><li><br></li></ul>
LOCATION:Cafeteria & TPAC
SUMMARY:FFA Chapter Banquet
END:VEVENT
BEGIN:VEVENT
DTSTAMP:20260423T185919Z
UID:009c7935-b461-46ce-b952-ffa09dcc797b
DTSTART;VALUE=DATE:20260430
DTEND;VALUE=DATE:20260501
DESCRIPTION:
LOCATION:
SUMMARY:State Forensics Showcase Night
END:VEVENT
BEGIN:VEVENT
DTSTAMP:20260423T185919Z
UID:b5e72380-e6ca-4fcc-abb8-4c390f928166
DTSTART;VALUE=DATE:20260430
DTEND;VALUE=DATE:20260501
DESCRIPTION:
LOCATION:Creekside Baseball Park
SUMMARY:V Baseball Tournament @ Creekside
END:VEVENT
BEGIN:VEVENT
DTSTAMP:20260423T185919Z
UID:36003795-de38-465a-afa8-1113231d3b03
DTSTART:20260430T090000
DTEND:20260430T120000
DESCRIPTION:
LOCATION:Osawatomie Golf Course (Paola)
SUMMARY:JV Boys Golf @ Osawatomie
END:VEVENT
BEGIN:VEVENT
DTSTAMP:20260423T185919Z
UID:e7411127-0ac1-403c-8182-78551a1f6f94
DTSTART:20260430T160000
DTEND:20260430T170000
DESCRIPTION:
LOCATION:Washington High School\, 7340 Leavenworth Rd\, Kansas City\, KS 66
 109\, USA
SUMMARY:Girls Swim @ Washington HS
END:VEVENT
BEGIN:VEVENT
DTSTAMP:20260423T185919Z
UID:e80575db-3803-478d-ba1b-ab18ab07b2a1
DTSTART:20260430T160000
DTEND:20260430T190000
DESCRIPTION:
LOCATION:Tonganoxie Recreation Commission Baseball Fields
SUMMARY:JV Baseball vs Seaman
END:VEVENT
BEGIN:VEVENT
DTSTAMP:20260423T185919Z
UID:92c72812-fd85-41b1-b0a8-a730fe8a628c
DTSTART:20260430T160000
DTEND:20260430T170000
DESCRIPTION:
LOCATION:Santa Fe Trail High School
SUMMARY:JV Track @ Santa Fe Trail
END:VEVENT
BEGIN:VEVENT
DTSTAMP:20260423T185919Z
UID:7e3b1deb-ddee-4be8-aded-7c254064b7e8
DTSTART:20260430T163000
DTEND:20260430T183000
DESCRIPTION:<p dir="ltr"><b>Visitor Fan Seating:</b> Visitors seating will 
 be in the east bleachers. </p><p dir="ltr"> </p><p dir="ltr"><b>Game Tim
 e:</b>     4:30 JV</p><p dir="ltr">6:00 Varsity</p><p dir="ltr"> </p><p
  dir="ltr"><b>Admission:</b>    Adults $7\, Students $5  </p><p dir="l
 tr"><b>Cash at the gate or Online tickets are available at</b></p><p dir="
 ltr"><a href="https://tickets.gobound.com/tickets/events/h2026031005423246
 75a2ab52f58764a/checkout"><u>https://tickets.gobound.com/tickets/events/h2
 02603100542324675a2ab52f58764a/checkout</u></a></p>
LOCATION:Beatty Field\, Tonganoxie\, KS
SUMMARY:JV/V G Soc vs Bonner Springs
END:VEVENT
BEGIN:VEVENT
DTSTAMP:20260423T185919Z
UID:ca145afc-3dec-42bd-91d9-ff2044289f01
DTSTART;VALUE=DATE:20260501
DTEND;VALUE=DATE:20260503
DESCRIPTION:
LOCATION:
SUMMARY:Speech & Drama State (Forensics)
END:VEVENT
BEGIN:VEVENT
DTSTAMP:20260423T185919Z
UID:09af2dc5-af54-435a-86f3-8ad60f5c6975
DTSTART;VALUE=DATE:20260501
DTEND;VALUE=DATE:20260502
DESCRIPTION:
LOCATION:Legends Field
SUMMARY:V Baseball Tournament @ Legends Field
END:VEVENT
BEGIN:VEVENT
DTSTAMP:20260423T185919Z
UID:e3392f95-13e0-4831-962f-b1c675286cb6
DTSTART:20260501T153000
DTEND:20260501T170000
DESCRIPTION:
LOCATION:De Soto High School
SUMMARY:V Track @ De Soto
END:VEVENT
BEGIN:VEVENT
DTSTAMP:20260423T185919Z
UID:05692fda-e78c-4bfd-8c01-f7f56a9c3fe4
DTSTART:20260504T140000
DTEND:20260504T170000
DESCRIPTION:
LOCATION:Ottawa
SUMMARY:V Boys Golf @ Ottawa
END:VEVENT
BEGIN:VEVENT
DTSTAMP:20260423T185919Z
UID:09f35c15-327d-42ed-8914-fe08c48c8308
DTSTART:20260504T160000
DTEND:20260504T170000
DESCRIPTION:
LOCATION:Paola High School
SUMMARY:JV Track @ Paola
END:VEVENT
BEGIN:VEVENT
DTSTAMP:20260423T185919Z
UID:875edea3-356c-436b-a866-d247427bc02d
DTSTART:20260505T160000
DTEND:20260505T170000
DESCRIPTION:
LOCATION:Bonner Springs Family YMCA\, 2251 S 138th St\, Bonner Springs\, KS
  66012\, USA
SUMMARY:Girls Swim @ Bonner (Senior Night)
END:VEVENT
BEGIN:VEVENT
DTSTAMP:20260423T185919Z
UID:41a78cce-e0ab-4b8a-97dc-d83c4de3b018
DTSTART:20260505T160000
DTEND:20260505T183000
DESCRIPTION:
LOCATION:Turner High School
SUMMARY:JV/V G Soc @ Turner
END:VEVENT
BEGIN:VEVENT
DTSTAMP:20260423T185919Z
UID:9adcec86-4ace-49f1-9333-22465c759072
DTSTART:20260505T163000
DTEND:20260505T180000
DESCRIPTION:
LOCATION:Ottawa
SUMMARY:JV/V Baseball @ Ottawa
END:VEVENT
BEGIN:VEVENT
DTSTAMP:20260423T185919Z
UID:667d2f69-f038-401d-973d-e67c31f5f9e0
DTSTART:20260505T163000
DTEND:20260505T190000
DESCRIPTION:
LOCATION:Ottawa High School
SUMMARY:JV/V Softball @ Ottawa
END:VEVENT
BEGIN:VEVENT
DTSTAMP:20260423T185919Z
UID:76f1b5c5-375c-450a-b356-0d419189df16
DTSTART;VALUE=DATE:20260506
DTEND;VALUE=DATE:20260507
DESCRIPTION:Awards - 6:30 pm\nConcert - 8:00 pm
LOCATION:THS TPAC
SUMMARY:THS Choir Awards Night and Spring Concert
END:VEVENT
BEGIN:VEVENT
DTSTAMP:20260423T185919Z
UID:b120752e-85ce-41ec-a308-9564926ce316
DTSTART:20260506T090000
DTEND:20260506T120000
DESCRIPTION:
LOCATION:Turner- Painted Hills
SUMMARY:JV Boys Golf @ Painted Hills
END:VEVENT
BEGIN:VEVENT
DTSTAMP:20260423T185919Z
UID:73057fd3-2d78-4f64-9eac-837b189b2662
DTSTART:20260506T143000
DTEND:20260506T143000
DESCRIPTION:
LOCATION:
SUMMARY:THS Early Release
END:VEVENT
BEGIN:VEVENT
DTSTAMP:20260423T185919Z
UID:15a3a6c9-0675-447d-ae89-c39750f49a22
DTSTART:20260507T130000
DTEND:20260507T150000
DESCRIPTION:
LOCATION:Junction City-Rolling Meadows
SUMMARY:V Boys Golf @ Rollings Meadows
END:VEVENT
BEGIN:VEVENT
DTSTAMP:20260423T185919Z
UID:c1c67fac-5612-4319-8361-7a819c0be65f
DTSTART:20260507T153000
DTEND:20260507T170000
DESCRIPTION:
LOCATION:Perry Lecompton
SUMMARY:JV Boys Golf @ Perry Lecompton
END:VEVENT
BEGIN:VEVENT
DTSTAMP:20260423T185919Z
UID:ea59e446-a39a-418d-a2b1-c454cad64fc0
DTSTART:20260507T160000
DTEND:20260507T183000
DESCRIPTION:
LOCATION:Tonganoxie Recreation Commission Baseball Fields
SUMMARY:JV/V Softball vs Piper
END:VEVENT
BEGIN:VEVENT
DTSTAMP:20260423T185919Z
UID:743983f1-02ff-4a88-9da6-70012bee3fd3
DTSTART:20260507T160000
DTEND:20260507T180000
DESCRIPTION:
LOCATION:Atchison
SUMMARY:V Baseball @ Atchison
END:VEVENT
BEGIN:VEVENT
DTSTAMP:20260423T185919Z
UID:07898673-d359-40ef-bb77-3034c4a89e24
DTSTART:20260507T163000
DTEND:20260507T183000
DESCRIPTION:
LOCATION:Eudora High School
SUMMARY:JV/V G Soc @ Eudora
END:VEVENT
BEGIN:VEVENT
DTSTAMP:20260423T185919Z
UID:4e3a7779-c3bd-46ea-b38c-9b4446a484ac
DTSTART:20260508T153000
DTEND:20260508T183000
DESCRIPTION:
LOCATION:Ottawa
SUMMARY:JV Baseball Quad @ Ottawa
END:VEVENT
BEGIN:VEVENT
DTSTAMP:20260423T185919Z
UID:15c0059b-d648-4df0-9bd6-3a7447f3b023
DTSTART:20260508T153000
DTEND:20260508T170000
DESCRIPTION:
LOCATION:Wellsville High School
SUMMARY:V Track @ Wellsville
END:VEVENT
BEGIN:VEVENT
DTSTAMP:20260423T185919Z
UID:523f6056-171f-444a-8d7b-cce0fe26f49f
DTSTART:20260509T100000
DTEND:20260509T120000
DESCRIPTION:
LOCATION:Chieftain Arena
SUMMARY:Graduation
END:VEVENT
BEGIN:VEVENT
DTSTAMP:20260423T185919Z
UID:58bb31aa-cf59-4ad9-8598-57e789b37b82
DTSTART:20260511T150000
DTEND:20260511T170000
DESCRIPTION:
LOCATION:Ottawa
SUMMARY:JV Boys Golf @ Ottawa
END:VEVENT
BEGIN:VEVENT
DTSTAMP:20260423T185919Z
UID:775ffb6a-9ebf-4d1f-bed3-2aa4ebc8eef5
DTSTART:20260511T163000
DTEND:20260511T190000
DESCRIPTION:
LOCATION:Jeff West High School
SUMMARY:JV/V Softball @ Jeff West
END:VEVENT
BEGIN:VEVENT
DTSTAMP:20260423T185919Z
UID:b16e35b2-4171-477b-89fa-5714c0695476
DTSTART:20260512T163000
DTEND:20260512T183000
DESCRIPTION:
LOCATION:Becker Field at Rock Creek High School
SUMMARY:JV Baseball @ Rock Creek
END:VEVENT
BEGIN:VEVENT
DTSTAMP:20260423T185919Z
UID:23b2aa83-e6a2-43e4-9e66-9112101d3cd3
DTSTART:20260512T163000
DTEND:20260512T183000
DESCRIPTION:
LOCATION:Beatty Field\, Tonganoxie\, KS
SUMMARY:JV/V G Soc vs KC Christian (Senior Night)
END:VEVENT
BEGIN:VEVENT
DTSTAMP:20260423T185919Z
UID:b6261ca9-8496-4d4d-a8db-f528110d750b
DTSTART:20260512T163000
DTEND:20260512T183000
DESCRIPTION:
LOCATION:Tonganoxie Recreation Commission Baseball Fields
SUMMARY:V Baseball vs Rock Creek
END:VEVENT
BEGIN:VEVENT
DTSTAMP:20260423T185919Z
UID:038b23a4-94ff-4464-8f32-06c3630d83aa
DTSTART:20260513T143000
DTEND:20260513T143000
DESCRIPTION:
LOCATION:
SUMMARY:THS Early Release
END:VEVENT
BEGIN:VEVENT
DTSTAMP:20260423T185919Z
UID:0806e7d4-1ba2-4f6f-a33e-96e23d721759
DTSTART:20260513T170000
DTEND:20260513T180000
DESCRIPTION:
LOCATION:Tonganoxie Recreation Commission Baseball Fields\, Tonganoxie\, KS
  66086\, USA
SUMMARY:V Boys Baseball VS Lansing
END:VEVENT
BEGIN:VEVENT
DTSTAMP:20260423T185919Z
UID:ede5501a-8bcb-4393-802f-a6512e002116
DTSTART:20260514T153000
DTEND:20260514T170000
DESCRIPTION:
LOCATION:Paola High School
SUMMARY:V Track @ Paola
END:VEVENT
BEGIN:VEVENT
DTSTAMP:20260423T185919Z
UID:061f3565-dc6e-4008-abbb-08f388a31c58
DTSTART:20260514T163000
DTEND:20260514T183000
DESCRIPTION:
LOCATION:Beatty Field\, Tonganoxie\, KS
SUMMARY:JV/V G Soc vs Topeka Hayden
END:VEVENT
BEGIN:VEVENT
DTSTAMP:20260423T185919Z
UID:69abb0a7-3dda-45a8-a7c2-5767142d9add
DTSTART:20260516T190000
DTEND:20260516T210000
DESCRIPTION:
LOCATION:
SUMMARY:Girls Alumni Soccer Scrimmage
END:VEVENT
BEGIN:VEVENT
DTSTAMP:20260423T185919Z
UID:8b349204-f3b9-46ff-b631-fe30ab3fb280
DTSTART;VALUE=DATE:20260518
DTEND;VALUE=DATE:20260519
DESCRIPTION:
LOCATION:TBD
SUMMARY:Softball Regionals
END:VEVENT
BEGIN:VEVENT
DTSTAMP:20260423T185919Z
UID:6d8a6ff2-140d-4946-9cec-e75c7ae0e896
DTSTART;VALUE=DATE:20260518
DTEND;VALUE=DATE:20260519
DESCRIPTION:
LOCATION:TBD
SUMMARY:V Baseball Regionals
END:VEVENT
BEGIN:VEVENT
DTSTAMP:20260423T185919Z
UID:3197a1cd-02c0-4a96-bea3-c47df14024d5
DTSTART;VALUE=DATE:20260518
DTEND;VALUE=DATE:20260519
DESCRIPTION:
LOCATION:TBD
SUMMARY:V G Soccer Regionals
END:VEVENT
BEGIN:VEVENT
DTSTAMP:20260423T185919Z
UID:4e8b99a5-ee57-426d-93b0-b4e5a40afa95
DTSTART:20260518T090000
DTEND:20260518T120000
DESCRIPTION:
LOCATION:TBA
SUMMARY:V Boys Golf Regionals
END:VEVENT
BEGIN:VEVENT
DTSTAMP:20260423T185919Z
UID:2f8e46c2-117f-40d5-8033-4ef0137f269e
DTSTART:20260522T130000
DTEND:20260522T170000
DESCRIPTION:
LOCATION:Eudora High School\, 2203 Church St\, Eudora\, KS 66025\, USA
SUMMARY:Regional Track
END:VEVENT
BEGIN:VEVENT
DTSTAMP:20260423T185919Z
UID:f71f7e54-4cfb-47e6-ace5-4a4dfe020066
DTSTART;VALUE=DATE:20260525
DTEND;VALUE=DATE:20260526
DESCRIPTION:
LOCATION:TBD
SUMMARY:V G Soccer Quarter Finals
END:VEVENT
BEGIN:VEVENT
DTSTAMP:20260423T185919Z
UID:c5645e1a-55de-4f28-b86c-810a5f85d992
DTSTART;VALUE=DATE:20260526
DTEND;VALUE=DATE:20260527
DESCRIPTION:
LOCATION:TBA
SUMMARY:V Boys Golf State
END:VEVENT
BEGIN:VEVENT
DTSTAMP:20260423T185919Z
UID:a6d823af-63f7-4ee9-9072-be8d0003c868
DTSTART;VALUE=DATE:20260527
DTEND;VALUE=DATE:20260528
DESCRIPTION:
LOCATION:TBA
SUMMARY:V Boys Golf State
END:VEVENT
BEGIN:VEVENT
DTSTAMP:20260423T185919Z
UID:e4372a1a-850b-4f67-8102-d77400cfea7f
DTSTART;VALUE=DATE:20260528
DTEND;VALUE=DATE:20260529
DESCRIPTION:
LOCATION:Salina\, KS
SUMMARY:Softball State
END:VEVENT
BEGIN:VEVENT
DTSTAMP:20260423T185919Z
UID:a697ef83-2a7f-45d3-8986-af234cdced39
DTSTART;VALUE=DATE:20260528
DTEND;VALUE=DATE:20260529
DESCRIPTION:
LOCATION:Salina
SUMMARY:V Baseball State
END:VEVENT
BEGIN:VEVENT
DTSTAMP:20260423T185919Z
UID:d95a88c5-8bcc-4f14-9702-0351c49b79b6
DTSTART;VALUE=DATE:20260529
DTEND;VALUE=DATE:20260530
DESCRIPTION:
LOCATION:Salina\, KS
SUMMARY:Softball State
END:VEVENT
BEGIN:VEVENT
DTSTAMP:20260423T185919Z
UID:6002d157-1b02-410b-8077-74fe56a971b8
DTSTART;VALUE=DATE:20260529
DTEND;VALUE=DATE:20260530
DESCRIPTION:
LOCATION:Wichita\, KS
SUMMARY:State Track
END:VEVENT
BEGIN:VEVENT
DTSTAMP:20260423T185919Z
UID:f59d05c0-8950-4fc0-8d3a-5c38a28109bb
DTSTART;VALUE=DATE:20260529
DTEND;VALUE=DATE:20260530
DESCRIPTION:
LOCATION:Salina
SUMMARY:V Baseball State
END:VEVENT
BEGIN:VEVENT
DTSTAMP:20260423T185919Z
UID:75f411f6-8b46-4bec-9082-dabed5f27dbf
DTSTART;VALUE=DATE:20260529
DTEND;VALUE=DATE:20260530
DESCRIPTION:
LOCATION:TBD
SUMMARY:V G Soccer State
END:VEVENT
BEGIN:VEVENT
DTSTAMP:20260423T185919Z
UID:5d6c41f4-ecc0-4825-889e-29aaab7e85fb
DTSTART;VALUE=DATE:20260530
DTEND;VALUE=DATE:20260531
DESCRIPTION:
LOCATION:Wichita\, KS
SUMMARY: State Track
END:VEVENT
BEGIN:VEVENT
DTSTAMP:20260423T185919Z
UID:ebf602d5-03f5-46d9-b30e-935d097f407a
DTSTART;VALUE=DATE:20260530
DTEND;VALUE=DATE:20260531
DESCRIPTION:
LOCATION:TBD
SUMMARY:V G Soccer State
END:VEVENT
BEGIN:VEVENT
DTSTAMP:20260423T185919Z
UID:29f0ba9f-108e-4853-be29-6417d825ef07
DTSTART:20260609T090000
DTEND:20260609T140000
DESCRIPTION:
LOCATION:THS Wrestling Room
SUMMARY:Wrestling Camp
END:VEVENT
BEGIN:VEVENT
DTSTAMP:20260423T185919Z
UID:eb41da17-2bdf-4ffb-b537-36dbe1d30b5f
DTSTART:20260617T090000
DTEND:20260617T140000
DESCRIPTION:
LOCATION:THS Wrestling Room
SUMMARY:Wrestling Camp
END:VEVENT
BEGIN:VEVENT
DTSTAMP:20260423T185919Z
UID:f8fd4468-57ba-4cf7-ba41-c9d47c609404
DTSTART:20260624T090000
DTEND:20260624T140000
DESCRIPTION:
LOCATION:THS Wrestling Room
SUMMARY:Wrestling Camp
END:VEVENT
BEGIN:VEVENT
DTSTAMP:20260423T185919Z
UID:009155a9-3234-479d-a742-195155653f39
DTSTART:20260701T090000
DTEND:20260701T140000
DESCRIPTION:
LOCATION:THS Wrestling Room
SUMMARY:Wrestling Camp
END:VEVENT
BEGIN:VEVENT
DTSTAMP:20260423T185919Z
UID:77997f12-e4db-49a4-b29d-9f2def66ef6e
DTSTART:20260721T103000
DTEND:20260721T133000
DESCRIPTION:
LOCATION:THS Wrestling Room
SUMMARY:Wrestling Camp
END:VEVENT
BEGIN:VEVENT
DTSTAMP:20260423T185919Z
UID:aad34894-e6d3-40c4-bf78-c063534e1588
DTSTART:20260722T103000
DTEND:20260722T133000
DESCRIPTION:
LOCATION:THS Wrestling Room
SUMMARY:Wrestling Camp
END:VEVENT
BEGIN:VEVENT
DTSTAMP:20260423T185919Z
UID:93b107f1-2bb0-4ab2-86cc-81c2c343e06e
DTSTART;VALUE=DATE:20261003
DTEND;VALUE=DATE:20261004
DESCRIPTION:
LOCATION:
SUMMARY:Auto Tech- Car Show
END:VEVENT
BEGIN:VEVENT
DTSTAMP:20260423T185919Z
UID:524b9d15-92c5-40e0-b0d3-f7051ce8dd86
DTSTART:20261010T190000
DTEND:20261010T220000
DESCRIPTION:
LOCATION:
SUMMARY:Homecoming Dance
END:VEVENT
END:VCALENDAR
