BEGIN:VCALENDAR
VERSION:2.0
PRODID:icalendar-ruby
CALSCALE:GREGORIAN
BEGIN:VTIMEZONE
TZID:America/Chicago
BEGIN:DAYLIGHT
DTSTART:20260308T030000
TZOFFSETFROM:-0600
TZOFFSETTO:-0500
RRULE:FREQ=YEARLY;BYDAY=2SU;BYMONTH=3
TZNAME:CDT
END:DAYLIGHT
BEGIN:STANDARD
DTSTART:20261101T010000
TZOFFSETFROM:-0500
TZOFFSETTO:-0600
RRULE:FREQ=YEARLY;BYDAY=1SU;BYMONTH=11
TZNAME:CST
END:STANDARD
END:VTIMEZONE
BEGIN:VEVENT
DTSTAMP:20260421T051015Z
UID:556a9d1f-7473-4475-a9fd-864ee74238e2
DTSTART;VALUE=DATE:20260413
DTEND;VALUE=DATE:20260425
DESCRIPTION:
LOCATION:
SUMMARY:State Testing
END:VEVENT
BEGIN:VEVENT
DTSTAMP:20260421T051015Z
UID:2b477aa2-63b5-4088-8b08-286f6c35c1c3
DTSTART;VALUE=DATE:20260427
DTEND;VALUE=DATE:20260428
DESCRIPTION:
LOCATION:
SUMMARY:8th grade class trip to Branson
END:VEVENT
BEGIN:VEVENT
DTSTAMP:20260421T051015Z
UID:472415c3-b4ea-4391-97f5-7edb6d617bc4
DTSTART:20260430T130000
DTEND:20260430T140000
DESCRIPTION:
LOCATION:
SUMMARY:Kindergarten Graduation
END:VEVENT
BEGIN:VEVENT
DTSTAMP:20260421T051015Z
UID:d7365ee2-c682-4d91-8745-599a92bdbe41
DTSTART:20260430T151500
DTEND:20260430T173000
DESCRIPTION:
LOCATION:
SUMMARY:No After School Programming 
END:VEVENT
BEGIN:VEVENT
DTSTAMP:20260421T051015Z
UID:80049c5e-c392-4ee5-90d9-aaccc59ab1ac
DTSTART:20260430T180000
DTEND:20260430T190000
DESCRIPTION:
LOCATION:
SUMMARY:8th grade graduation
END:VEVENT
BEGIN:VEVENT
DTSTAMP:20260421T051015Z
UID:3aa08ade-69ad-4fce-92cc-f9d866ba15a4
DTSTART:20260501T130000
DTEND:20260501T150000
DESCRIPTION:
LOCATION:
SUMMARY:No After School Programming/early realease/professional development
END:VEVENT
BEGIN:VEVENT
DTSTAMP:20260421T051015Z
UID:ece747bb-634a-4fda-be7f-9f7bfa2e1124
DTSTART:20260505T110000
DTEND:20260505T120000
DESCRIPTION:
LOCATION:
SUMMARY:Board Meeting
END:VEVENT
BEGIN:VEVENT
DTSTAMP:20260421T051015Z
UID:d13d9fde-dfa4-4383-b068-5bbcd88dae04
DTSTART;VALUE=DATE:20260507
DTEND;VALUE=DATE:20260508
DESCRIPTION:
LOCATION:
SUMMARY:LAST DAY OF SCHOOL
END:VEVENT
BEGIN:VEVENT
DTSTAMP:20260421T051015Z
UID:c36a02b4-fe03-4ddd-ad10-8451fc5e14eb
DTSTART:20260507T130000
DTEND:20260507T150000
DESCRIPTION:
LOCATION:
SUMMARY:Talent Show
END:VEVENT
BEGIN:VEVENT
DTSTAMP:20260421T051015Z
UID:27cbbe4b-8a11-4dab-b961-cd518e1efda7
DTSTART:20260507T153000
DTEND:20260507T173000
DESCRIPTION:
LOCATION:
SUMMARY:No after school programming today.  We will see you in summer schoo
 l!
END:VEVENT
BEGIN:VEVENT
DTSTAMP:20260421T051015Z
UID:f8ba6375-86b9-4a53-abd4-384a2a83ade4
DTSTART:20260511T090000
DTEND:20260515T140000
DESCRIPTION:
LOCATION:
SUMMARY:Summer School (Route 66)
END:VEVENT
BEGIN:VEVENT
DTSTAMP:20260421T051015Z
UID:a92844ab-d33b-4665-a3bc-2075cbf366ef
DTSTART:20260512T090000
DTEND:20260512T140000
DESCRIPTION:
LOCATION:
SUMMARY:Summer School (Route 66)
END:VEVENT
BEGIN:VEVENT
DTSTAMP:20260421T051015Z
UID:e889e3f3-a1f4-4dce-b3b2-c36020817e2c
DTSTART:20260518T090000
DTEND:20260522T140000
DESCRIPTION:
LOCATION:
SUMMARY:Summer School (Route 66)
END:VEVENT
BEGIN:VEVENT
DTSTAMP:20260421T051015Z
UID:39dbc117-7629-4edd-b32a-b4b9e3d6c11c
DTSTART;VALUE=DATE:20260525
DTEND;VALUE=DATE:20260526
DESCRIPTION:
LOCATION:
SUMMARY:Memorial Day no summer school
END:VEVENT
BEGIN:VEVENT
DTSTAMP:20260421T051015Z
UID:ed7655c3-482b-482c-9575-937769a42e6c
DTSTART:20260526T090000
DTEND:20260529T140000
DESCRIPTION:
LOCATION:
SUMMARY:Summer School (Route 66)
END:VEVENT
BEGIN:VEVENT
DTSTAMP:20260421T051015Z
UID:4183e6a4-9b10-4cd2-8001-4e2fe1727eba
DTSTART:20260601T090000
DTEND:20260605T140000
DESCRIPTION:
LOCATION:
SUMMARY:Summer School (Route 66)
END:VEVENT
BEGIN:VEVENT
DTSTAMP:20260421T051015Z
UID:d84d5944-c7e5-402e-9961-b35bf771f106
DTSTART:20260604T110000
DTEND:20260604T120000
DESCRIPTION:
LOCATION:
SUMMARY:Board Meeting
END:VEVENT
BEGIN:VEVENT
DTSTAMP:20260421T051015Z
UID:22c8d58d-fc96-4a13-ba90-77d08a268624
DTSTART:20260707T110000
DTEND:20260707T120000
DESCRIPTION:
LOCATION:
SUMMARY:Board Meeting
END:VEVENT
BEGIN:VEVENT
DTSTAMP:20260421T051015Z
UID:d239bdd4-2db8-446d-8c59-82ad457eb7c2
DTSTART:20260806T110000
DTEND:20260806T120000
DESCRIPTION:
LOCATION:
SUMMARY:Board Meeting
END:VEVENT
BEGIN:VEVENT
DTSTAMP:20260421T051015Z
UID:0b4f0115-ff61-4561-a5b8-81de8ce72e53
DTSTART;VALUE=DATE:20260820
DTEND;VALUE=DATE:20260821
DESCRIPTION:
LOCATION:
SUMMARY:First Day of School
END:VEVENT
BEGIN:VEVENT
DTSTAMP:20260421T051015Z
UID:0e02a020-f7c7-44f9-8192-f157d12b5968
DTSTART:20260903T110000
DTEND:20260903T120000
DESCRIPTION:
LOCATION:
SUMMARY:Board Meeting
END:VEVENT
BEGIN:VEVENT
DTSTAMP:20260421T051015Z
UID:ecc0f1c8-3511-408b-b573-e2c5845c24ca
DTSTART;VALUE=DATE:20260907
DTEND;VALUE=DATE:20260908
DESCRIPTION:
LOCATION:
SUMMARY:No School/Labor Day
END:VEVENT
BEGIN:VEVENT
DTSTAMP:20260421T051015Z
UID:5cee77f1-0eae-4b6e-a439-cab87c8d9feb
DTSTART;VALUE=DATE:20260908
DTEND;VALUE=DATE:20260909
DESCRIPTION:
LOCATION:
SUMMARY:No School/Professional Development
END:VEVENT
BEGIN:VEVENT
DTSTAMP:20260421T051015Z
UID:d056caeb-d839-46e3-90dd-6fdf42d4edc1
DTSTART:20261006T110000
DTEND:20261006T120000
DESCRIPTION:
LOCATION:
SUMMARY:Board Meeting
END:VEVENT
BEGIN:VEVENT
DTSTAMP:20260421T051015Z
UID:da58a681-9f8d-4e89-8c3f-6beb78b29134
DTSTART;VALUE=DATE:20261012
DTEND;VALUE=DATE:20261013
DESCRIPTION:
LOCATION:
SUMMARY:Indigenous Peoples Day
END:VEVENT
BEGIN:VEVENT
DTSTAMP:20260421T051015Z
UID:8be56769-35e9-4849-8fe9-343df1fa6577
DTSTART;VALUE=DATE:20261013
DTEND;VALUE=DATE:20261017
DESCRIPTION:
LOCATION:
SUMMARY:Fall Break
END:VEVENT
BEGIN:VEVENT
DTSTAMP:20260421T051015Z
UID:60de4c9f-d0bb-4245-9d04-c53f6dd192fb
DTSTART;VALUE=DATE:20261123
DTEND;VALUE=DATE:20261128
DESCRIPTION:
LOCATION:
SUMMARY:Thanksgiving Break
END:VEVENT
BEGIN:VEVENT
DTSTAMP:20260421T051015Z
UID:6cebe5c3-5262-4509-bbdf-a67e419752cc
DTSTART:20261208T110000
DTEND:20261208T120000
DESCRIPTION:
LOCATION:
SUMMARY:Board Meeting
END:VEVENT
BEGIN:VEVENT
DTSTAMP:20260421T051015Z
UID:8999443b-628d-46e5-8a6c-d9fe407327b4
DTSTART;VALUE=DATE:20261217
DTEND;VALUE=DATE:20261218
DESCRIPTION:
LOCATION:
SUMMARY:End of 1st Semester
END:VEVENT
BEGIN:VEVENT
DTSTAMP:20260421T051015Z
UID:5df66b4e-d11c-4210-b51a-4ddc6cb9afe6
DTSTART;VALUE=DATE:20261218
DTEND;VALUE=DATE:20261219
DESCRIPTION:
LOCATION:
SUMMARY:No School/Professional Development
END:VEVENT
BEGIN:VEVENT
DTSTAMP:20260421T051015Z
UID:f29edf95-ca5a-4539-b1b3-aa90bb6daf74
DTSTART;VALUE=DATE:20261221
DTEND;VALUE=DATE:20270102
DESCRIPTION:
LOCATION:
SUMMARY:Christmas Break
END:VEVENT
BEGIN:VEVENT
DTSTAMP:20260421T051015Z
UID:8393d70e-9c19-4255-937e-f2cdb474ef33
DTSTART;VALUE=DATE:20270104
DTEND;VALUE=DATE:20270105
DESCRIPTION:
LOCATION:
SUMMARY:Classes Resume
END:VEVENT
BEGIN:VEVENT
DTSTAMP:20260421T051015Z
UID:1e8d4650-f737-4da1-bbc9-8ecb8b46223a
DTSTART;VALUE=DATE:20270118
DTEND;VALUE=DATE:20270119
DESCRIPTION:
LOCATION:
SUMMARY:MLK Day/No School
END:VEVENT
BEGIN:VEVENT
DTSTAMP:20260421T051015Z
UID:7f362972-05f9-47c7-bcb2-4f214ee129de
DTSTART;VALUE=DATE:20270215
DTEND;VALUE=DATE:20270216
DESCRIPTION:
LOCATION:
SUMMARY:Presidents Day/No School
END:VEVENT
BEGIN:VEVENT
DTSTAMP:20260421T051015Z
UID:7b4a4350-377e-45d0-b4cf-90e3ec9ac6b2
DTSTART;VALUE=DATE:20270305
DTEND;VALUE=DATE:20270306
DESCRIPTION:
LOCATION:
SUMMARY:End of 3rd 9 weeks
END:VEVENT
BEGIN:VEVENT
DTSTAMP:20260421T051015Z
UID:b7454e8d-5cd4-4ff2-b009-7b46aa86d76e
DTSTART;VALUE=DATE:20270312
DTEND;VALUE=DATE:20270313
DESCRIPTION:
LOCATION:
SUMMARY:Parent Teacher Conference
END:VEVENT
BEGIN:VEVENT
DTSTAMP:20260421T051015Z
UID:999d5c3d-b127-492f-8bca-2a7f419da41b
DTSTART;VALUE=DATE:20270315
DTEND;VALUE=DATE:20270320
DESCRIPTION:
LOCATION:
SUMMARY:Spring Break
END:VEVENT
END:VCALENDAR
