BEGIN:VCALENDAR
VERSION:2.0
PRODID:icalendar-ruby
CALSCALE:GREGORIAN
BEGIN:VTIMEZONE
TZID:America/New_York
BEGIN:DAYLIGHT
DTSTART:20260308T030000
TZOFFSETFROM:-0500
TZOFFSETTO:-0400
RRULE:FREQ=YEARLY;BYDAY=2SU;BYMONTH=3
TZNAME:EDT
END:DAYLIGHT
BEGIN:STANDARD
DTSTART:20261101T010000
TZOFFSETFROM:-0400
TZOFFSETTO:-0500
RRULE:FREQ=YEARLY;BYDAY=1SU;BYMONTH=11
TZNAME:EST
END:STANDARD
END:VTIMEZONE
BEGIN:VEVENT
DTSTAMP:20260421T151931Z
UID:8610edd8-ea43-4c7f-9bd4-12d8b49870c3
DTSTART;VALUE=DATE:20260421
DTEND;VALUE=DATE:20260422
DESCRIPTION:
LOCATION:
SUMMARY:YS Rec Night Nick from the DNR
END:VEVENT
BEGIN:VEVENT
DTSTAMP:20260421T151931Z
UID:612ebadf-93be-4357-94a3-9f9003bac86f
DTSTART:20260511T170000
DTEND:20260511T200000
DESCRIPTION:
LOCATION:
SUMMARY:Senior Banquet
END:VEVENT
BEGIN:VEVENT
DTSTAMP:20260421T151931Z
UID:6de5aeb7-93a9-4979-b59b-e2b4be9d4cdb
DTSTART;VALUE=DATE:20260512
DTEND;VALUE=DATE:20260513
DESCRIPTION:
LOCATION:
SUMMARY:YS REC Night Honoring Our Seniors
END:VEVENT
BEGIN:VEVENT
DTSTAMP:20260421T151931Z
UID:e86a5d05-6513-4c0e-8bad-c084e2008c34
DTSTART;VALUE=DATE:20260514
DTEND;VALUE=DATE:20260515
DESCRIPTION:
LOCATION:
SUMMARY:Last Day Of KIDZONE
END:VEVENT
BEGIN:VEVENT
DTSTAMP:20260421T151931Z
UID:29b32336-2491-47be-8701-184e4c5550b9
DTSTART:20260514T150000
DTEND:20260514T160000
DESCRIPTION:
LOCATION:
SUMMARY:School Board Meetings
END:VEVENT
BEGIN:VEVENT
DTSTAMP:20260421T151931Z
UID:7f24c2da-9f05-4fe8-b0a6-abab19495fd0
DTSTART;VALUE=DATE:20260522
DTEND;VALUE=DATE:20260523
DESCRIPTION:Island Resort Convention Center
LOCATION:
SUMMARY:High School Graduation Ceremony
END:VEVENT
BEGIN:VEVENT
DTSTAMP:20260421T151931Z
UID:ac275b0e-d908-4955-b12f-dc1328f9d01d
DTSTART:20260522T093000
DTEND:20260522T110000
DESCRIPTION:
LOCATION:Island Resort Convention Center 
SUMMARY:Senior Graduation REHEARSAL
END:VEVENT
BEGIN:VEVENT
DTSTAMP:20260421T151931Z
UID:817c2354-5ba3-49f3-b175-bf8a930e88e2
DTSTART;VALUE=DATE:20260525
DTEND;VALUE=DATE:20260526
DESCRIPTION:
LOCATION:
SUMMARY:SCHOOL CLOSED - Memorial Day Holiday
END:VEVENT
BEGIN:VEVENT
DTSTAMP:20260421T151931Z
UID:19f6d52b-c063-477a-9fa7-dd9fe1a307ad
DTSTART;VALUE=DATE:20260605
DTEND;VALUE=DATE:20260606
DESCRIPTION:
LOCATION:
SUMMARY:End of Year - Community Play Day
END:VEVENT
BEGIN:VEVENT
DTSTAMP:20260421T151931Z
UID:47a8c441-523c-4d58-9fed-92352781bc5f
DTSTART;VALUE=DATE:20260608
DTEND;VALUE=DATE:20260609
DESCRIPTION:<p><a target="_blank" rel="noopener noreferrer nofollow" href="
 https://hannahvilleindianschoolmi.sites.thrillshare.com/page/school-calend
 ar" relative-link="">Updated 2025-26 School Calendar</a></p>
LOCATION:
SUMMARY:Additional School Day - Early Release
END:VEVENT
BEGIN:VEVENT
DTSTAMP:20260421T151931Z
UID:23f6e19d-eabd-4d51-99b1-993957f8d552
DTSTART:20260609T113000
DTEND:20260609T123000
DESCRIPTION:<p>Wishing all Nah Tah Wahsh PSA and Hannahville Indian School 
 families a happy summer vacation! See you in the fall!!</p><p><a target="_
 blank" rel="noopener noreferrer nofollow" href="https://hannahvilleindians
 choolmi.sites.thrillshare.com/page/school-calendar" relative-link="">Updat
 ed 2025-26 School Calendar</a></p>
LOCATION:
SUMMARY:Last Day of School - Student Early Dismissal
END:VEVENT
BEGIN:VEVENT
DTSTAMP:20260421T151931Z
UID:454921cc-ac79-4325-9934-03afbb2b353d
DTSTART:20260611T100000
DTEND:20260611T110000
DESCRIPTION:
LOCATION:
SUMMARY:School Board Meetings
END:VEVENT
BEGIN:VEVENT
DTSTAMP:20260421T151931Z
UID:81e22fdc-e623-4124-9fe3-f0763975ce20
DTSTART:20260709T100000
DTEND:20260709T110000
DESCRIPTION:
LOCATION:
SUMMARY:School Board Meetings
END:VEVENT
END:VCALENDAR
