BEGIN:VCALENDAR
VERSION:2.0
PRODID:icalendar-ruby
CALSCALE:GREGORIAN
BEGIN:VTIMEZONE
TZID:America/Chicago
BEGIN:DAYLIGHT
DTSTART:20260308T030000
TZOFFSETFROM:-0600
TZOFFSETTO:-0500
RRULE:FREQ=YEARLY;BYDAY=2SU;BYMONTH=3
TZNAME:CDT
END:DAYLIGHT
BEGIN:STANDARD
DTSTART:20261101T010000
TZOFFSETFROM:-0500
TZOFFSETTO:-0600
RRULE:FREQ=YEARLY;BYDAY=1SU;BYMONTH=11
TZNAME:CST
END:STANDARD
END:VTIMEZONE
BEGIN:VEVENT
DTSTAMP:20260423T124404Z
UID:c46ee098-59bc-414f-b6c6-6d9deb073075
DTSTART:20260514T180000
DTEND:20260514T190000
DESCRIPTION:
LOCATION:
SUMMARY:School Board Meeting
END:VEVENT
BEGIN:VEVENT
DTSTAMP:20260423T124404Z
UID:da67b4a7-2958-40d1-8366-96db0b0467a2
DTSTART;VALUE=DATE:20260516
DTEND;VALUE=DATE:20260517
DESCRIPTION:
LOCATION:
SUMMARY:Graduation
END:VEVENT
BEGIN:VEVENT
DTSTAMP:20260423T124404Z
UID:94cd67d0-4710-4d41-82b7-8250c2b6e21b
DTSTART;VALUE=DATE:20260521
DTEND;VALUE=DATE:20260522
DESCRIPTION:
LOCATION:
SUMMARY:End of Quarter 4 (281.25 hrs)
END:VEVENT
BEGIN:VEVENT
DTSTAMP:20260423T124404Z
UID:f2c95db9-b623-4c3e-99b6-999062e6da05
DTSTART;VALUE=DATE:20260522
DTEND;VALUE=DATE:20260524
DESCRIPTION:
LOCATION:
SUMMARY:Snow Make-Up (37.5 hrs)
END:VEVENT
BEGIN:VEVENT
DTSTAMP:20260423T124404Z
UID:1d7c3bb6-8267-42d5-bf23-a09fdf309694
DTSTART;VALUE=DATE:20260522
DTEND;VALUE=DATE:20260523
DESCRIPTION:
LOCATION:
SUMMARY:Staff Convocation
END:VEVENT
BEGIN:VEVENT
DTSTAMP:20260423T124404Z
UID:3e676844-6b14-48d9-9a2a-fcbd83e77c2d
DTSTART;VALUE=DATE:20260525
DTEND;VALUE=DATE:20260526
DESCRIPTION:
LOCATION:
SUMMARY:No School
END:VEVENT
BEGIN:VEVENT
DTSTAMP:20260423T124404Z
UID:333f61bc-e559-4975-845b-edfffc9e1aa9
DTSTART;VALUE=DATE:20260525
DTEND;VALUE=DATE:20260530
DESCRIPTION:
LOCATION:
SUMMARY:Snow Make-Up
END:VEVENT
BEGIN:VEVENT
DTSTAMP:20260423T124404Z
UID:e865035b-6db9-48bc-868f-587f73ef512c
DTSTART;VALUE=DATE:20260530
DTEND;VALUE=DATE:20260531
DESCRIPTION:
LOCATION:Alma Primary School\, 1600 US-64 BUS\, Alma\, Arkansas 72921\, USA
SUMMARY:Hand to Hand Family Fun day
END:VEVENT
BEGIN:VEVENT
DTSTAMP:20260423T124404Z
UID:be5bfba2-a358-4267-83d6-095c8a5fdd0b
DTSTART:20260611T180000
DTEND:20260611T190000
DESCRIPTION:
LOCATION:
SUMMARY:School Board Meeting
END:VEVENT
BEGIN:VEVENT
DTSTAMP:20260423T124404Z
UID:8d9201f8-2fdf-4721-8611-5d0468126df6
DTSTART;VALUE=DATE:20260622
DTEND;VALUE=DATE:20260627
DESCRIPTION:
LOCATION:
SUMMARY:Athletic Dead Period
END:VEVENT
BEGIN:VEVENT
DTSTAMP:20260423T124404Z
UID:09b2da7d-3cce-416c-8697-fdf1921efb9c
DTSTART;VALUE=DATE:20260629
DTEND;VALUE=DATE:20260701
DESCRIPTION:
LOCATION:
SUMMARY:Athletic Dead Period
END:VEVENT
END:VCALENDAR
