BEGIN:VCALENDAR
VERSION:2.0
PRODID:icalendar-ruby
CALSCALE:GREGORIAN
BEGIN:VTIMEZONE
TZID:America/Chicago
BEGIN:DAYLIGHT
DTSTART:20260308T030000
TZOFFSETFROM:-0600
TZOFFSETTO:-0500
RRULE:FREQ=YEARLY;BYDAY=2SU;BYMONTH=3
TZNAME:CDT
END:DAYLIGHT
BEGIN:STANDARD
DTSTART:20261101T010000
TZOFFSETFROM:-0500
TZOFFSETTO:-0600
RRULE:FREQ=YEARLY;BYDAY=1SU;BYMONTH=11
TZNAME:CST
END:STANDARD
END:VTIMEZONE
BEGIN:VEVENT
DTSTAMP:20260423T190302Z
UID:cbef30ca-ed46-4f6f-8f51-3c856ff3905a
DTSTART:20260423T170000
DTEND:20260423T190000
DESCRIPTION:
LOCATION:
SUMMARY:Math & Reading Night
END:VEVENT
BEGIN:VEVENT
DTSTAMP:20260423T190302Z
UID:2a9c3bf7-3298-4ed8-bd32-ad11bd24e702
DTSTART;VALUE=DATE:20260425
DTEND;VALUE=DATE:20260426
DESCRIPTION:
LOCATION:
SUMMARY:State Speech Meet @Mandan
END:VEVENT
BEGIN:VEVENT
DTSTAMP:20260423T190302Z
UID:f6607f41-11c5-4c46-ae85-b8e9a19f4a36
DTSTART:20260429T123000
DTEND:20260429T160000
DESCRIPTION:
LOCATION:
SUMMARY:Early Out - School Dismisses at 12:30pm
END:VEVENT
BEGIN:VEVENT
DTSTAMP:20260423T190302Z
UID:d446baf6-1319-401b-a225-eca98b90a2ba
DTSTART;VALUE=DATE:20260506
DTEND;VALUE=DATE:20260507
DESCRIPTION:<p>Students enrolled in BASC courses in-person learning day</p>
LOCATION:
SUMMARY:BASC day
END:VEVENT
BEGIN:VEVENT
DTSTAMP:20260423T190302Z
UID:f1631d89-ce3a-43e8-84df-361ec22f0474
DTSTART:20260514T190000
DTEND:20260514T210000
DESCRIPTION:
LOCATION:
SUMMARY:School Board Meeting 
END:VEVENT
BEGIN:VEVENT
DTSTAMP:20260423T190302Z
UID:b4e61bda-49c0-40e7-ab8a-6ba08a8e3a21
DTSTART:20260515T190000
DTEND:20260515T203000
DESCRIPTION:
LOCATION:
SUMMARY:Spring Concert
END:VEVENT
BEGIN:VEVENT
DTSTAMP:20260423T190302Z
UID:6ea33878-b346-4f3a-be6d-e8766c92f0c5
DTSTART;VALUE=DATE:20260520
DTEND;VALUE=DATE:20260521
DESCRIPTION:
LOCATION:
SUMMARY:Last Day of School
END:VEVENT
BEGIN:VEVENT
DTSTAMP:20260423T190302Z
UID:32ebba51-cc7a-48f9-b4bb-af1a2da06b7b
DTSTART;VALUE=DATE:20260523
DTEND;VALUE=DATE:20260524
DESCRIPTION:
LOCATION:
SUMMARY:Graduation at Burke Central School (TBA)
END:VEVENT
BEGIN:VEVENT
DTSTAMP:20260423T190302Z
UID:d61f8a18-fb98-42af-b5a6-27beb1b39cbf
DTSTART:20260611T190000
DTEND:20260611T210000
DESCRIPTION:
LOCATION:
SUMMARY:School Board Meeting 
END:VEVENT
END:VCALENDAR
