BEGIN:VCALENDAR
VERSION:2.0
PRODID:icalendar-ruby
CALSCALE:GREGORIAN
BEGIN:VTIMEZONE
TZID:America/New_York
BEGIN:DAYLIGHT
DTSTART:20260308T030000
TZOFFSETFROM:-0500
TZOFFSETTO:-0400
RRULE:FREQ=YEARLY;BYDAY=2SU;BYMONTH=3
TZNAME:EDT
END:DAYLIGHT
BEGIN:STANDARD
DTSTART:20261101T010000
TZOFFSETFROM:-0400
TZOFFSETTO:-0500
RRULE:FREQ=YEARLY;BYDAY=1SU;BYMONTH=11
TZNAME:EST
END:STANDARD
END:VTIMEZONE
BEGIN:VEVENT
DTSTAMP:20260423T101403Z
UID:0f83a231-7b49-440e-81df-3f6c2b43e98d
DTSTART;VALUE=DATE:20260518
DTEND;VALUE=DATE:20260519
DESCRIPTION:
LOCATION:
SUMMARY:Victoria Day
END:VEVENT
BEGIN:VEVENT
DTSTAMP:20260423T101403Z
UID:f9b6cd5f-4281-4c49-94a9-59581e49b744
DTSTART;VALUE=DATE:20260605
DTEND;VALUE=DATE:20260606
DESCRIPTION:
LOCATION:
SUMMARY:PA Day for Elementary Schools
END:VEVENT
BEGIN:VEVENT
DTSTAMP:20260423T101403Z
UID:1d5776ce-e929-4509-97b7-2a6eea0b1f24
DTSTART;VALUE=DATE:20260624
DTEND;VALUE=DATE:20260625
DESCRIPTION:
LOCATION:
SUMMARY:Last Day of Exams for Secondary Students
END:VEVENT
BEGIN:VEVENT
DTSTAMP:20260423T101403Z
UID:4ee8e22c-3be5-447f-b7ad-9759c17ff68e
DTSTART;VALUE=DATE:20260625
DTEND;VALUE=DATE:20260626
DESCRIPTION:
LOCATION:
SUMMARY:Last Day of Classes for Elementary Students
END:VEVENT
BEGIN:VEVENT
DTSTAMP:20260423T101403Z
UID:4ed3b79f-ef3a-48e1-95fd-fd366b6d47a4
DTSTART;VALUE=DATE:20260625
DTEND;VALUE=DATE:20260626
DESCRIPTION:
LOCATION:
SUMMARY:PA Day for Secondary Schools
END:VEVENT
BEGIN:VEVENT
DTSTAMP:20260423T101403Z
UID:1ab3fa4c-ff3b-45f1-a4e5-c56446272df7
DTSTART;VALUE=DATE:20260626
DTEND;VALUE=DATE:20260627
DESCRIPTION:
LOCATION:
SUMMARY:Last Day of School Year
END:VEVENT
BEGIN:VEVENT
DTSTAMP:20260423T101403Z
UID:807605e0-8eee-4134-ba7c-878920db9fdf
DTSTART;VALUE=DATE:20260626
DTEND;VALUE=DATE:20260627
DESCRIPTION:
LOCATION:
SUMMARY:PA Day for Elementary and Secondary Schools
END:VEVENT
BEGIN:VEVENT
DTSTAMP:20260423T101403Z
UID:e3bb063a-e998-4f39-82de-f3a731be52b7
DTSTART;VALUE=DATE:20260902
DTEND;VALUE=DATE:20260903
DESCRIPTION:
LOCATION:
SUMMARY:PA Day for Elementary and Secondary Schools
END:VEVENT
BEGIN:VEVENT
DTSTAMP:20260423T101403Z
UID:6be8980e-5239-4163-a410-f2bf80cc65a7
DTSTART;VALUE=DATE:20260903
DTEND;VALUE=DATE:20260904
DESCRIPTION:
LOCATION:
SUMMARY:PA Day for Elementary and Secondary Schools
END:VEVENT
BEGIN:VEVENT
DTSTAMP:20260423T101403Z
UID:68747a88-41db-4474-9f23-38e1ea8ce177
DTSTART;VALUE=DATE:20260907
DTEND;VALUE=DATE:20260908
DESCRIPTION:
LOCATION:
SUMMARY:Labour Day
END:VEVENT
BEGIN:VEVENT
DTSTAMP:20260423T101403Z
UID:03bfaafe-f6ce-4c8f-9bb2-63fcf3ab4aa0
DTSTART;VALUE=DATE:20260908
DTEND;VALUE=DATE:20260909
DESCRIPTION:
LOCATION:
SUMMARY:First Day of School for Students
END:VEVENT
BEGIN:VEVENT
DTSTAMP:20260423T101403Z
UID:77b68636-0f0f-4c8b-8571-846a08344f1b
DTSTART;VALUE=DATE:20261012
DTEND;VALUE=DATE:20261013
DESCRIPTION:
LOCATION:
SUMMARY:Thanksgiving Day
END:VEVENT
BEGIN:VEVENT
DTSTAMP:20260423T101403Z
UID:190c6b5b-0ccf-49fb-98ba-e206973db9fc
DTSTART;VALUE=DATE:20261120
DTEND;VALUE=DATE:20261121
DESCRIPTION:
LOCATION:
SUMMARY:PA Day for Elementary and Secondary Schools
END:VEVENT
BEGIN:VEVENT
DTSTAMP:20260423T101403Z
UID:a3b94e3d-44c7-4b0b-bf7c-884dabc5a6c4
DTSTART;VALUE=DATE:20261221
DTEND;VALUE=DATE:20270102
DESCRIPTION:
LOCATION:
SUMMARY:Christmas Break
END:VEVENT
BEGIN:VEVENT
DTSTAMP:20260423T101403Z
UID:3cfc0198-1594-4b39-a04e-12d90701f83b
DTSTART;VALUE=DATE:20270115
DTEND;VALUE=DATE:20270116
DESCRIPTION:
LOCATION:
SUMMARY:PA Day for Elementary Schools
END:VEVENT
BEGIN:VEVENT
DTSTAMP:20260423T101403Z
UID:39050779-88b5-488a-ae78-4a08152c8963
DTSTART;VALUE=DATE:20270202
DTEND;VALUE=DATE:20270203
DESCRIPTION:
LOCATION:
SUMMARY:PA Day for Secondary Schools
END:VEVENT
BEGIN:VEVENT
DTSTAMP:20260423T101403Z
UID:f1bb9f7a-b14f-4ac9-ace3-37e5f85bfc9a
DTSTART;VALUE=DATE:20270212
DTEND;VALUE=DATE:20270213
DESCRIPTION:
LOCATION:
SUMMARY:PA Day for Elementary and Secondary Schools
END:VEVENT
BEGIN:VEVENT
DTSTAMP:20260423T101403Z
UID:2b383a52-b7de-4737-956a-4430442fa098
DTSTART;VALUE=DATE:20270215
DTEND;VALUE=DATE:20270216
DESCRIPTION:
LOCATION:
SUMMARY:Family Day
END:VEVENT
BEGIN:VEVENT
DTSTAMP:20260423T101403Z
UID:d8101c2f-fd07-4703-bfd0-60efd578cf53
DTSTART;VALUE=DATE:20270315
DTEND;VALUE=DATE:20270320
DESCRIPTION:
LOCATION:
SUMMARY:Mid-Winter Break
END:VEVENT
BEGIN:VEVENT
DTSTAMP:20260423T101403Z
UID:eb517bcc-20c7-4f29-b875-c91b0241417f
DTSTART;VALUE=DATE:20270326
DTEND;VALUE=DATE:20270327
DESCRIPTION:
LOCATION:
SUMMARY:Good Friday
END:VEVENT
BEGIN:VEVENT
DTSTAMP:20260423T101403Z
UID:57a0aedf-502b-451b-b24b-877f4b65285b
DTSTART;VALUE=DATE:20270329
DTEND;VALUE=DATE:20270330
DESCRIPTION:
LOCATION:
SUMMARY:Easter Monday
END:VEVENT
BEGIN:VEVENT
DTSTAMP:20260423T101403Z
UID:441472c8-4cd8-4aef-9641-8575b7033f9c
DTSTART;VALUE=DATE:20270524
DTEND;VALUE=DATE:20270525
DESCRIPTION:
LOCATION:
SUMMARY:Victoria Day
END:VEVENT
BEGIN:VEVENT
DTSTAMP:20260423T101403Z
UID:6fc3c1f1-2c42-429b-9ced-954cedd3be81
DTSTART;VALUE=DATE:20270601
DTEND;VALUE=DATE:20270602
DESCRIPTION:<p>Ontario Day is an instructional day.</p>
LOCATION:
SUMMARY:Ontario Day
END:VEVENT
BEGIN:VEVENT
DTSTAMP:20260423T101403Z
UID:aec4700b-2fca-4514-82ba-f0651a03e203
DTSTART;VALUE=DATE:20270604
DTEND;VALUE=DATE:20270605
DESCRIPTION:
LOCATION:
SUMMARY:PA Day for Elementary Schools
END:VEVENT
BEGIN:VEVENT
DTSTAMP:20260423T101403Z
UID:1a93f21d-6b18-4724-a1bb-87747e6ba7d9
DTSTART;VALUE=DATE:20270628
DTEND;VALUE=DATE:20270629
DESCRIPTION:
LOCATION:
SUMMARY:Last Day of Exams for Secondary Students
END:VEVENT
BEGIN:VEVENT
DTSTAMP:20260423T101403Z
UID:1b38466e-8acb-4459-a642-f15916e1dd9c
DTSTART;VALUE=DATE:20270629
DTEND;VALUE=DATE:20270630
DESCRIPTION:
LOCATION:
SUMMARY:PA Day for Secondary Schools
END:VEVENT
BEGIN:VEVENT
DTSTAMP:20260423T101403Z
UID:a68db706-575f-4282-92f8-e4d6290c20a3
DTSTART;VALUE=DATE:20270629
DTEND;VALUE=DATE:20270630
DESCRIPTION:
LOCATION:
SUMMARY:Last Day of Classes for Elementary Students
END:VEVENT
BEGIN:VEVENT
DTSTAMP:20260423T101403Z
UID:1f659892-ee0d-4614-8a09-8a4c9feb616f
DTSTART;VALUE=DATE:20270630
DTEND;VALUE=DATE:20270701
DESCRIPTION:
LOCATION:
SUMMARY:PA Day for Elementary and Secondary Schools
END:VEVENT
BEGIN:VEVENT
DTSTAMP:20260423T101403Z
UID:4d97f45a-a0dd-4dc5-96b2-da215a927490
DTSTART;VALUE=DATE:20270630
DTEND;VALUE=DATE:20270701
DESCRIPTION:
LOCATION:
SUMMARY:Last Day of School Year
END:VEVENT
END:VCALENDAR
