BEGIN:VCALENDAR
VERSION:2.0
PRODID:icalendar-ruby
CALSCALE:GREGORIAN
BEGIN:VTIMEZONE
TZID:America/New_York
BEGIN:DAYLIGHT
DTSTART:20260308T030000
TZOFFSETFROM:-0500
TZOFFSETTO:-0400
RRULE:FREQ=YEARLY;BYDAY=2SU;BYMONTH=3
TZNAME:EDT
END:DAYLIGHT
BEGIN:STANDARD
DTSTART:20261101T010000
TZOFFSETFROM:-0400
TZOFFSETTO:-0500
RRULE:FREQ=YEARLY;BYDAY=1SU;BYMONTH=11
TZNAME:EST
END:STANDARD
END:VTIMEZONE
BEGIN:VEVENT
DTSTAMP:20260423T133428Z
UID:dcbe8b2e-2113-4d63-bf30-e50e0036892a
DTSTART;VALUE=DATE:20260501
DTEND;VALUE=DATE:20260502
DESCRIPTION:
LOCATION:
SUMMARY:Early Dismissal\, PM PD
END:VEVENT
BEGIN:VEVENT
DTSTAMP:20260423T133428Z
UID:d5be17bc-182f-463e-8e08-8c08a196f0f7
DTSTART:20260512T193000
DTEND:20260512T210000
DESCRIPTION:
LOCATION:LMHS Library
SUMMARY:Board of Education Regular Meeting
END:VEVENT
BEGIN:VEVENT
DTSTAMP:20260423T133428Z
UID:b1996a48-66c4-4d31-8257-922dec4b6cfd
DTSTART;VALUE=DATE:20260525
DTEND;VALUE=DATE:20260526
DESCRIPTION:
LOCATION:
SUMMARY:Memorial Day\, District Closed
END:VEVENT
BEGIN:VEVENT
DTSTAMP:20260423T133428Z
UID:d7ddea0a-17c6-4f75-a32c-81ae0b9f496d
DTSTART:20260609T193000
DTEND:20260609T210000
DESCRIPTION:
LOCATION:LMHS Library
SUMMARY:Board of Education Regular Meeting
END:VEVENT
BEGIN:VEVENT
DTSTAMP:20260423T133428Z
UID:582ee082-87c3-46e4-8a8a-fd74657eb256
DTSTART:20260612T180000
DTEND:20260612T193000
DESCRIPTION:
LOCATION:
SUMMARY:LMHS Graduation
END:VEVENT
BEGIN:VEVENT
DTSTAMP:20260423T133428Z
UID:bba8ab8e-33ad-44e5-939a-ff0e129a330a
DTSTART;VALUE=DATE:20260616
DTEND;VALUE=DATE:20260617
DESCRIPTION:
LOCATION:
SUMMARY:Early Dismissal LMHS\, Exams
END:VEVENT
BEGIN:VEVENT
DTSTAMP:20260423T133428Z
UID:e60e3a87-4c87-41b1-806d-1f732c07f7d9
DTSTART;VALUE=DATE:20260617
DTEND;VALUE=DATE:20260618
DESCRIPTION:
LOCATION:
SUMMARY:Early Dismissal LMHS\, Exams
END:VEVENT
BEGIN:VEVENT
DTSTAMP:20260423T133428Z
UID:1d6deee1-5eb8-4241-bfc6-426387382349
DTSTART;VALUE=DATE:20260618
DTEND;VALUE=DATE:20260619
DESCRIPTION:
LOCATION:
SUMMARY:Early Dismissal All Students
END:VEVENT
BEGIN:VEVENT
DTSTAMP:20260423T133428Z
UID:e817bf8c-67f6-406a-9d2c-31b36a8f0375
DTSTART;VALUE=DATE:20260619
DTEND;VALUE=DATE:20260620
DESCRIPTION:
LOCATION:
SUMMARY:Last Day of School! Early Dismissal All Students
END:VEVENT
BEGIN:VEVENT
DTSTAMP:20260423T133428Z
UID:0eeaf049-2855-4fda-8a47-c35a959f7dd5
DTSTART:20260811T193000
DTEND:20260811T210000
DESCRIPTION:
LOCATION:LMHS Library
SUMMARY:Board of Education Regular Meeting
END:VEVENT
BEGIN:VEVENT
DTSTAMP:20260423T133428Z
UID:64b17f4d-9b42-4a76-8400-c0ac869e7da8
DTSTART;VALUE=DATE:20260821
DTEND;VALUE=DATE:20260822
DESCRIPTION:
LOCATION:LMHS Library
SUMMARY:New Staff Orientation
END:VEVENT
BEGIN:VEVENT
DTSTAMP:20260423T133428Z
UID:151172f2-d050-40b4-b59f-c9c3dab6eae4
DTSTART;VALUE=DATE:20260824
DTEND;VALUE=DATE:20260825
DESCRIPTION:
LOCATION:
SUMMARY:Convocation - All Staff
END:VEVENT
BEGIN:VEVENT
DTSTAMP:20260423T133428Z
UID:de5462e4-97da-434b-8ccc-0382b42e9ea6
DTSTART;VALUE=DATE:20260825
DTEND;VALUE=DATE:20260826
DESCRIPTION:
LOCATION:
SUMMARY:Professional Development Day
END:VEVENT
BEGIN:VEVENT
DTSTAMP:20260423T133428Z
UID:1550c845-938a-4227-9225-97bf945ae2f8
DTSTART;VALUE=DATE:20260826
DTEND;VALUE=DATE:20260827
DESCRIPTION:
LOCATION:
SUMMARY:First Day of School! Early Dismissal
END:VEVENT
BEGIN:VEVENT
DTSTAMP:20260423T133428Z
UID:3dd80eca-2360-470d-87ff-f6aaca2cf4b6
DTSTART;VALUE=DATE:20260907
DTEND;VALUE=DATE:20260908
DESCRIPTION:
LOCATION:
SUMMARY:District Closed\, Labor Day
END:VEVENT
BEGIN:VEVENT
DTSTAMP:20260423T133428Z
UID:f5460de0-f8eb-450d-b040-9102951793cf
DTSTART:20260908T193000
DTEND:20260908T210000
DESCRIPTION:
LOCATION:LMHS Library
SUMMARY:Board of Education Regular Meeting
END:VEVENT
BEGIN:VEVENT
DTSTAMP:20260423T133428Z
UID:18d79d2e-bd03-4058-8738-685e76b13be0
DTSTART;VALUE=DATE:20261002
DTEND;VALUE=DATE:20261003
DESCRIPTION:
LOCATION:
SUMMARY:Professional Development Day
END:VEVENT
BEGIN:VEVENT
DTSTAMP:20260423T133428Z
UID:5408a0d0-f466-44e8-bf67-054957c526f8
DTSTART;VALUE=DATE:20261012
DTEND;VALUE=DATE:20261013
DESCRIPTION:
LOCATION:
SUMMARY:District Closed\, Indigenous Peoples' and Columbus Day
END:VEVENT
BEGIN:VEVENT
DTSTAMP:20260423T133428Z
UID:0f2f4730-691c-4035-969d-901b87e496e2
DTSTART:20261013T193000
DTEND:20261013T210000
DESCRIPTION:
LOCATION:LMHS Library
SUMMARY:Board of Education Regular Meeting
END:VEVENT
BEGIN:VEVENT
DTSTAMP:20260423T133428Z
UID:06b8df82-c521-4383-b3ad-5b79c8e95a73
DTSTART;VALUE=DATE:20261102
DTEND;VALUE=DATE:20261103
DESCRIPTION:
LOCATION:
SUMMARY:Early Dismissal\, All Students\; Parent Teacher Conferences
END:VEVENT
BEGIN:VEVENT
DTSTAMP:20260423T133428Z
UID:741c9975-1109-4418-8731-b16da2f48c01
DTSTART;VALUE=DATE:20261103
DTEND;VALUE=DATE:20261104
DESCRIPTION:
LOCATION:
SUMMARY:No School All Students\; Parent Teacher Conferences
END:VEVENT
BEGIN:VEVENT
DTSTAMP:20260423T133428Z
UID:b23c9f52-5bd4-4108-a544-d9e06c9f2cdd
DTSTART:20261110T193000
DTEND:20261110T210000
DESCRIPTION:
LOCATION:LMHS Library
SUMMARY:Board of Education Regular Meeting
END:VEVENT
BEGIN:VEVENT
DTSTAMP:20260423T133428Z
UID:8f529252-9cf1-4548-8279-222867902df1
DTSTART;VALUE=DATE:20261111
DTEND;VALUE=DATE:20261112
DESCRIPTION:
LOCATION:
SUMMARY:District Closed\; Veterans Day
END:VEVENT
BEGIN:VEVENT
DTSTAMP:20260423T133428Z
UID:facca565-ce0d-4a92-9d65-4e3f09c22503
DTSTART;VALUE=DATE:20261125
DTEND;VALUE=DATE:20261126
DESCRIPTION:
LOCATION:
SUMMARY:Early Dismissal
END:VEVENT
BEGIN:VEVENT
DTSTAMP:20260423T133428Z
UID:1ba39dbb-f352-49cd-9ced-fb83139f3953
DTSTART;VALUE=DATE:20261126
DTEND;VALUE=DATE:20261128
DESCRIPTION:
LOCATION:
SUMMARY:District Closed\; Thanksgiving
END:VEVENT
BEGIN:VEVENT
DTSTAMP:20260423T133428Z
UID:657ac937-16ff-43a1-befb-11135c932c34
DTSTART:20261208T193000
DTEND:20261208T210000
DESCRIPTION:
LOCATION:LMHS Library
SUMMARY:Board of Education Regular Meeting
END:VEVENT
BEGIN:VEVENT
DTSTAMP:20260423T133428Z
UID:4c048652-5be4-4592-a190-4a5aa9c2aac7
DTSTART;VALUE=DATE:20261223
DTEND;VALUE=DATE:20261224
DESCRIPTION:
LOCATION:
SUMMARY:Early Dismissal
END:VEVENT
BEGIN:VEVENT
DTSTAMP:20260423T133428Z
UID:3981fe8c-5206-4625-9e4f-fe7e764a7918
DTSTART;VALUE=DATE:20261224
DTEND;VALUE=DATE:20270102
DESCRIPTION:
LOCATION:
SUMMARY:No School\; Winter Break
END:VEVENT
BEGIN:VEVENT
DTSTAMP:20260423T133428Z
UID:1329b2e4-53b7-4a10-a624-1cece951fc83
DTSTART;VALUE=DATE:20270114
DTEND;VALUE=DATE:20270115
DESCRIPTION:
LOCATION:
SUMMARY:Early Dismissal LMHS\; Exams
END:VEVENT
BEGIN:VEVENT
DTSTAMP:20260423T133428Z
UID:21648864-4847-40d8-bb49-4b91c8e53e16
DTSTART;VALUE=DATE:20270115
DTEND;VALUE=DATE:20270116
DESCRIPTION:
LOCATION:
SUMMARY:Early Dismissal LMHS\; Exams
END:VEVENT
BEGIN:VEVENT
DTSTAMP:20260423T133428Z
UID:251f5cb6-7d16-47d5-94e9-f39e6d977451
DTSTART;VALUE=DATE:20270118
DTEND;VALUE=DATE:20270119
DESCRIPTION:
LOCATION:
SUMMARY:District Closed\; MLK Day
END:VEVENT
BEGIN:VEVENT
DTSTAMP:20260423T133428Z
UID:5bfb3641-84f6-48d2-9b81-5e0af3b16ed3
DTSTART;VALUE=DATE:20270119
DTEND;VALUE=DATE:20270120
DESCRIPTION:
LOCATION:
SUMMARY:Early Dismissal LMHS\; Exams
END:VEVENT
BEGIN:VEVENT
DTSTAMP:20260423T133428Z
UID:9cf2ebef-3c63-4b88-9643-ef9a8238f87e
DTSTART;VALUE=DATE:20270120
DTEND;VALUE=DATE:20270121
DESCRIPTION:
LOCATION:
SUMMARY:Early Dismissal LMHS\; Exams
END:VEVENT
BEGIN:VEVENT
DTSTAMP:20260423T133428Z
UID:b0a1ae9c-5b54-4770-8a2b-cbf4604177ef
DTSTART;VALUE=DATE:20270212
DTEND;VALUE=DATE:20270213
DESCRIPTION:
LOCATION:
SUMMARY:Professional Development Day
END:VEVENT
BEGIN:VEVENT
DTSTAMP:20260423T133428Z
UID:d769b5bc-c26e-4f5c-bc56-958212380c3d
DTSTART;VALUE=DATE:20270215
DTEND;VALUE=DATE:20270216
DESCRIPTION:
LOCATION:
SUMMARY:District Closed\; Presidents' Day
END:VEVENT
BEGIN:VEVENT
DTSTAMP:20260423T133428Z
UID:a8349482-d67f-4e83-ba5b-f28eaf4e1c76
DTSTART;VALUE=DATE:20270216
DTEND;VALUE=DATE:20270217
DESCRIPTION:
LOCATION:
SUMMARY:No School\; February Break
END:VEVENT
BEGIN:VEVENT
DTSTAMP:20260423T133428Z
UID:621b4794-c889-48ec-bbdd-e14dd59201b9
DTSTART;VALUE=DATE:20270305
DTEND;VALUE=DATE:20270306
DESCRIPTION:
LOCATION:
SUMMARY:Professional Development Day
END:VEVENT
BEGIN:VEVENT
DTSTAMP:20260423T133428Z
UID:ce28cb66-d082-456c-8c4f-29f6b7d760b8
DTSTART;VALUE=DATE:20270324
DTEND;VALUE=DATE:20270325
DESCRIPTION:
LOCATION:
SUMMARY:Early Dismissal\, All Students\; Parent Teacher Conferences
END:VEVENT
BEGIN:VEVENT
DTSTAMP:20260423T133428Z
UID:101a0836-876c-4123-9c31-e47945cf1b55
DTSTART;VALUE=DATE:20270325
DTEND;VALUE=DATE:20270326
DESCRIPTION:
LOCATION:
SUMMARY:Early Dismissal\, All Students\; Parent Teacher Conferences
END:VEVENT
BEGIN:VEVENT
DTSTAMP:20260423T133428Z
UID:4878b29a-a332-410f-819b-a64b91315dbd
DTSTART;VALUE=DATE:20270326
DTEND;VALUE=DATE:20270327
DESCRIPTION:
LOCATION:
SUMMARY:District Closed\; Good Friday
END:VEVENT
BEGIN:VEVENT
DTSTAMP:20260423T133428Z
UID:1c4157be-b7ed-422c-8313-33b6c021c5f5
DTSTART;VALUE=DATE:20270412
DTEND;VALUE=DATE:20270417
DESCRIPTION:
LOCATION:
SUMMARY:No School\; April Break
END:VEVENT
BEGIN:VEVENT
DTSTAMP:20260423T133428Z
UID:86477ee2-c43c-4325-90bf-7dc1c78dd9db
DTSTART;VALUE=DATE:20270507
DTEND;VALUE=DATE:20270508
DESCRIPTION:
LOCATION:
SUMMARY:Early Dismissal\, All Students\; Professional Development 
END:VEVENT
BEGIN:VEVENT
DTSTAMP:20260423T133428Z
UID:e86e5479-b5b3-4504-8f47-662413a2c72d
DTSTART;VALUE=DATE:20270531
DTEND;VALUE=DATE:20270601
DESCRIPTION:
LOCATION:
SUMMARY:District Closed\; Memorial Day
END:VEVENT
BEGIN:VEVENT
DTSTAMP:20260423T133428Z
UID:8c008c49-28f3-48bb-9c6b-def314a97470
DTSTART;VALUE=DATE:20270604
DTEND;VALUE=DATE:20270605
DESCRIPTION:
LOCATION:
SUMMARY:Early Dismissal LMHS\; Exams
END:VEVENT
BEGIN:VEVENT
DTSTAMP:20260423T133428Z
UID:5f111e8f-5b2c-4b5e-922f-801f205207d4
DTSTART;VALUE=DATE:20270607
DTEND;VALUE=DATE:20270608
DESCRIPTION:
LOCATION:
SUMMARY:Early Dismissal LMHS\; Exams
END:VEVENT
BEGIN:VEVENT
DTSTAMP:20260423T133428Z
UID:afe3bf57-7c54-46ec-b667-0006525f4760
DTSTART;VALUE=DATE:20270608
DTEND;VALUE=DATE:20270609
DESCRIPTION:
LOCATION:
SUMMARY:Early Dismissal\, All Students
END:VEVENT
BEGIN:VEVENT
DTSTAMP:20260423T133428Z
UID:3e3646c9-d06a-499e-bc15-aac6bb900768
DTSTART;VALUE=DATE:20270609
DTEND;VALUE=DATE:20270610
DESCRIPTION:
LOCATION:
SUMMARY:Last Day of School! Early Dismissal
END:VEVENT
END:VCALENDAR
