BEGIN:VCALENDAR
VERSION:2.0
PRODID:icalendar-ruby
CALSCALE:GREGORIAN
BEGIN:VTIMEZONE
TZID:America/New_York
BEGIN:DAYLIGHT
DTSTART:20260308T030000
TZOFFSETFROM:-0500
TZOFFSETTO:-0400
RRULE:FREQ=YEARLY;BYDAY=2SU;BYMONTH=3
TZNAME:EDT
END:DAYLIGHT
BEGIN:STANDARD
DTSTART:20261101T010000
TZOFFSETFROM:-0400
TZOFFSETTO:-0500
RRULE:FREQ=YEARLY;BYDAY=1SU;BYMONTH=11
TZNAME:EST
END:STANDARD
END:VTIMEZONE
BEGIN:VEVENT
DTSTAMP:20260419T140943Z
UID:8b73bf54-88ca-4d33-9df3-7a7741dc3766
DTSTART:20260420T163000
DTEND:20260420T173000
DESCRIPTION:<h1 style="text-align: center">CPR Hybrid Course</h1><h2>Join u
 s for a Hybrid CPR Certification Course.</h2><h3>Complete the online cours
 e and attend the skills session on April 20\, 2026 in-person.</h3><p>Click
  <a href="https://drive.google.com/file/d/1A-2l42WOmRAS2TTLJDRZPWXoLowSiOF
 E/view?usp=sharing" target="_blank" rel="noopener noreferrer nofollow" pat
 h-prefix="">HERE</a> to learn more and register.</p>
LOCATION:2601 S 14th St\, New Castle\, IN 47362\, USA
SUMMARY:CPR Certification (Hybrid Course)
END:VEVENT
BEGIN:VEVENT
DTSTAMP:20260419T140943Z
UID:1c11eeda-3939-4716-a5c3-39eeeeaf4769
DTSTART:20260422T100000
DTEND:20260422T110000
DESCRIPTION:<h1 style="text-align: center">The Crossroads of AI &amp\; Educ
 ation</h1><h2 style="text-align: center">Indiana Leadership Series</h2><h5
  style="text-align: left">Elevate your district's AI vision! Join Indiana'
 s premier leadership series:</h5><h5 style="text-align: center">The Crossr
 oads of AI &amp\; Education</h5><p>Every Wedensday\, April 15-May 13\, you
 r district participants team will explore AI through a leadership lens and
  engage in strategic dialogue with peers across the state. Build your dist
 rict's AI roadmap together.</p><p>Session 1: April 15th | AI Privacy\, Sec
 urity &amp\; The Law</p><p>Session 2: April 22nd | Mind the Gap: Bridging 
 the AI Literacy Divided from High School to College</p><p>Session 3: April
  29th | AI as a Capacity Multiplier for K-12 Grant Writing</p><p>Session 4
 : May 6th | Is it Cheating? You Make the Call</p><p>Session 5: May 13th | 
 Powering Productivity with Google Tools for Administrators</p><p>Click <a 
 target="_blank" rel="noopener noreferrer nofollow" href="https://niesc.org
 /events/the-crossroads-of-ai-education-indiana-leadership-seriesvirtual/" 
 relative-link="">HERE</a> for the Full Agenda and Registration</p>
LOCATION:Virtual
SUMMARY:The Crossroads of AI & Education
END:VEVENT
BEGIN:VEVENT
DTSTAMP:20260419T140943Z
UID:8cc2108e-7a4e-4b40-a0f1-a1824b965313
DTSTART:20260423T110000
DTEND:20260423T123000
DESCRIPTION:<p>Teamwork is one of the most powerful — and most challengin
 g — elements of organizational success. When leadership teams unite arou
 nd a shared purpose\, build trust\, and operate with clarity and disciplin
 e\, they move faster\, reduce confusion\, and achieve extraordinary result
 s.</p><p>Join us for a special luncheon introducing ECESC’s Developing D
 ynamic Teams: Leadership Team Development service offerings. Facilitated b
 y Pat Haney and Lindsey Lovern (Certified 6 Types of Working Genius Facili
 tator)\, this session will provide an overview of ECESC’s structured\, r
 esearch-informed approach to strengthening leadership teams across distric
 ts.</p><p>Free for members</p><p>$50 for nonmembers</p>
LOCATION:2601 S 14th St\, New Castle\, IN 47362\, USA
SUMMARY:Developing Dynamic Teams Luncheon
END:VEVENT
BEGIN:VEVENT
DTSTAMP:20260419T140943Z
UID:f3821df0-eb76-484b-ac54-018e3829eb33
DTSTART:20260428T153000
DTEND:20260428T163000
DESCRIPTION:<p><span>The East Central Indiana STEM Ecosystem holds monthly 
 virtual sessions to provide an arena for STEM champions. We share updated 
 information from IDOE along with any legislative changes. Individuals are 
 welcome to share successes and seek support for overcoming obstacles. As w
 e are able\, we will welcome speakers and community partners to share.</sp
 an></p><p><a target="_blank" rel="noopener noreferrer nofollow" href="http
 s://us02web.zoom.us/meeting/register/pfhV3vcyTRe2tpC9F9tJZA"><span>Zoom Re
 gistration</span></a></p><p><span>Meeting dates:</span></p><p><span>Octobe
 r 28\, 2025</span></p><p><span>November 25\, 2025</span></p><p><span>Janua
 ry 27\, 2026</span></p><p><span>February 24\, 2026</span></p><p><span>Marc
 h 31\, 2026</span></p><p><span>April 28\, 2026</span></p><p><span>May 26\,
  2026</span></p>
LOCATION:Virtual
SUMMARY:STEM Affinity Group
END:VEVENT
BEGIN:VEVENT
DTSTAMP:20260419T140943Z
UID:99d9dd28-2dfc-4b2d-be1e-76bb184c8d19
DTSTART:20260429T100000
DTEND:20260429T110000
DESCRIPTION:<h1 style="text-align: center">The Crossroads of AI &amp\; Educ
 ation</h1><h2 style="text-align: center">Indiana Leadership Series</h2><h5
  style="text-align: left">Elevate your district's AI vision! Join Indiana'
 s premier leadership series:</h5><h5 style="text-align: center">The Crossr
 oads of AI &amp\; Education</h5><p>Every Wedensday\, April 15-May 13\, you
 r district participants team will explore AI through a leadership lens and
  engage in strategic dialogue with peers across the state. Build your dist
 rict's AI roadmap together.</p><p>Session 1: April 15th | AI Privacy\, Sec
 urity &amp\; The Law</p><p>Session 2: April 22nd | Mind the Gap: Bridging 
 the AI Literacy Divided from High School to College</p><p>Session 3: April
  29th | AI as a Capacity Multiplier for K-12 Grant Writing</p><p>Session 4
 : May 6th | Is it Cheating? You Make the Call</p><p>Session 5: May 13th | 
 Powering Productivity with Google Tools for Administrators</p><p>Click <a 
 target="_blank" rel="noopener noreferrer nofollow" href="https://niesc.org
 /events/the-crossroads-of-ai-education-indiana-leadership-seriesvirtual/" 
 relative-link="">HERE</a> for the Full Agenda and Registration</p>
LOCATION:Virtual
SUMMARY:The Crossroads of AI & Education
END:VEVENT
BEGIN:VEVENT
DTSTAMP:20260419T140943Z
UID:ded59738-d255-4a68-a5ed-94c5cf0f9185
DTSTART:20260506T100000
DTEND:20260506T110000
DESCRIPTION:<h1 style="text-align: center">The Crossroads of AI &amp\; Educ
 ation</h1><h2 style="text-align: center">Indiana Leadership Series</h2><h5
  style="text-align: left">Elevate your district's AI vision! Join Indiana'
 s premier leadership series:</h5><h5 style="text-align: center">The Crossr
 oads of AI &amp\; Education</h5><p>Every Wedensday\, April 15-May 13\, you
 r district participants team will explore AI through a leadership lens and
  engage in strategic dialogue with peers across the state. Build your dist
 rict's AI roadmap together.</p><p>Session 1: April 15th | AI Privacy\, Sec
 urity &amp\; The Law</p><p>Session 2: April 22nd | Mind the Gap: Bridging 
 the AI Literacy Divided from High School to College</p><p>Session 3: April
  29th | AI as a Capacity Multiplier for K-12 Grant Writing</p><p>Session 4
 : May 6th | Is it Cheating? You Make the Call</p><p>Session 5: May 13th | 
 Powering Productivity with Google Tools for Administrators</p><p>Click <a 
 target="_blank" rel="noopener noreferrer nofollow" href="https://niesc.org
 /events/the-crossroads-of-ai-education-indiana-leadership-seriesvirtual/" 
 relative-link="">HERE</a> for the Full Agenda and Registration</p>
LOCATION:Virtual
SUMMARY:The Crossroads of AI & Education
END:VEVENT
BEGIN:VEVENT
DTSTAMP:20260419T140943Z
UID:bc9da92e-3cfd-4345-b821-fb94d6c077db
DTSTART:20260507T090000
DTEND:20260507T150000
DESCRIPTION:<h1><strong>Mulit-Tiered Systems of Support: From Planning to P
 recision.</strong></h1><p>This K-12 MTSS series empowers administrators\, 
 counselors\, and teachers to build sustainable systems for student success
 . The program features a Comprehensive Overview on day one followed by tar
 geted half-day sessions for ELA and Math. Participants will learn to lever
 age data\, strengthen Tier 1 instruction\, and design effective interventi
 ons. Whether refining current practices or starting from scratch\, your te
 am will leave with actionable\, "ready-to-use" strategies to support every
  learner across all tiers. Join us to turn the MTSS framework into a high-
 impact reality in your building.</p><p style="text-align: center"><span><s
 trong>Only one registration is needed. Include all your team members in on
 e registration!</strong></span></p><p style="text-align: center"><span><st
 rong>Team members can attend one or ALL sessions. See descriptions and sch
 edule below.</strong></span></p><p style="text-align: center"></p><ul><li>
 <p><span><strong>MTSS Series – Day 1: Building the System | May 7\, 2026
  | 9:00-11:30am OR 12:30-3:00pm (choose 1)</strong></span></p></li></ul><p
 ><span>This foundational session introduces the structures behind an effec
 tive&nbsp\; MTSS framework. Participants will learn the core processes\, d
 ata decision-making practices\, and organizational systems that drive MTSS
 \, including how to select interventions and build schedules that support 
 both strong core instruction and targeted literacy support.</span></p><ul>
 <li><p><span><strong>MTSS Series - Day 2: Literacy | May 13\, 2026 | K-5 9
 :00-11:30am | MS &amp\; HS 12:30-3:00pm</strong></span></p></li></ul><p><s
 pan>This session introduces K–12 teachers to using MTSS to strengthen li
 teracy instruction and intervention. Participants will learn how strong Ti
 er 1\, 2\, and 3 practices\, targeted supports\, and data-driven decision 
 making work together to improve reading and writing outcomes for all stude
 nts. Teachers will leave with practical strategies they can use immediatel
 y in their classrooms.</span></p><ul><li><p><span><strong>MTSS Series - Da
 y 3: Math | May 14\, 2026 | K-5 9:00-11:30am | MS &amp\; HS 12:30-3:00pm</
 strong></span></p></li></ul><p><span>This<strong> K-5 professional learnin
 g session </strong>will unpack Indiana’s new K–2 screener\, with a foc
 us on expectations and what the data is designed to tell us about early nu
 meracy development. Educators will explore the key components of Indiana
 ’s Math Universal Screener and how each connects to foundational math un
 derstanding. We will examine possible intervention pathways and supports a
 ligned to ILEARN Checkpoints as well as results from the Math Universal Sc
 reener. Finally\, participants will learn how to use formative assessments
  and progress monitoring data to identify prerequisite skills\, meet stude
 nts where they are\, and plan instruction that intentionally moves learnin
 g forward.</span></p><p></p><p><span>This professional learning session is
  designed for <strong>grades 6–12</strong> teachers and administrators s
 eeking to strengthen math instruction through an effective Multi-Tiered Sy
 stems of Support (MTSS) framework. Participants will explore what high-qua
 lity math MTSS looks like at the secondary level\, with a focus on Tier 1 
 instruction\, meaningful data use from ILEARN Checkpoints\, and targeted T
 ier 2 and Tier 3 supports. Through real-world examples and collaborative d
 iscussion\, attendees will gain practical strategies for improving access 
 to grade-level math\, responding to student needs\, and building sustainab
 le systems that support all learners. Participants will leave with clear n
 ext steps they can apply immediately in classrooms\, teams\, and schools.<
 /span></p><p></p><p>East Central Educational Service Center<br>2601 S. 14t
 h Street\, New Castle\, IN 47362<br><a target="_blank" rel="noopener noref
 errer nofollow" href="https://maps.google.com/?q=2601+S.+14th+Street%2C+Ne
 w+Castle%2C+IN+47362"><strong>View on map</strong></a></p><p>May 07\, 2026
  09:00am - May 14\, 2026 03:00pm</p><p>Add to <a target="_blank" rel="noop
 ener noreferrer nofollow" href="https://calendar.google.com/calendar/u/0/r
 /eventedit?dates=20260507T130000Z/20260514T190000Z&amp\;text=Mulit-Tiered+
 Systems+of+Support%3A+From+Planning+to+Precision.&amp\;location=2601+S.+14
 th+Street%2C+New+Castle%2C+IN+47362&amp\;details=This+K-12+MTSS+series+emp
 owers+administrators%2C+counselors%2C+and+teachers+to+build+sustainable+sy
 stems+for+student+success.+The+program+features+a+Comprehensive+Overview+o
 n+day+one+followed+by+targeted+half-day+sessions+for+ELA+and+Math.+Partici
 pants+will+learn+to+leverage+data%2C+strengthen+Tier+1+instruction%2C+and+
 design+effective+interventions.+Whether+refining+current+practices+or+star
 ting+from+scratch%2C+your+team+will+leave+with+actionable%2C+%22ready-to-u
 se%22+strategies+to+support+every+learner+across+all+tiers.+Join+us+to+tur
 n+the+MTSS+framework+into+a+high-impact+reality+in+your+building."><strong
 >Google</strong></a> · <a target="_blank" rel="noopener noreferrer nofoll
 ow" href="https://outlook.live.com/calendar/0/action/compose?startdt=2026-
 05-07T13:00:00Z&amp\;enddt=2026-05-14T19:00:00Z&amp\;subject=Mulit-Tiered+
 Systems+of+Support%3A+From+Planning+to+Precision.&amp\;location=2601+S.+14
 th+Street%2C+New+Castle%2C+IN+47362&amp\;body=This+K-12+MTSS+series+empowe
 rs+administrators%2C+counselors%2C+and+teachers+to+build+sustainable+syste
 ms+for+student+success.+The+program+features+a+Comprehensive+Overview+on+d
 ay+one+followed+by+targeted+half-day+sessions+for+ELA+and+Math.+Participan
 ts+will+learn+to+leverage+data%2C+strengthen+Tier+1+instruction%2C+and+des
 ign+effective+interventions.+Whether+refining+current+practices+or+startin
 g+from+scratch%2C+your+team+will+leave+with+actionable%2C+%22ready-to-use%
 22+strategies+to+support+every+learner+across+all+tiers.+Join+us+to+turn+t
 he+MTSS+framework+into+a+high-impact+reality+in+your+building."><strong>Ou
 tlook Web</strong></a> · <a target="_blank" rel="noopener noreferrer nofo
 llow" href="https://outlook.live.com/calendar/0/deeplink/compose?startdt=2
 026-05-07T13:00:00Z&amp\;enddt=2026-05-14T19:00:00Z&amp\;subject=Mulit-Tie
 red+Systems+of+Support%3A+From+Planning+to+Precision.&amp\;location=2601+S
 .+14th+Street%2C+New+Castle%2C+IN+47362&amp\;body=This+K-12+MTSS+series+em
 powers+administrators%2C+counselors%2C+and+teachers+to+build+sustainable+s
 ystems+for+student+success.+The+program+features+a+Comprehensive+Overview+
 on+day+one+followed+by+targeted+half-day+sessions+for+ELA+and+Math.+Partic
 ipants+will+learn+to+leverage+data%2C+strengthen+Tier+1+instruction%2C+and
 +design+effective+interventions.+Whether+refining+current+practices+or+sta
 rting+from+scratch%2C+your+team+will+leave+with+actionable%2C+%22ready-to-
 use%22+strategies+to+support+every+learner+across+all+tiers.+Join+us+to+tu
 rn+the+MTSS+framework+into+a+high-impact+reality+in+your+building."><stron
 g>Outlook Mobile</strong></a> · <a target="_blank" rel="noopener noreferr
 er nofollow" href="https://calendar.yahoo.com/?v=60&amp\;title=Mulit-Tiere
 d+Systems+of+Support%3A+From+Planning+to+Precision.&amp\;st=20260507T13000
 0Z&amp\;et=20260514T190000Z&amp\;in_loc=2601+S.+14th+Street%2C+New+Castle%
 2C+IN+47362&amp\;desc=This+K-12+MTSS+series+empowers+administrators%2C+cou
 nselors%2C+and+teachers+to+build+sustainable+systems+for+student+success.+
 The+program+features+a+Comprehensive+Overview+on+day+one+followed+by+targe
 ted+half-day+sessions+for+ELA+and+Math.+Participants+will+learn+to+leverag
 e+data%2C+strengthen+Tier+1+instruction%2C+and+design+effective+interventi
 ons.+Whether+refining+current+practices+or+starting+from+scratch%2C+your+t
 eam+will+leave+with+actionable%2C+%22ready-to-use%22+strategies+to+support
 +every+learner+across+all+tiers.+Join+us+to+turn+the+MTSS+framework+into+a
 +high-impact+reality+in+your+building."><strong>Yahoo</strong></a> · <a t
 arget="_blank" rel="noopener noreferrer nofollow" href="https://lp.constan
 tcontactpages.com/ev/reg/urgan3r/ics"><strong>iCal</strong></a></p><p> <
 /p><p><a target="_blank" rel="noopener noreferrer nofollow" href="https://
 lp.constantcontactpages.com/ev/reg/urgan3r" relative-link=""><strong>Regis
 ter</strong></a></p>
LOCATION:2601 S 14th St\, New Castle\, IN 47362\, USA
SUMMARY:Multi Tiered Systems of Support Overview (Part 1 of 3)
END:VEVENT
BEGIN:VEVENT
DTSTAMP:20260419T140943Z
UID:718a6aa9-5cb8-4584-a8b0-dabfe5f30046
DTSTART:20260512T090000
DTEND:20260512T140000
DESCRIPTION:<p>Join us to learn about how students can engage in career con
 nected learning by learning more about themselves. Presenters will provide
  an introduction to the RIASEC framework for self-discovery and share insi
 ghts into its connection to careers and future planning. Participants will
  see the Forge Your Future student experience in action and walk away with
  an understanding of their personal RIASEC themes as well as ideas for inc
 orporating these themes into student learning. (Lunch on your own)</p><p>R
 <a target="_blank" rel="noopener noreferrer nofollow" href="https://lp.con
 stantcontactpages.com/ev/reg/2c25ua2">egistration</a></p>
LOCATION:2601 S 14th St\, New Castle\, IN 47362\, USA
SUMMARY:FYF Educator Experience
END:VEVENT
BEGIN:VEVENT
DTSTAMP:20260419T140943Z
UID:6149d160-40e0-4f28-9d62-8c15629b07ed
DTSTART:20260512T090000
DTEND:20260512T100000
DESCRIPTION:<p>Enjoy time with fellow middle school or high school counselo
 rs. Engage in lively discussion regarding current topics and best practice
 s. Lean on one another as you share success and search for creative practi
 ces for supporting your students. This group meets once a month\, you will
  only need to register once.</p><p><a target="_blank" rel="noopener norefe
 rrer nofollow" href="https://us02web.zoom.us/meeting/register/moAkmktVQcCl
 _SWE0StaXA">Register</a></p>
LOCATION:virtual
SUMMARY:MS/HS Counselor Affinity Group
END:VEVENT
BEGIN:VEVENT
DTSTAMP:20260419T140943Z
UID:957cb366-bb7f-4ad8-90da-8016f9cfc4cb
DTSTART:20260512T100000
DTEND:20260512T110000
DESCRIPTION:<p>Join a great group of like-positioned educators for lively d
 iscussion of current media center trends. Learn from one another and share
  your success and trouble-shoot solutions. This group meets virtually on t
 he second Tuesdsay of each month from 10:00-11:00am.</p><p><a target="_bla
 nk" rel="noopener noreferrer nofollow" href="https://us02web.zoom.us/meeti
 ng/register/MsaanGFUSAufNRGHJRP-BA">Registration</a></p>
LOCATION:virtual
SUMMARY:Media Specialist Affinity Group
END:VEVENT
BEGIN:VEVENT
DTSTAMP:20260419T140943Z
UID:f1553095-17da-4834-984c-3088db69f060
DTSTART:20260513T090000
DTEND:20260513T150000
DESCRIPTION:<ul><li><p><span><strong>MTSS Series - Day 2: Literacy | May 13
 \, 2026 | K-5 9:00-11:30am | MS &amp\; HS 12:30-3:00pm</strong></span></p>
 </li></ul><p style="text-align: left"><span>This session introduces K–12
  teachers to using MTSS to strengthen literacy instruction and interventio
 n. Participants will learn how strong Tier 1\, 2\, and 3 practices\, targe
 ted supports\, and data-driven decision making work together to improve re
 ading and writing outcomes for all students. Teachers will leave with prac
 tical strategies they can use immediately in their classrooms.</span></p>
LOCATION:2601 S 14th St\, New Castle\, IN 47362\, USA
SUMMARY:MTSS
END:VEVENT
BEGIN:VEVENT
DTSTAMP:20260419T140943Z
UID:7259cf07-9c30-4293-98c2-b53632fe4960
DTSTART:20260513T100000
DTEND:20260513T110000
DESCRIPTION:<h1 style="text-align: center">The Crossroads of AI &amp\; Educ
 ation</h1><h2 style="text-align: center">Indiana Leadership Series</h2><h5
  style="text-align: left">Elevate your district's AI vision! Join Indiana'
 s premier leadership series:</h5><h5 style="text-align: center">The Crossr
 oads of AI &amp\; Education</h5><p>Every Wedensday\, April 15-May 13\, you
 r district participants team will explore AI through a leadership lens and
  engage in strategic dialogue with peers across the state. Build your dist
 rict's AI roadmap together.</p><p>Session 1: April 15th | AI Privacy\, Sec
 urity &amp\; The Law</p><p>Session 2: April 22nd | Mind the Gap: Bridging 
 the AI Literacy Divided from High School to College</p><p>Session 3: April
  29th | AI as a Capacity Multiplier for K-12 Grant Writing</p><p>Session 4
 : May 6th | Is it Cheating? You Make the Call</p><p>Session 5: May 13th | 
 Powering Productivity with Google Tools for Administrators</p><p>Click <a 
 target="_blank" rel="noopener noreferrer nofollow" href="https://niesc.org
 /events/the-crossroads-of-ai-education-indiana-leadership-seriesvirtual/" 
 relative-link="">HERE</a> for the Full Agenda and Registration</p>
LOCATION:Virtual
SUMMARY:The Crossroads of AI & Education
END:VEVENT
BEGIN:VEVENT
DTSTAMP:20260419T140943Z
UID:554411b5-0f89-4baa-9c4e-eff11c35d214
DTSTART:20260514T080000
DTEND:20260514T090000
DESCRIPTION:<ul><li><p><span><strong>MTSS Series - Day 3: Math | May 14\, 2
 026 | K-5 9:00-11:30am | MS &amp\; HS 12:30-3:00pm</strong></span></p></li
 ></ul><p style="text-align: left"><span>This<strong> K-5 professional lear
 ning session </strong>will unpack Indiana’s new K–2 screener\, with a 
 focus on expectations and what the data is designed to tell us about early
  numeracy development. Educators will explore the key components of Indian
 a’s Math Universal Screener and how each connects to foundational math u
 nderstanding. We will examine possible intervention pathways and supports 
 aligned to ILEARN Checkpoints as well as results from the Math Universal S
 creener. Finally\, participants will learn how to use formative assessment
 s and progress monitoring data to identify prerequisite skills\, meet stud
 ents where they are\, and plan instruction that intentionally moves learni
 ng forward.</span></p><p style="text-align: left"></p><p style="text-align
 : left"><span>This professional learning session is designed for <strong>g
 rades 6–12</strong> teachers and administrators seeking to strengthen ma
 th instruction through an effective Multi-Tiered Systems of Support (MTSS)
  framework. Participants will explore what high-quality math MTSS looks li
 ke at the secondary level\, with a focus on Tier 1 instruction\, meaningfu
 l data use from ILEARN Checkpoints\, and targeted Tier 2 and Tier 3 suppor
 ts. Through real-world examples and collaborative discussion\, attendees w
 ill gain practical strategies for improving access to grade-level math\, r
 esponding to student needs\, and building sustainable systems that support
  all learners. Participants will leave with clear next steps they can appl
 y immediately in classrooms\, teams\, and schools.</span></p>
LOCATION:
SUMMARY:MTSS Series - Day 3 of 3: Math
END:VEVENT
BEGIN:VEVENT
DTSTAMP:20260419T140943Z
UID:a108e969-cffc-4014-8ef8-522e792f9e34
DTSTART:20260521T080000
DTEND:20260521T090000
DESCRIPTION:<p><span>Join us for an in-person watch party for this session 
 full of insights and information for Indiana Ed Tech Coordinators. Coordin
 ators from all over the state of Indiana will participate.  Every 3rd Thur
 sday @ 10:00-10:30am</span></p><p><a target="_blank" rel="noopener norefer
 rer nofollow" href="https://lp.constantcontactpages.com/ev/reg/35342dm"><s
 pan>Registration</span></a></p>
LOCATION:Virtual
SUMMARY:Indiana Ed Tech Network: Leadership
END:VEVENT
BEGIN:VEVENT
DTSTAMP:20260419T140943Z
UID:2ea32af3-994e-4037-8f74-b885afcace5b
DTSTART:20260526T153000
DTEND:20260526T163000
DESCRIPTION:<p><span>The East Central Indiana STEM Ecosystem holds monthly 
 virtual sessions to provide an arena for STEM champions. We share updated 
 information from IDOE along with any legislative changes. Individuals are 
 welcome to share successes and seek support for overcoming obstacles. As w
 e are able\, we will welcome speakers and community partners to share.</sp
 an></p><p><a target="_blank" rel="noopener noreferrer nofollow" href="http
 s://us02web.zoom.us/meeting/register/pfhV3vcyTRe2tpC9F9tJZA"><span>Zoom Re
 gistration</span></a></p><p><span>Meeting dates:</span></p><p><span>Octobe
 r 28\, 2025</span></p><p><span>November 25\, 2025</span></p><p><span>Janua
 ry 27\, 2026</span></p><p><span>February 24\, 2026</span></p><p><span>Marc
 h 31\, 2026</span></p><p><span>April 28\, 2026</span></p><p><span>May 26\,
  2026</span></p>
LOCATION:Virtual
SUMMARY:STEM Affinity Group
END:VEVENT
BEGIN:VEVENT
DTSTAMP:20260419T140943Z
UID:2bf3506f-7b64-406f-aed0-3d8c58a3020f
DTSTART:20260618T080000
DTEND:20260618T090000
DESCRIPTION:<p><span>Join us for an in-person watch party for this session 
 full of insights and information for Indiana Ed Tech Coordinators. Coordin
 ators from all over the state of Indiana will participate.  Every 3rd Thur
 sday @ 10:00-10:30am</span></p><p><a target="_blank" rel="noopener norefer
 rer nofollow" href="https://lp.constantcontactpages.com/ev/reg/35342dm"><s
 pan>Registration</span></a></p>
LOCATION:Virtual
SUMMARY:Indiana Ed Tech Network: Leadership
END:VEVENT
END:VCALENDAR
