BEGIN:VCALENDAR
VERSION:2.0
PRODID:icalendar-ruby
CALSCALE:GREGORIAN
BEGIN:VTIMEZONE
TZID:America/New_York
BEGIN:DAYLIGHT
DTSTART:20260308T030000
TZOFFSETFROM:-0500
TZOFFSETTO:-0400
RRULE:FREQ=YEARLY;BYDAY=2SU;BYMONTH=3
TZNAME:EDT
END:DAYLIGHT
BEGIN:STANDARD
DTSTART:20261101T010000
TZOFFSETFROM:-0400
TZOFFSETTO:-0500
RRULE:FREQ=YEARLY;BYDAY=1SU;BYMONTH=11
TZNAME:EST
END:STANDARD
END:VTIMEZONE
BEGIN:VEVENT
DTSTAMP:20260423T161946Z
UID:9345ba0c-2898-4328-ac3c-80ad1f31146c
DTSTART:20260423T153000
DTEND:20260423T173000
DESCRIPTION:<p><span>HUGE THANK YOU to Kernodle Clinic - Tabitha Henderson 
 &amp\; Tracy Cheek - for their unwavering generosity and support serving A
 BSS Students and Athletes! This year\, once again\, Kernodle Clinic will c
 onduct FREE Sports Physicals at all 7 of our high schools!</span><br><br><
 span>We want our students to take advantage of this opportunity!</span><br
 ><br><span>These physicals are open to ALL ABSS rising &amp\; current Midd
 le School &amp\; High School Students.</span><br><br><span>Students can at
 tend ANY of the 7 locations regardless of the school they are enrolled.</s
 pan><br><br><span>Kernodle Clinic will plan to arrive at each location at 
 3:30pm and conclude each day at 5:30pm.</span><br><br><span>Students MUST 
 Bring: (Broadview parents/guardians/students please see Front Office\, Coa
 ch Watkins\, or links below for blank forms)</span><br><span>- Completed D
 uke Medical Waiver [</span><a target="_blank" rel="noopener noreferrer nof
 ollow" href="https://5il.co/3txv0">https://5il.co/3txv0</a><span>]</span><
 br><span>- Completed Medical History on Physical Form (English [</span><a 
 target="_blank" rel="noopener noreferrer nofollow" href="https://5il.co/3t
 xuz">https://5il.co/3txuz</a><span>] &amp\; Spanish [</span><a target="_bl
 ank" rel="noopener noreferrer nofollow" href="https://5il.co/3txuy">https:
 //5il.co/3txuy</a><span>] Available)</span><br><br><span>2026 Kernodle Cli
 nic FREE Sports Physical Dates:</span><br><span>3:30pm - 5:30pm</span><br>
 <span>March 31 - Williams</span><br><span>April 16 - Western</span><br><sp
 an><strong>April 23 - Cummings</strong></span><br><span>April 30 - Eastern
 </span><br><span>May 7 - Graham</span><br><span>May 14 - Southern</span><b
 r><span>May 19 - SouthEast</span></p>
LOCATION:2200 N Mebane St\, Burlington\, NC 27217\, USA
SUMMARY:FREE Sports Physicals - Cummings High School
END:VEVENT
BEGIN:VEVENT
DTSTAMP:20260423T161946Z
UID:bb206e14-4cc5-42d0-9406-0e7e8313bdab
DTSTART:20260423T164500
DTEND:20260423T180000
DESCRIPTION:
LOCATION:771 Southern High School Rd\, Graham\, NC 27253\, USA
SUMMARY:AWAY Soccer @ Southern Middle
END:VEVENT
BEGIN:VEVENT
DTSTAMP:20260423T161946Z
UID:df132e47-243d-430f-a7e4-44c1aab0c90e
DTSTART:20260423T164500
DTEND:20260423T180000
DESCRIPTION:
LOCATION:771 Southern High School Rd\, Graham\, NC 27253\, USA
SUMMARY:AWAY Softball @ Southern Middle
END:VEVENT
BEGIN:VEVENT
DTSTAMP:20260423T161946Z
UID:eea362e8-ba84-4d90-9e31-84e07a016b2e
DTSTART:20260423T164500
DTEND:20260423T180000
DESCRIPTION:<p><span>Tickets can be purchased in advance on GoFan at </span
 ><a target="_blank" rel="noopener noreferrer nofollow" href="https://gofan
 .co/app/school/NC82832">https://gofan.co/app/school/NC82832</a><span> or a
 t the door the day of the event.</span></p>
LOCATION:2229 Broadview Dr\, Burlington\, NC 27217\, USA
SUMMARY:HOME Baseball vs Turrentine Middle
END:VEVENT
BEGIN:VEVENT
DTSTAMP:20260423T161946Z
UID:be04fdc6-fc15-4e42-a4e7-37c7b4202405
DTSTART:20260427T160000
DTEND:20260427T171500
DESCRIPTION:
LOCATION:1710 Edgewood Ave\, Burlington\, NC 27215\, USA
SUMMARY:AWAY Track & Field @ Turrentine Middle
END:VEVENT
BEGIN:VEVENT
DTSTAMP:20260423T161946Z
UID:bfda9418-f3a2-4e3c-940e-535997b9144b
DTSTART:20260427T164500
DTEND:20260427T180000
DESCRIPTION:<p><span>Tickets can be purchased in advance on GoFan at </span
 ><a target="_blank" rel="noopener noreferrer nofollow" href="https://gofan
 .co/app/school/NC82832">https://gofan.co/app/school/NC82832</a><span> or a
 t the door the day of the event.</span></p>
LOCATION:2229 Broadview Dr\, Burlington\, NC 27217\, USA
SUMMARY:HOME Soccer vs Southern Middle
END:VEVENT
BEGIN:VEVENT
DTSTAMP:20260423T161946Z
UID:34435666-f27c-4b67-8f2e-72155918a109
DTSTART:20260427T164500
DTEND:20260427T180000
DESCRIPTION:<p><span>Tickets can be purchased in advance on GoFan at </span
 ><a target="_blank" rel="noopener noreferrer nofollow" href="https://gofan
 .co/app/school/NC82832">https://gofan.co/app/school/NC82832</a><span> or a
 t the door the day of the event.</span></p>
LOCATION:2229 Broadview Dr\, Burlington\, NC 27217\, USA
SUMMARY:HOME Softball vs Southern Middle
END:VEVENT
BEGIN:VEVENT
DTSTAMP:20260423T161946Z
UID:e9f768e8-2e28-4683-8796-015506cb49a5
DTSTART:20260428T164500
DTEND:20260428T180000
DESCRIPTION:
LOCATION:1951 NC-119\, Mebane\, NC 27302\, USA
SUMMARY:AWAY Baseball @ Hawfields Middle
END:VEVENT
BEGIN:VEVENT
DTSTAMP:20260423T161946Z
UID:6f4afa93-2503-4703-bc8e-7ae8b9d9fe3b
DTSTART:20260428T164500
DTEND:20260428T180000
DESCRIPTION:<p><span>Tickets can be purchased in advance on GoFan at </span
 ><a target="_blank" rel="noopener noreferrer nofollow" href="https://gofan
 .co/app/school/NC82832">https://gofan.co/app/school/NC82832</a><span> or a
 t the door the day of the event.</span></p>
LOCATION:2229 Broadview Dr\, Burlington\, NC 27217\, USA
SUMMARY:HOME Soccer vs Western Middle
END:VEVENT
BEGIN:VEVENT
DTSTAMP:20260423T161946Z
UID:9c0b0102-6b7d-4771-974a-5eec82de25ec
DTSTART:20260428T164500
DTEND:20260428T180000
DESCRIPTION:<p><span>Tickets can be purchased in advance on GoFan at </span
 ><a target="_blank" rel="noopener noreferrer nofollow" href="https://gofan
 .co/app/school/NC82832">https://gofan.co/app/school/NC82832</a><span> or a
 t the door the day of the event.</span></p>
LOCATION:2229 Broadview Dr\, Burlington\, NC 27217\, USA
SUMMARY:HOME Softball vs Western Middle
END:VEVENT
BEGIN:VEVENT
DTSTAMP:20260423T161946Z
UID:5a1fc7fb-636b-44e6-a79d-e9f22726e990
DTSTART:20260430T153000
DTEND:20260430T173000
DESCRIPTION:<p><span>HUGE THANK YOU to Kernodle Clinic - Tabitha Henderson 
 &amp\; Tracy Cheek - for their unwavering generosity and support serving A
 BSS Students and Athletes! This year\, once again\, Kernodle Clinic will c
 onduct FREE Sports Physicals at all 7 of our high schools!</span><br><br><
 span>We want our students to take advantage of this opportunity!</span><br
 ><br><span>These physicals are open to ALL ABSS rising &amp\; current Midd
 le School &amp\; High School Students.</span><br><br><span>Students can at
 tend ANY of the 7 locations regardless of the school they are enrolled.</s
 pan><br><br><span>Kernodle Clinic will plan to arrive at each location at 
 3:30pm and conclude each day at 5:30pm.</span><br><br><span>Students MUST 
 Bring: (Broadview parents/guardians/students please see Front Office\, Coa
 ch Watkins\, or links below for blank forms)</span><br><span>- Completed D
 uke Medical Waiver [</span><a target="_blank" rel="noopener noreferrer nof
 ollow" href="https://5il.co/3txv0">https://5il.co/3txv0</a><span>]</span><
 br><span>- Completed Medical History on Physical Form (English [</span><a 
 target="_blank" rel="noopener noreferrer nofollow" href="https://5il.co/3t
 xuz">https://5il.co/3txuz</a><span>] &amp\; Spanish [</span><a target="_bl
 ank" rel="noopener noreferrer nofollow" href="https://5il.co/3txuy">https:
 //5il.co/3txuy</a><span>] Available)</span><br><br><span>2026 Kernodle Cli
 nic FREE Sports Physical Dates:</span><br><span>3:30pm - 5:30pm</span><br>
 <span>March 31 - Williams</span><br><span>April 16 - Western</span><br><sp
 an>April 23 - Cummings</span><br><span><strong>April 30 - Eastern</strong>
 </span><br><span>May 7 - Graham</span><br><span>May 14 - Southern</span><b
 r><span>May 19 - SouthEast</span></p>
LOCATION:4040 Mebane Rogers Rd\, Mebane\, NC 27302\, USA
SUMMARY:FREE Sports Physicals - Eastern Alamance High School
END:VEVENT
BEGIN:VEVENT
DTSTAMP:20260423T161946Z
UID:f723eec2-08f2-4a89-903e-24e564c35d6b
DTSTART:20260430T164500
DTEND:20260430T180000
DESCRIPTION:
LOCATION:1951 NC-119\, Mebane\, NC 27302\, USA
SUMMARY:AWAY Soccer @ Hawfields Middle
END:VEVENT
BEGIN:VEVENT
DTSTAMP:20260423T161946Z
UID:c234908f-d359-4d52-a0c8-982ae8eea61a
DTSTART:20260430T164500
DTEND:20260430T180000
DESCRIPTION:
LOCATION:1951 NC-119\, Mebane\, NC 27302\, USA
SUMMARY:AWAY Softball @ Hawfields Middle
END:VEVENT
BEGIN:VEVENT
DTSTAMP:20260423T161946Z
UID:063e24cc-f529-4a31-a1c1-0115391013b0
DTSTART:20260430T164500
DTEND:20260430T180000
DESCRIPTION:<p><span>Tickets can be purchased in advance on GoFan at </span
 ><a target="_blank" rel="noopener noreferrer nofollow" href="https://gofan
 .co/app/school/NC82832">https://gofan.co/app/school/NC82832</a><span> or a
 t the door the day of the event.</span></p>
LOCATION:1710 Edgewood Ave\, Burlington\, NC 27215\, USA
SUMMARY:AWAY Track & Field @ Turrentine Middle
END:VEVENT
BEGIN:VEVENT
DTSTAMP:20260423T161946Z
UID:778ffedc-ca15-4b03-b1f9-eb9af9d06917
DTSTART:20260430T164500
DTEND:20260430T180000
DESCRIPTION:<p><span>Tickets can be purchased in advance on GoFan at </span
 ><a target="_blank" rel="noopener noreferrer nofollow" href="https://gofan
 .co/app/school/NC82832">https://gofan.co/app/school/NC82832</a><span> or a
 t the door the day of the event.</span></p>
LOCATION:2229 Broadview Dr\, Burlington\, NC 27217\, USA
SUMMARY:HOME Baseball vs Western Middle
END:VEVENT
BEGIN:VEVENT
DTSTAMP:20260423T161946Z
UID:66fa24f6-6b10-4432-81c4-4abf59a1ca0f
DTSTART:20260504T164500
DTEND:20260504T180000
DESCRIPTION:
LOCATION:1951 NC-119\, Mebane\, NC 27302\, USA
SUMMARY:AWAY Track & Field @ Hawfields Middle
END:VEVENT
BEGIN:VEVENT
DTSTAMP:20260423T161946Z
UID:9c9a249c-4ecb-45e6-bcb2-50feb58bf020
DTSTART:20260505T164500
DTEND:20260505T180000
DESCRIPTION:
LOCATION:311 E Pine St\, Graham\, NC 27253\, USA
SUMMARY:AWAY Baseball @ Graham Middle
END:VEVENT
BEGIN:VEVENT
DTSTAMP:20260423T161946Z
UID:c6ad8838-6f31-4092-a800-c690bfb8c0ff
DTSTART:20260505T164500
DTEND:20260505T180000
DESCRIPTION:
LOCATION:3970 Mebane Rogers Rd\, Mebane\, NC 27302\, USA
SUMMARY:AWAY Soccer @ Woodlawn Middle
END:VEVENT
BEGIN:VEVENT
DTSTAMP:20260423T161946Z
UID:49a4fb9a-472c-4ead-82e5-99c696a4b584
DTSTART:20260505T164500
DTEND:20260505T180000
DESCRIPTION:
LOCATION:3970 Mebane Rogers Rd\, Mebane\, NC 27302\, USA
SUMMARY:AWAY Softball @ Woodlawn Middle
END:VEVENT
BEGIN:VEVENT
DTSTAMP:20260423T161946Z
UID:a5c2439f-126a-48d6-ad1e-265e605cf3fb
DTSTART:20260507T153000
DTEND:20260507T173000
DESCRIPTION:<p><span>HUGE THANK YOU to Kernodle Clinic - Tabitha Henderson 
 &amp\; Tracy Cheek - for their unwavering generosity and support serving A
 BSS Students and Athletes! This year\, once again\, Kernodle Clinic will c
 onduct FREE Sports Physicals at all 7 of our high schools!</span><br><br><
 span>We want our students to take advantage of this opportunity!</span><br
 ><br><span>These physicals are open to ALL ABSS rising &amp\; current Midd
 le School &amp\; High School Students.</span><br><br><span>Students can at
 tend ANY of the 7 locations regardless of the school they are enrolled.</s
 pan><br><br><span>Kernodle Clinic will plan to arrive at each location at 
 3:30pm and conclude each day at 5:30pm.</span><br><br><span>Students MUST 
 Bring: (Broadview parents/guardians/students please see Front Office\, Coa
 ch Watkins\, or links below for blank forms)</span><br><span>- Completed D
 uke Medical Waiver [</span><a target="_blank" rel="noopener noreferrer nof
 ollow" href="https://5il.co/3txv0">https://5il.co/3txv0</a><span>]</span><
 br><span>- Completed Medical History on Physical Form (English [</span><a 
 target="_blank" rel="noopener noreferrer nofollow" href="https://5il.co/3t
 xuz">https://5il.co/3txuz</a><span>] &amp\; Spanish [</span><a target="_bl
 ank" rel="noopener noreferrer nofollow" href="https://5il.co/3txuy">https:
 //5il.co/3txuy</a><span>] Available)</span><br><br><span>2026 Kernodle Cli
 nic FREE Sports Physical Dates:</span><br><span>3:30pm - 5:30pm</span><br>
 <span>March 31 - Williams</span><br><span>April 16 - Western</span><br><sp
 an>April 23 - Cummings</span><br><span>April 30 - Eastern</span><br><span>
 <strong>May 7 - Graham</strong></span><br><span>May 14 - Southern</span><b
 r><span>May 19 - SouthEast</span></p>
LOCATION:903 Trollinger Rd\, Graham\, NC 27253\, USA
SUMMARY:FREE Sports Physicals - Graham High School
END:VEVENT
BEGIN:VEVENT
DTSTAMP:20260423T161946Z
UID:607901e1-017d-4767-9c6c-67e8c59abd09
DTSTART:20260507T164500
DTEND:20260507T180000
DESCRIPTION:
LOCATION:3970 Mebane Rogers Rd\, Mebane\, NC 27302\, USA
SUMMARY:AWAY Baseball @ Woodlawn Middle
END:VEVENT
BEGIN:VEVENT
DTSTAMP:20260423T161946Z
UID:03924cd1-cd19-44f8-bbcf-28bf1d823d33
DTSTART:20260507T164500
DTEND:20260507T180000
DESCRIPTION:
LOCATION:311 E Pine St\, Graham\, NC 27253\, USA
SUMMARY:AWAY Soccer @ Graham Middle
END:VEVENT
BEGIN:VEVENT
DTSTAMP:20260423T161946Z
UID:e20310ab-6318-4990-9af3-fb814b1cbf3c
DTSTART:20260507T164500
DTEND:20260507T180000
DESCRIPTION:
LOCATION:311 E Pine St\, Graham\, NC 27253\, USA
SUMMARY:AWAY Softball @ Graham Middle
END:VEVENT
BEGIN:VEVENT
DTSTAMP:20260423T161946Z
UID:6eb63561-f3c5-4315-b202-50124cbb7440
DTSTART:20260511T164500
DTEND:20260511T180000
DESCRIPTION:
LOCATION:3400 S NC 119 Hwy\, Haw River\, NC 27258\, USA
SUMMARY:AWAY Track & Field Championship - SEAHS
END:VEVENT
BEGIN:VEVENT
DTSTAMP:20260423T161946Z
UID:b8622434-cc9d-40ec-a646-7e43f0bc6335
DTSTART:20260514T153000
DTEND:20260514T173000
DESCRIPTION:<p><span>HUGE THANK YOU to Kernodle Clinic - Tabitha Henderson 
 &amp\; Tracy Cheek - for their unwavering generosity and support serving A
 BSS Students and Athletes! This year\, once again\, Kernodle Clinic will c
 onduct FREE Sports Physicals at all 7 of our high schools!</span><br><br><
 span>We want our students to take advantage of this opportunity!</span><br
 ><br><span>These physicals are open to ALL ABSS rising &amp\; current Midd
 le School &amp\; High School Students.</span><br><br><span>Students can at
 tend ANY of the 7 locations regardless of the school they are enrolled.</s
 pan><br><br><span>Kernodle Clinic will plan to arrive at each location at 
 3:30pm and conclude each day at 5:30pm.</span><br><br><span>Students MUST 
 Bring: (Broadview parents/guardians/students please see Front Office\, Coa
 ch Watkins\, or links below for blank forms)</span><br><span>- Completed D
 uke Medical Waiver [</span><a target="_blank" rel="noopener noreferrer nof
 ollow" href="https://5il.co/3txv0">https://5il.co/3txv0</a><span>]</span><
 br><span>- Completed Medical History on Physical Form (English [</span><a 
 target="_blank" rel="noopener noreferrer nofollow" href="https://5il.co/3t
 xuz">https://5il.co/3txuz</a><span>] &amp\; Spanish [</span><a target="_bl
 ank" rel="noopener noreferrer nofollow" href="https://5il.co/3txuy">https:
 //5il.co/3txuy</a><span>] Available)</span><br><br><span>2026 Kernodle Cli
 nic FREE Sports Physical Dates:</span><br><span>3:30pm - 5:30pm</span><br>
 <span>March 31 - Williams</span><br><span>April 16 - Western</span><br><sp
 an>April 23 - Cummings</span><br><span>April 30 - Eastern</span><br><span>
 May 7 - Graham</span><br><span><strong>May 14 - Southern</strong></span><b
 r><span>May 19 - SouthEast</span></p>
LOCATION:631 Southern High School Rd\, Graham\, NC 27253\, USA
SUMMARY:FREE Sports Physicals - Southern Alamance High School
END:VEVENT
BEGIN:VEVENT
DTSTAMP:20260423T161946Z
UID:faa91586-c911-4a92-a51d-3bc0e4d86a46
DTSTART:20260519T153000
DTEND:20260519T173000
DESCRIPTION:<p><span>HUGE THANK YOU to Kernodle Clinic - Tabitha Henderson 
 &amp\; Tracy Cheek - for their unwavering generosity and support serving A
 BSS Students and Athletes! This year\, once again\, Kernodle Clinic will c
 onduct FREE Sports Physicals at all 7 of our high schools!</span><br><br><
 span>We want our students to take advantage of this opportunity!</span><br
 ><br><span>These physicals are open to ALL ABSS rising &amp\; current Midd
 le School &amp\; High School Students.</span><br><br><span>Students can at
 tend ANY of the 7 locations regardless of the school they are enrolled.</s
 pan><br><br><span>Kernodle Clinic will plan to arrive at each location at 
 3:30pm and conclude each day at 5:30pm.</span><br><br><span>Students MUST 
 Bring: (Broadview parents/guardians/students please see Front Office\, Coa
 ch Watkins\, or links below for blank forms)</span><br><span>- Completed D
 uke Medical Waiver [</span><a target="_blank" rel="noopener noreferrer nof
 ollow" href="https://5il.co/3txv0">https://5il.co/3txv0</a><span>]</span><
 br><span>- Completed Medical History on Physical Form (English [</span><a 
 target="_blank" rel="noopener noreferrer nofollow" href="https://5il.co/3t
 xuz">https://5il.co/3txuz</a><span>] &amp\; Spanish [</span><a target="_bl
 ank" rel="noopener noreferrer nofollow" href="https://5il.co/3txuy">https:
 //5il.co/3txuy</a><span>] Available)</span><br><br><span>2026 Kernodle Cli
 nic FREE Sports Physical Dates:</span><br><span>3:30pm - 5:30pm</span><br>
 <span>March 31 - Williams</span><br><span>April 16 - Western</span><br><sp
 an>April 23 - Cummings</span><br><span>April 30 - Eastern</span><br><span>
 May 7 - Graham</span><br><span>May 14 - Southern</span><br><span><strong>M
 ay 19 - SouthEast</strong></span></p>
LOCATION:3400 S NC 119 Hwy\, Haw River\, NC 27258\, USA
SUMMARY:FREE Sports Physicals - SouthEast Alamance High School
END:VEVENT
BEGIN:VEVENT
DTSTAMP:20260423T161946Z
UID:6b113508-59af-416a-8227-ccf1298b8363
DTSTART;VALUE=DATE:20260525
DTEND;VALUE=DATE:20260526
DESCRIPTION:
LOCATION:
SUMMARY:Memorial Day Holiday
END:VEVENT
BEGIN:VEVENT
DTSTAMP:20260423T161946Z
UID:66d812d7-e7e8-4bfe-b148-f820850a88e2
DTSTART;VALUE=DATE:20260605
DTEND;VALUE=DATE:20260606
DESCRIPTION:
LOCATION:
SUMMARY:Last Day of School
END:VEVENT
BEGIN:VEVENT
DTSTAMP:20260423T161946Z
UID:20ab2b8c-d9fc-4682-97ec-e90b05cf72c6
DTSTART;VALUE=DATE:20260810
DTEND;VALUE=DATE:20260814
DESCRIPTION:
LOCATION:
SUMMARY:Beginning Teacher Orientation
END:VEVENT
END:VCALENDAR
