BEGIN:VCALENDAR
VERSION:2.0
PRODID:icalendar-ruby
CALSCALE:GREGORIAN
BEGIN:VTIMEZONE
TZID:America/New_York
BEGIN:DAYLIGHT
DTSTART:20260308T030000
TZOFFSETFROM:-0500
TZOFFSETTO:-0400
RRULE:FREQ=YEARLY;BYDAY=2SU;BYMONTH=3
TZNAME:EDT
END:DAYLIGHT
BEGIN:STANDARD
DTSTART:20261101T010000
TZOFFSETFROM:-0400
TZOFFSETTO:-0500
RRULE:FREQ=YEARLY;BYDAY=1SU;BYMONTH=11
TZNAME:EST
END:STANDARD
END:VTIMEZONE
BEGIN:VEVENT
DTSTAMP:20260420T084031Z
UID:10bf9f83-c791-43b7-b988-0de1be5b08b8
DTSTART;VALUE=DATE:20260420
DTEND;VALUE=DATE:20260425
DESCRIPTION:
LOCATION:
SUMMARY:SGE Book Fair
END:VEVENT
BEGIN:VEVENT
DTSTAMP:20260420T084031Z
UID:3575dc5f-4c9a-418d-ada8-e782a4e57a53
DTSTART:20260420T151500
DTEND:20260420T163000
DESCRIPTION:
LOCATION:
SUMMARY:School Improvement Team Meeting
END:VEVENT
BEGIN:VEVENT
DTSTAMP:20260420T084031Z
UID:adcf5c8b-ede8-4ee7-bd08-d164bfce7999
DTSTART;VALUE=DATE:20260427
DTEND;VALUE=DATE:20260428
DESCRIPTION:
LOCATION:
SUMMARY:2nd grade Zoo Field Trip
END:VEVENT
BEGIN:VEVENT
DTSTAMP:20260420T084031Z
UID:0eabaaf3-4e42-4aca-b474-43187ba14593
DTSTART:20260518T151500
DTEND:20260518T163000
DESCRIPTION:
LOCATION:
SUMMARY:School Improvement Team Meeting
END:VEVENT
BEGIN:VEVENT
DTSTAMP:20260420T084031Z
UID:a9e010af-8737-4aea-81cd-d3b5e44565c6
DTSTART;VALUE=DATE:20260522
DTEND;VALUE=DATE:20260606
DESCRIPTION:
LOCATION:
SUMMARY:3 - 5 EOG Window
END:VEVENT
BEGIN:VEVENT
DTSTAMP:20260420T084031Z
UID:2e4c3d4a-b308-4ce6-aa15-d0667635aabb
DTSTART;VALUE=DATE:20260525
DTEND;VALUE=DATE:20260526
DESCRIPTION:
LOCATION:
SUMMARY:Memorial Day Holiday
END:VEVENT
BEGIN:VEVENT
DTSTAMP:20260420T084031Z
UID:4054f53b-3045-4298-9838-d4bd5f73f52a
DTSTART;VALUE=DATE:20260528
DTEND;VALUE=DATE:20260529
DESCRIPTION:
LOCATION:
SUMMARY:3rd grade RTA Assessment
END:VEVENT
BEGIN:VEVENT
DTSTAMP:20260420T084031Z
UID:b5c372ad-2d3e-4a7c-85e5-0c05580f18f6
DTSTART;VALUE=DATE:20260601
DTEND;VALUE=DATE:20260602
DESCRIPTION:
LOCATION:
SUMMARY:K - 2 Field Day
END:VEVENT
BEGIN:VEVENT
DTSTAMP:20260420T084031Z
UID:41e92561-9557-4470-87fa-3b3741cc3168
DTSTART;VALUE=DATE:20260602
DTEND;VALUE=DATE:20260603
DESCRIPTION:
LOCATION:
SUMMARY:3 - 5 Field Day
END:VEVENT
BEGIN:VEVENT
DTSTAMP:20260420T084031Z
UID:c1178adc-7e95-491a-99c2-4ecaf6a41f81
DTSTART:20260604T083000
DTEND:20260604T103000
DESCRIPTION:
LOCATION:
SUMMARY:Kindergarten Celebration
END:VEVENT
BEGIN:VEVENT
DTSTAMP:20260420T084031Z
UID:8842e06b-5ee3-423c-b724-5b9855f4e899
DTSTART:20260604T113000
DTEND:20260604T130000
DESCRIPTION:All Pre-K classrooms will participate in one program celebratin
 g our Pre-K students in the gym.
LOCATION:
SUMMARY:Pre-K Celebration
END:VEVENT
BEGIN:VEVENT
DTSTAMP:20260420T084031Z
UID:6d5e46d6-8917-4d64-bed5-c0a117330f58
DTSTART:20260604T133000
DTEND:20260604T141500
DESCRIPTION:
LOCATION:
SUMMARY:End of Year Classroom Parties
END:VEVENT
BEGIN:VEVENT
DTSTAMP:20260420T084031Z
UID:01dda63f-713a-41d3-ae0a-4683174bcce7
DTSTART;VALUE=DATE:20260605
DTEND;VALUE=DATE:20260606
DESCRIPTION:
LOCATION:
SUMMARY:Last Day of School
END:VEVENT
BEGIN:VEVENT
DTSTAMP:20260420T084031Z
UID:8b1b8ffe-ba73-4bb9-8212-d8157f7ce382
DTSTART:20260605T083000
DTEND:20260605T103000
DESCRIPTION:
LOCATION:
SUMMARY:5th Grade Celebration
END:VEVENT
BEGIN:VEVENT
DTSTAMP:20260420T084031Z
UID:36465f88-027f-4b52-8b04-5d14a7b903b0
DTSTART;VALUE=DATE:20260608
DTEND;VALUE=DATE:20260610
DESCRIPTION:
LOCATION:
SUMMARY:Required Teacher Workday
END:VEVENT
BEGIN:VEVENT
DTSTAMP:20260420T084031Z
UID:f9543039-bb02-491b-9dad-7444da165b4b
DTSTART;VALUE=DATE:20260610
DTEND;VALUE=DATE:20260612
DESCRIPTION:
LOCATION:
SUMMARY:Teacher Workday
END:VEVENT
BEGIN:VEVENT
DTSTAMP:20260420T084031Z
UID:6d6628da-2b21-4f12-86d5-6835584425ff
DTSTART;VALUE=DATE:20260810
DTEND;VALUE=DATE:20260814
DESCRIPTION:
LOCATION:
SUMMARY:Beginning Teacher Orientation
END:VEVENT
END:VCALENDAR
