BEGIN:VCALENDAR
VERSION:2.0
PRODID:icalendar-ruby
CALSCALE:GREGORIAN
BEGIN:VTIMEZONE
TZID:America/New_York
BEGIN:DAYLIGHT
DTSTART:20260308T030000
TZOFFSETFROM:-0500
TZOFFSETTO:-0400
RRULE:FREQ=YEARLY;BYDAY=2SU;BYMONTH=3
TZNAME:EDT
END:DAYLIGHT
BEGIN:STANDARD
DTSTART:20261101T010000
TZOFFSETFROM:-0400
TZOFFSETTO:-0500
RRULE:FREQ=YEARLY;BYDAY=1SU;BYMONTH=11
TZNAME:EST
END:STANDARD
END:VTIMEZONE
BEGIN:VEVENT
DTSTAMP:20260423T101331Z
UID:d207f43a-b9f6-4fc0-9de2-ea9746157e30
DTSTART;VALUE=DATE:20260330
DTEND;VALUE=DATE:20260425
DESCRIPTION:Spring check-in window for elementary extended one week: March 
 30–April 24 (original window March 30–April 17).
LOCATION:ABSS Schools / NCTest Platform
SUMMARY:NC Check-In (Spring) Window – Extended
END:VEVENT
BEGIN:VEVENT
DTSTAMP:20260423T101331Z
UID:a5516b4e-5435-4606-9dbd-2484c42d422c
DTSTART;VALUE=DATE:20260420
DTEND;VALUE=DATE:20260502
DESCRIPTION:
LOCATION:
SUMMARY:Naglieri General Abilities Test (Grade 2)
END:VEVENT
BEGIN:VEVENT
DTSTAMP:20260423T101331Z
UID:a3188dd7-7240-4d54-a95e-1477802c6274
DTSTART:20260423T151500
DTEND:20260423T161500
DESCRIPTION:
LOCATION:
SUMMARY:Garden Club (After School)
END:VEVENT
BEGIN:VEVENT
DTSTAMP:20260423T101331Z
UID:52a64228-428b-499c-81b6-2f09397ce398
DTSTART:20260427T080000
DTEND:20260427T090000
DESCRIPTION:
LOCATION:
SUMMARY:SLT as Hospitality Committee (Time TBD)
END:VEVENT
BEGIN:VEVENT
DTSTAMP:20260423T101331Z
UID:baf38105-dc82-4cc8-a28e-6bab732b56cd
DTSTART:20260427T151500
DTEND:20260427T161500
DESCRIPTION:
LOCATION:
SUMMARY:Running Club
END:VEVENT
BEGIN:VEVENT
DTSTAMP:20260423T101331Z
UID:5cce4661-ec8c-473d-9890-e9112bbed814
DTSTART:20260428T151500
DTEND:20260428T161500
DESCRIPTION:
LOCATION:
SUMMARY:PBIS/CKH/Community Outreach Committee
END:VEVENT
BEGIN:VEVENT
DTSTAMP:20260423T101331Z
UID:815a682f-23ac-4dcb-ac54-89004b3350a6
DTSTART:20260430T151500
DTEND:20260430T161500
DESCRIPTION:
LOCATION:
SUMMARY:Garden Club (After School)
END:VEVENT
BEGIN:VEVENT
DTSTAMP:20260423T101331Z
UID:7f2558ed-aaeb-4b13-bf61-e673657dc38b
DTSTART;VALUE=DATE:20260501
DTEND;VALUE=DATE:20260521
DESCRIPTION:Platform: Clever/TestNav | Contact: Rachael Brooks
LOCATION:
SUMMARY:aimswebPLUS EOY (Math\, K-5)
END:VEVENT
BEGIN:VEVENT
DTSTAMP:20260423T101331Z
UID:f3ca53ac-eb06-499d-b898-3dcdef202ea2
DTSTART;VALUE=DATE:20260501
DTEND;VALUE=DATE:20260522
DESCRIPTION:Platform: NCEdCloud/Amplify | Contact: Melanie Slack
LOCATION:
SUMMARY:mCLASS EOY (Reading\, K-5)
END:VEVENT
BEGIN:VEVENT
DTSTAMP:20260423T101331Z
UID:86c70401-c554-4f10-8afe-1e97a47f2105
DTSTART:20260501T080000
DTEND:20260501T090000
DESCRIPTION:
LOCATION:
SUMMARY:MTSS Schoolwide
END:VEVENT
BEGIN:VEVENT
DTSTAMP:20260423T101331Z
UID:a0c3ea0d-79a7-4727-b2af-fcdd7e363aef
DTSTART:20260504T151500
DTEND:20260504T161500
DESCRIPTION:
LOCATION:
SUMMARY:Running Club
END:VEVENT
BEGIN:VEVENT
DTSTAMP:20260423T101331Z
UID:e63f5b02-f380-4dca-994f-a9efb0d2a967
DTSTART:20260504T151500
DTEND:20260504T161500
DESCRIPTION:
LOCATION:
SUMMARY:Safety Committee
END:VEVENT
BEGIN:VEVENT
DTSTAMP:20260423T101331Z
UID:0aa0a761-1566-4570-8f6c-c6f9ef4e758e
DTSTART;VALUE=DATE:20260506
DTEND;VALUE=DATE:20260507
DESCRIPTION:Category: Progress Report. Mid-quarter update to families.
LOCATION:
SUMMARY:EAE Progress Report — 4th Quarter
END:VEVENT
BEGIN:VEVENT
DTSTAMP:20260423T101331Z
UID:10fe80e4-78f4-4fcb-a3ad-6ae17783cdc9
DTSTART;VALUE=DATE:20260506
DTEND;VALUE=DATE:20260507
DESCRIPTION:TLA cohort meeting day (date shared with cohort members).
LOCATION:Impact Alamance
SUMMARY:Teacher Leadership Academy (TLA) Cohort Meeting
END:VEVENT
BEGIN:VEVENT
DTSTAMP:20260423T101331Z
UID:064616a3-d480-436c-b6bb-4288ce913ce5
DTSTART:20260506T151500
DTEND:20260506T161500
DESCRIPTION:
LOCATION:
SUMMARY:Global Leaders (All Global)
END:VEVENT
BEGIN:VEVENT
DTSTAMP:20260423T101331Z
UID:180ad540-b4d0-407d-862f-2f72854fd188
DTSTART:20260507T151500
DTEND:20260507T161500
DESCRIPTION:
LOCATION:
SUMMARY:Garden Club (After School)
END:VEVENT
BEGIN:VEVENT
DTSTAMP:20260423T101331Z
UID:ea78b433-220a-4451-b60d-58b3e5b589af
DTSTART:20260511T151500
DTEND:20260511T161500
DESCRIPTION:
LOCATION:
SUMMARY:Running Club
END:VEVENT
BEGIN:VEVENT
DTSTAMP:20260423T101331Z
UID:72b6c4b2-43d3-4522-b445-163aeaf14d38
DTSTART:20260512T151500
DTEND:20260512T161500
DESCRIPTION:
LOCATION:
SUMMARY:PBIS/CKH/Community Outreach Committee
END:VEVENT
BEGIN:VEVENT
DTSTAMP:20260423T101331Z
UID:329e16e3-d03c-4664-b3ba-4d020ba9851b
DTSTART:20260513T080000
DTEND:20260513T150000
DESCRIPTION:
LOCATION:
SUMMARY:Global Committee PLCs (During PLCs)
END:VEVENT
BEGIN:VEVENT
DTSTAMP:20260423T101331Z
UID:69092018-7160-4864-abf5-ec2f7caf05ce
DTSTART:20260514T151500
DTEND:20260514T161500
DESCRIPTION:
LOCATION:
SUMMARY:Garden Club (After School)
END:VEVENT
BEGIN:VEVENT
DTSTAMP:20260423T101331Z
UID:5b05c003-c414-490c-afd2-d4aaf381f756
DTSTART:20260515T080000
DTEND:20260515T090000
DESCRIPTION:
LOCATION:
SUMMARY:MTSS Schoolwide
END:VEVENT
BEGIN:VEVENT
DTSTAMP:20260423T101331Z
UID:b67b78c9-09a2-45db-adc7-eff2c92f87b2
DTSTART;VALUE=DATE:20260516
DTEND;VALUE=DATE:20260517
DESCRIPTION:Foundations of Mathematics professional learning (8:30am–4:00
 pm).
LOCATION:Impact Alamance
SUMMARY:Foundations of Mathematics (FoM)
END:VEVENT
BEGIN:VEVENT
DTSTAMP:20260423T101331Z
UID:481550e0-0a88-42c7-a5df-b417b1d6bd5d
DTSTART;VALUE=DATE:20260518
DTEND;VALUE=DATE:20260530
DESCRIPTION:Platform: Reveal | Contact: Rachael Brooks
LOCATION:
SUMMARY:K-2 Math Checkpoint (4th 9 Weeks)
END:VEVENT
BEGIN:VEVENT
DTSTAMP:20260423T101331Z
UID:68032981-1159-4be5-9fcf-eb22dc1d6d0f
DTSTART;VALUE=DATE:20260518
DTEND;VALUE=DATE:20260530
DESCRIPTION:
LOCATION:
SUMMARY:K–2 Math Checkpoint (4th 9 Weeks)
END:VEVENT
BEGIN:VEVENT
DTSTAMP:20260423T101331Z
UID:b74ff27a-46b9-4a77-8a0f-f6bb8d210b29
DTSTART:20260518T151500
DTEND:20260518T161500
DESCRIPTION:
LOCATION:
SUMMARY:Running Club
END:VEVENT
BEGIN:VEVENT
DTSTAMP:20260423T101331Z
UID:536dcfaa-f8d3-4c07-861f-771e9e5962a7
DTSTART:20260520T110000
DTEND:20260520T130000
DESCRIPTION:
LOCATION:
SUMMARY:Lunch Buddies
END:VEVENT
BEGIN:VEVENT
DTSTAMP:20260423T101331Z
UID:b3d8fd46-d758-4401-80f4-0415dfbcd8e6
DTSTART:20260521T103000
DTEND:20260521T140000
DESCRIPTION:
LOCATION:
SUMMARY:Lunch Buddies
END:VEVENT
BEGIN:VEVENT
DTSTAMP:20260423T101331Z
UID:6496e88e-c3e6-446a-8bcb-44c75b3b86cf
DTSTART:20260521T151500
DTEND:20260521T161500
DESCRIPTION:
LOCATION:
SUMMARY:Garden Club (After School)
END:VEVENT
BEGIN:VEVENT
DTSTAMP:20260423T101331Z
UID:0ac8facf-875d-4653-9f42-84b6132169d3
DTSTART;VALUE=DATE:20260522
DTEND;VALUE=DATE:20260606
DESCRIPTION:Subjects: Reading\, Math\, Science | Platform: NCTest Kiosk Tab
  | Contacts: Lauren Jeffcoat & Sharon Wall
LOCATION:
SUMMARY:NC EOG (3-5)
END:VEVENT
BEGIN:VEVENT
DTSTAMP:20260423T101331Z
UID:d296191b-ea23-4e1a-8122-9c49c20c3855
DTSTART;VALUE=DATE:20260522
DTEND;VALUE=DATE:20260606
DESCRIPTION:
LOCATION:
SUMMARY:NC EOG (3–5)
END:VEVENT
BEGIN:VEVENT
DTSTAMP:20260423T101331Z
UID:88774467-57bb-45ef-ac0b-39e6a968bfb7
DTSTART;VALUE=DATE:20260522
DTEND;VALUE=DATE:20260606
DESCRIPTION:
LOCATION:
SUMMARY:NC EOG (3–5) – Continues
END:VEVENT
BEGIN:VEVENT
DTSTAMP:20260423T101331Z
UID:369d5081-72df-4669-8842-8635c82055b0
DTSTART;VALUE=DATE:20260522
DTEND;VALUE=DATE:20260606
DESCRIPTION:Subjects: Reading\, Math\, Science | Platform: NCTest Kiosk Tab
  | Contacts: Lauren Jeffcoat & Sharon Wall
LOCATION:
SUMMARY:NC EXTEND1 (3-5)
END:VEVENT
BEGIN:VEVENT
DTSTAMP:20260423T101331Z
UID:89c9e9f8-c0f3-49d9-b5a9-161148e42318
DTSTART;VALUE=DATE:20260522
DTEND;VALUE=DATE:20260606
DESCRIPTION:
LOCATION:
SUMMARY:NC EXTEND1 (3–5)
END:VEVENT
BEGIN:VEVENT
DTSTAMP:20260423T101331Z
UID:63bfd484-b30e-4994-b339-cdc64732c7c3
DTSTART;VALUE=DATE:20260522
DTEND;VALUE=DATE:20260606
DESCRIPTION:
LOCATION:
SUMMARY:NC EXTEND1 (3–5) – Continues
END:VEVENT
BEGIN:VEVENT
DTSTAMP:20260423T101331Z
UID:aba05d36-5da8-4914-a68c-cdd4c9ab41fd
DTSTART;VALUE=DATE:20260525
DTEND;VALUE=DATE:20260526
DESCRIPTION:
LOCATION:
SUMMARY:No School (Memorial Day)
END:VEVENT
BEGIN:VEVENT
DTSTAMP:20260423T101331Z
UID:c2716c6c-24d3-4751-8675-24495f8108dd
DTSTART;VALUE=DATE:20260525
DTEND;VALUE=DATE:20260526
DESCRIPTION:
LOCATION:
SUMMARY:Memorial Day Holiday
END:VEVENT
BEGIN:VEVENT
DTSTAMP:20260423T101331Z
UID:0000a6a4-2336-4e9f-b152-d85920d6af36
DTSTART:20260525T080000
DTEND:20260525T090000
DESCRIPTION:
LOCATION:
SUMMARY:SLT as Hospitality Committee (Time TBD)
END:VEVENT
BEGIN:VEVENT
DTSTAMP:20260423T101331Z
UID:4a883bf2-0d79-4647-8c81-6303e636260f
DTSTART:20260526T151500
DTEND:20260526T161500
DESCRIPTION:
LOCATION:
SUMMARY:PBIS/CKH/Community Outreach Committee
END:VEVENT
BEGIN:VEVENT
DTSTAMP:20260423T101331Z
UID:1a50098f-25c7-41ee-b65f-b075529a58f0
DTSTART;VALUE=DATE:20260528
DTEND;VALUE=DATE:20260529
DESCRIPTION:Platform: NCTest Kiosk Tab | Contacts: Lauren Jeffcoat & Sharon
  Wall
LOCATION:
SUMMARY:Read to Achieve Test for Grade 3
END:VEVENT
BEGIN:VEVENT
DTSTAMP:20260423T101331Z
UID:d8328487-77b1-43d2-9795-ea380ea70750
DTSTART:20260528T080000
DTEND:20260528T120000
DESCRIPTION:
LOCATION:
SUMMARY:Read to Achieve Test for Grade 3
END:VEVENT
BEGIN:VEVENT
DTSTAMP:20260423T101331Z
UID:79c36b9d-3523-4770-a275-17aa4596c305
DTSTART:20260528T151500
DTEND:20260528T161500
DESCRIPTION:
LOCATION:
SUMMARY:Garden Club (After School)
END:VEVENT
BEGIN:VEVENT
DTSTAMP:20260423T101331Z
UID:1c536bde-f42a-4ba9-a583-70e34edcd31d
DTSTART;VALUE=DATE:20260530
DTEND;VALUE=DATE:20260601
DESCRIPTION:Foundations of Mathematics professional learning (8:30am–4:00
 pm each day).
LOCATION:Impact Alamance
SUMMARY:Foundations of Mathematics (FoM) – Day 1–2
END:VEVENT
BEGIN:VEVENT
DTSTAMP:20260423T101331Z
UID:0ffa844b-dca7-4dc0-93ef-9ab06b3ec670
DTSTART:20260601T151500
DTEND:20260601T161500
DESCRIPTION:
LOCATION:
SUMMARY:Running Club
END:VEVENT
BEGIN:VEVENT
DTSTAMP:20260423T101331Z
UID:8560b6e0-7e4b-4e7e-9b02-8181b1cbc4db
DTSTART:20260601T151500
DTEND:20260601T161500
DESCRIPTION:
LOCATION:
SUMMARY:Safety Committee
END:VEVENT
BEGIN:VEVENT
DTSTAMP:20260423T101331Z
UID:85707ef3-02ac-48c2-87f3-d62af5cefe90
DTSTART;VALUE=DATE:20260603
DTEND;VALUE=DATE:20260604
DESCRIPTION:Platform: NCTest Kiosk Tab | Contacts: Lauren Jeffcoat & Sharon
  Wall
LOCATION:
SUMMARY:Grade 3 EOG Reading Retest
END:VEVENT
BEGIN:VEVENT
DTSTAMP:20260423T101331Z
UID:270757f9-1324-475a-ba5d-0b3f675dffa7
DTSTART:20260603T080000
DTEND:20260603T120000
DESCRIPTION:
LOCATION:
SUMMARY:Grade 3 EOG Reading Retest
END:VEVENT
BEGIN:VEVENT
DTSTAMP:20260423T101331Z
UID:8871914a-94ab-45c0-a632-5241055e9088
DTSTART:20260603T151500
DTEND:20260603T161500
DESCRIPTION:
LOCATION:
SUMMARY:Global Leaders (All Global)
END:VEVENT
BEGIN:VEVENT
DTSTAMP:20260423T101331Z
UID:36be2fa0-3c7e-457c-8a97-00f9c1f47afa
DTSTART;VALUE=DATE:20260604
DTEND;VALUE=DATE:20260605
DESCRIPTION:Category: Awards. Acknowledges behavioral goal\, attendance\, a
 nd honor roll.
LOCATION:
SUMMARY:EAE Awards — 4th Quarter (5th Grade Ceremony)
END:VEVENT
BEGIN:VEVENT
DTSTAMP:20260423T101331Z
UID:97741ee9-572f-44e8-9988-9a3d09c7db81
DTSTART:20260604T151500
DTEND:20260604T161500
DESCRIPTION:
LOCATION:
SUMMARY:Garden Club (After School)
END:VEVENT
BEGIN:VEVENT
DTSTAMP:20260423T101331Z
UID:51c9ab87-3f43-4fe3-b13f-dc7fa9508f4a
DTSTART;VALUE=DATE:20260605
DTEND;VALUE=DATE:20260606
DESCRIPTION:Category: Awards. Acknowledges behavioral goal\, attendance\, a
 nd honor roll.
LOCATION:
SUMMARY:EAE Awards — 4th Quarter (K–4 EOY Ceremony)
END:VEVENT
BEGIN:VEVENT
DTSTAMP:20260423T101331Z
UID:9df1ea7b-39a1-4646-8fcc-4cac0f6ad1ed
DTSTART;VALUE=DATE:20260605
DTEND;VALUE=DATE:20260606
DESCRIPTION:
LOCATION:
SUMMARY:Last Day of School
END:VEVENT
BEGIN:VEVENT
DTSTAMP:20260423T101331Z
UID:0cd6bffb-345c-4881-8282-ac4826d5782c
DTSTART:20260605T080000
DTEND:20260605T090000
DESCRIPTION:
LOCATION:
SUMMARY:MTSS Schoolwide
END:VEVENT
BEGIN:VEVENT
DTSTAMP:20260423T101331Z
UID:4616e052-6e84-4ab3-9b5b-9ea24ca1bda9
DTSTART;VALUE=DATE:20260608
DTEND;VALUE=DATE:20260609
DESCRIPTION:
LOCATION:
SUMMARY:Teacher Workday
END:VEVENT
BEGIN:VEVENT
DTSTAMP:20260423T101331Z
UID:c2b7e390-2eb5-48d5-905d-297989160c59
DTSTART:20260608T151500
DTEND:20260608T161500
DESCRIPTION:
LOCATION:
SUMMARY:Running Club
END:VEVENT
BEGIN:VEVENT
DTSTAMP:20260423T101331Z
UID:58b8c205-af37-431e-a6e9-c4efa4c903c5
DTSTART;VALUE=DATE:20260609
DTEND;VALUE=DATE:20260610
DESCRIPTION:
LOCATION:
SUMMARY:Teacher Workday
END:VEVENT
BEGIN:VEVENT
DTSTAMP:20260423T101331Z
UID:a01ee632-b2f9-43ba-ba2f-1ede8dad91b1
DTSTART:20260609T151500
DTEND:20260609T161500
DESCRIPTION:
LOCATION:
SUMMARY:PBIS/CKH/Community Outreach Committee
END:VEVENT
BEGIN:VEVENT
DTSTAMP:20260423T101331Z
UID:0bf63649-9d0c-4555-9192-5957461e89b4
DTSTART;VALUE=DATE:20260610
DTEND;VALUE=DATE:20260611
DESCRIPTION:TLA cohort meeting day (date shared with cohort members).
LOCATION:Impact Alamance
SUMMARY:Teacher Leadership Academy (TLA) Cohort Meeting
END:VEVENT
BEGIN:VEVENT
DTSTAMP:20260423T101331Z
UID:c0341af8-649a-4cf1-9c0e-b5da43d7f86e
DTSTART:20260610T080000
DTEND:20260610T150000
DESCRIPTION:
LOCATION:
SUMMARY:Global Committee PLCs (During PLCs)
END:VEVENT
BEGIN:VEVENT
DTSTAMP:20260423T101331Z
UID:c79aee3d-8942-4c3a-a7ab-1916de9ef525
DTSTART;VALUE=DATE:20260611
DTEND;VALUE=DATE:20260612
DESCRIPTION:Category: Report Card. End-of-quarter summary to families.
LOCATION:
SUMMARY:EAE Report Card — 4th Quarter
END:VEVENT
BEGIN:VEVENT
DTSTAMP:20260423T101331Z
UID:fb205941-2c49-45a1-af54-8d7a8b3664c4
DTSTART:20260611T151500
DTEND:20260611T161500
DESCRIPTION:
LOCATION:
SUMMARY:Garden Club (After School)
END:VEVENT
BEGIN:VEVENT
DTSTAMP:20260423T101331Z
UID:77c3dfa7-c5ba-499b-af29-3cf26713074c
DTSTART:20260804T130000
DTEND:20260804T163000
DESCRIPTION:Save the date: ABSS Summer Leadership Retreat for Principals & 
 Assistant Principals.
LOCATION:
SUMMARY:ABSS Summer Leadership Retreat (Principals & Assistant Principals) 
 – Day 1
END:VEVENT
BEGIN:VEVENT
DTSTAMP:20260423T101331Z
UID:0ad91337-7bf5-463d-bb42-bc0985d34260
DTSTART:20260805T083000
DTEND:20260805T163000
DESCRIPTION:ABSS Summer Leadership Retreat for Principals & Assistant Princ
 ipals.
LOCATION:
SUMMARY:ABSS Summer Leadership Retreat (Principals & Assistant Principals) 
 – Day 2
END:VEVENT
BEGIN:VEVENT
DTSTAMP:20260423T101331Z
UID:7697bcef-4d9c-41e4-93b5-ab40f0e1a001
DTSTART:20260806T090000
DTEND:20260806T120000
DESCRIPTION:ABSS Summer Leadership Retreat for Principals & Assistant Princ
 ipals.
LOCATION:
SUMMARY:ABSS Summer Leadership Retreat (Principals & Assistant Principals) 
 – Day 3
END:VEVENT
BEGIN:VEVENT
DTSTAMP:20260423T101331Z
UID:8859ce02-5d7a-45f9-89a3-217d4f610631
DTSTART;VALUE=DATE:20260810
DTEND;VALUE=DATE:20260814
DESCRIPTION:
LOCATION:
SUMMARY:Beginning Teacher Orientation
END:VEVENT
BEGIN:VEVENT
DTSTAMP:20260423T101331Z
UID:934826fb-44ed-4123-9f21-ea3895859528
DTSTART;VALUE=DATE:20261027
DTEND;VALUE=DATE:20261028
DESCRIPTION:Parent-teacher conferences will be scheduled by appointment wit
 h your child's teacher.\n\nRemember: You can access all your student's gra
 des via the PowerSchool Parent Portal. Please log in to ensure all informa
 tion is up to date. For assistance\, contact Karla Argueta (Spanish) or Ro
 bin Mann (English).
LOCATION:Your classroom or remote (teacher will provide link if remote)
SUMMARY:Parent-Teacher Conferences by Appointment
END:VEVENT
BEGIN:VEVENT
DTSTAMP:20260423T101331Z
UID:dea1d3aa-a828-40e9-91a5-6f0a8b5f0a75
DTSTART;VALUE=DATE:20261027
DTEND;VALUE=DATE:20261028
DESCRIPTION:Parent-teacher conferences will be scheduled by appointment wit
 h your child's teacher.\n\nRemember: You can access all your student's gra
 des via the PowerSchool Parent Portal. Please log in to ensure all informa
 tion is up to date. For assistance\, contact Karla Argueta (Spanish) or Ro
 bin Mann (English).
LOCATION:Your classroom or remote (teacher will provide link if remote)
SUMMARY:Parent-Teacher Conferences by Appointment
END:VEVENT
BEGIN:VEVENT
DTSTAMP:20260423T101331Z
UID:5454ece3-b090-46d3-8a94-4c0ce5cf8664
DTSTART;VALUE=DATE:20261028
DTEND;VALUE=DATE:20261029
DESCRIPTION:All-day parent-teacher conferences. No school for students.\n\n
 Remember: You can access all your student's grades via the PowerSchool Par
 ent Portal. Please log in to ensure all information is up to date. For ass
 istance\, contact Karla Argueta (Spanish) or Robin Mann (English).
LOCATION:Eastlawn Global Elementary or remote (teacher will provide link if
  remote)
SUMMARY:Parent-Teacher Conference Day (No School for Students)
END:VEVENT
BEGIN:VEVENT
DTSTAMP:20260423T101331Z
UID:951460a8-5356-4133-b6ca-e04f87e8c8dc
DTSTART;VALUE=DATE:20261028
DTEND;VALUE=DATE:20261029
DESCRIPTION:All-day parent-teacher conferences. No school for students.\n\n
 Remember: You can access all your student's grades via the PowerSchool Par
 ent Portal. Please log in to ensure all information is up to date. For ass
 istance\, contact Karla Argueta (Spanish) or Robin Mann (English).
LOCATION:Eastlawn Global Elementary or remote (teacher will provide link if
  remote)
SUMMARY:Parent-Teacher Conference Day (No School for Students)
END:VEVENT
BEGIN:VEVENT
DTSTAMP:20260423T101331Z
UID:933b8c08-c5b3-4071-b273-61e054145f3e
DTSTART;VALUE=DATE:20261029
DTEND;VALUE=DATE:20261108
DESCRIPTION:Parent-teacher conferences continue by appointment from October
  29 through November 7. Please coordinate with your child's teacher for sc
 heduling.\n\nRemember: You can access all your student's grades via the Po
 werSchool Parent Portal. Please log in to ensure all information is up to 
 date. For assistance\, contact Karla Argueta (Spanish) or Robin Mann (Engl
 ish).
LOCATION:Your classroom or remote (teacher will provide link if remote)
SUMMARY:Parent-Teacher Conferences by Appointment
END:VEVENT
BEGIN:VEVENT
DTSTAMP:20260423T101331Z
UID:77b01767-1eb8-4487-87fc-06276e34bbbf
DTSTART;VALUE=DATE:20261029
DTEND;VALUE=DATE:20261108
DESCRIPTION:Parent-teacher conferences continue by appointment from October
  29 through November 7. Please coordinate with your child's teacher for sc
 heduling.\n\nRemember: You can access all your student's grades via the Po
 werSchool Parent Portal. Please log in to ensure all information is up to 
 date. For assistance\, contact Karla Argueta (Spanish) or Robin Mann (Engl
 ish).
LOCATION:Your classroom or remote (teacher will provide link if remote)
SUMMARY:Parent-Teacher Conferences by Appointment
END:VEVENT
END:VCALENDAR
