BEGIN:VCALENDAR
VERSION:2.0
PRODID:icalendar-ruby
CALSCALE:GREGORIAN
BEGIN:VTIMEZONE
TZID:America/New_York
BEGIN:DAYLIGHT
DTSTART:20260308T030000
TZOFFSETFROM:-0500
TZOFFSETTO:-0400
RRULE:FREQ=YEARLY;BYDAY=2SU;BYMONTH=3
TZNAME:EDT
END:DAYLIGHT
BEGIN:STANDARD
DTSTART:20261101T010000
TZOFFSETFROM:-0400
TZOFFSETTO:-0500
RRULE:FREQ=YEARLY;BYDAY=1SU;BYMONTH=11
TZNAME:EST
END:STANDARD
END:VTIMEZONE
BEGIN:VEVENT
DTSTAMP:20260423T181933Z
UID:54e23aa4-50b9-433c-8524-8ee978e56c61
DTSTART:20260423T160000
DTEND:20260423T180000
DESCRIPTION:
LOCATION:
SUMMARY:Kindergarten Open House (2026/2027)
END:VEVENT
BEGIN:VEVENT
DTSTAMP:20260423T181933Z
UID:925d4433-a9b7-4b24-bebe-6db350148712
DTSTART;VALUE=DATE:20260430
DTEND;VALUE=DATE:20260501
DESCRIPTION:
LOCATION:
SUMMARY:5th Grade Cap & Gown Pictures
END:VEVENT
BEGIN:VEVENT
DTSTAMP:20260423T181933Z
UID:65713569-fd55-45df-a011-f7a4736a2dec
DTSTART:20260507T080000
DTEND:20260507T120000
DESCRIPTION:
LOCATION:
SUMMARY:Field Day (K-2)
END:VEVENT
BEGIN:VEVENT
DTSTAMP:20260423T181933Z
UID:8a0521bf-0a9e-4e99-823e-519e4b26d839
DTSTART:20260507T180000
DTEND:20260507T190000
DESCRIPTION:
LOCATION:
SUMMARY:Orchestra Concert at Cummings High School
END:VEVENT
BEGIN:VEVENT
DTSTAMP:20260423T181933Z
UID:53057a96-8e40-49b4-bd06-ef45e680c054
DTSTART:20260508T080000
DTEND:20260508T120000
DESCRIPTION:
LOCATION:
SUMMARY:Field Day (3-5)
END:VEVENT
BEGIN:VEVENT
DTSTAMP:20260423T181933Z
UID:7bcfa7cf-baf1-49fc-a811-a3abe1c4ff0f
DTSTART;VALUE=DATE:20260525
DTEND;VALUE=DATE:20260526
DESCRIPTION:
LOCATION:
SUMMARY:Memorial Day Holiday
END:VEVENT
BEGIN:VEVENT
DTSTAMP:20260423T181933Z
UID:535d8958-22f2-4c47-a853-d9b72c4c1f41
DTSTART:20260603T100000
DTEND:20260603T110000
DESCRIPTION:
LOCATION:
SUMMARY:K-4 Awards
END:VEVENT
BEGIN:VEVENT
DTSTAMP:20260423T181933Z
UID:b0b17704-63d8-4507-bf53-fdfd243ad46a
DTSTART:20260604T173000
DTEND:20260604T183000
DESCRIPTION:
LOCATION:
SUMMARY:5th Grade Moving Up Ceremony
END:VEVENT
BEGIN:VEVENT
DTSTAMP:20260423T181933Z
UID:4074fa0b-475f-4850-afd8-31918c67d869
DTSTART;VALUE=DATE:20260605
DTEND;VALUE=DATE:20260606
DESCRIPTION:
LOCATION:
SUMMARY:Last Day of School
END:VEVENT
BEGIN:VEVENT
DTSTAMP:20260423T181933Z
UID:cb1c431f-a902-40d0-b88f-06278ada026e
DTSTART;VALUE=DATE:20260810
DTEND;VALUE=DATE:20260814
DESCRIPTION:
LOCATION:
SUMMARY:Beginning Teacher Orientation
END:VEVENT
END:VCALENDAR
