BEGIN:VCALENDAR
VERSION:2.0
PRODID:icalendar-ruby
CALSCALE:GREGORIAN
BEGIN:VTIMEZONE
TZID:America/New_York
BEGIN:DAYLIGHT
DTSTART:20260308T030000
TZOFFSETFROM:-0500
TZOFFSETTO:-0400
RRULE:FREQ=YEARLY;BYDAY=2SU;BYMONTH=3
TZNAME:EDT
END:DAYLIGHT
BEGIN:STANDARD
DTSTART:20261101T010000
TZOFFSETFROM:-0400
TZOFFSETTO:-0500
RRULE:FREQ=YEARLY;BYDAY=1SU;BYMONTH=11
TZNAME:EST
END:STANDARD
END:VTIMEZONE
BEGIN:VEVENT
DTSTAMP:20260423T145644Z
UID:b59ad5d0-6626-4e7e-a120-c09c40270620
DTSTART:20260902T180000
DTEND:20260902T200000
DESCRIPTION:Start Time: 6:00 PM\nEnd Time: 8:00 PM\nSport: Volleyball\nGend
 er: Girls\nLevel: 8th Grade\nLocation: Carlisle Elem and Junior High Schoo
 l\nOpponent(s)\n St. Patrick School\n Ath. Dir: Sara Wallace\n Email: sara
 .wallace@saintpat.org\n\n
LOCATION:Carlisle Elem and Junior High School
SUMMARY:Volleyball (Girls 7 & 8) - St. Patrick School
END:VEVENT
BEGIN:VEVENT
DTSTAMP:20260423T145644Z
UID:08076e4a-2290-4528-9e00-03f05088b17f
DTSTART:20260903T180000
DTEND:20260903T200000
DESCRIPTION:Start Time: 6:00 PM\nEnd Time: 8:00 PM\nSport: Volleyball\nGend
 er: Girls\nLevel: 8th Grade\nLocation: Carlisle Elem and Junior High Schoo
 l\nOpponent(s)\n White River Valley - Lyons\n Ath. Dir: Dave Zorman\n Emai
 l: dzorman@wrv.k12.in.us\n\n
LOCATION:Carlisle Elem and Junior High School
SUMMARY:Volleyball (Girls 7 & 8) - White River Valley - Lyons
END:VEVENT
BEGIN:VEVENT
DTSTAMP:20260423T145644Z
UID:127bfb3f-a23c-48f5-a186-a8117d3a505c
DTSTART:20260908T180000
DTEND:20260908T200000
DESCRIPTION:Start Time: 6:00 PM\nEnd Time: 8:00 PM\nSport: Volleyball\nGend
 er: Girls\nLevel: 8th Grade\nLocation: Carlisle Elem and Junior High Schoo
 l\nOpponent(s)\n Dugger\n Ath. Dir: Steve Hall\n Email: shall@duggerunions
 chools.org\n\n
LOCATION:Carlisle Elem and Junior High School
SUMMARY:Volleyball (Girls 7 & 8) - Dugger
END:VEVENT
BEGIN:VEVENT
DTSTAMP:20260423T145644Z
UID:069f7b19-3d03-47a5-88f3-120fd5cd0f19
DTSTART:20260917T180000
DTEND:20260917T200000
DESCRIPTION:Start Time: 6:00 PM\nEnd Time: 8:00 PM\nSport: Volleyball\nGend
 er: Girls\nLevel: 8th Grade\nLocation: Clay City\nOpponent(s)\n Clay City\
 n Ath. Dir: Harley Skinner\n Email: Skinnerhar@clay.k12.in.us\n\n
LOCATION:Clay City
SUMMARY:Volleyball (Girls 7 & 8) @ Clay City 
END:VEVENT
BEGIN:VEVENT
DTSTAMP:20260423T145644Z
UID:6ff6b301-f5d7-44c7-8c90-62fb53fa5918
DTSTART:20260921T180000
DTEND:20260921T200000
DESCRIPTION:Start Time: 6:00 PM\nEnd Time: 8:00 PM\nSport: Volleyball\nGend
 er: Girls\nLevel: 8th Grade\nLocation: South Knox Jr. High School\nOpponen
 t(s)\n South Knox Jr. High School\n Ath. Dir: Beth Robinson\n Email: brobi
 nson@sknox.k12.in.us\n\n
LOCATION:South Knox Jr. High School
SUMMARY:Volleyball (Girls 7 & 8) @ South Knox Jr. High School 
END:VEVENT
BEGIN:VEVENT
DTSTAMP:20260423T145644Z
UID:d70f3d24-c0a7-45ac-ac3d-2f09c98b841f
DTSTART:20260922T180000
DTEND:20260922T200000
DESCRIPTION:Start Time: 6:00 PM\nEnd Time: 8:00 PM\nSport: Volleyball\nGend
 er: Girls\nLevel: 8th Grade\nLocation: Carlisle Elem and Junior High Schoo
 l\nOpponent(s)\n West Vigo Middle School\n Ath. Dir: Eric Williams\n Email
 : erw@vigoschools.org\n\n
LOCATION:Carlisle Elem and Junior High School
SUMMARY:Volleyball (Girls 7 & 8) - West Vigo Middle School
END:VEVENT
BEGIN:VEVENT
DTSTAMP:20260423T145644Z
UID:3b3e67fc-e6fb-4598-ba19-ac55aa82291a
DTSTART:20260924T180000
DTEND:20260924T200000
DESCRIPTION:Start Time: 6:00 PM\nEnd Time: 8:00 PM\nSport: Volleyball\nGend
 er: Girls\nLevel: 8th Grade\nLocation: Carlisle Elem and Junior High Schoo
 l\nOpponent(s)\n Linton-Stockton Jr. High\n Ath. Dir: Vanessa Shafford\n E
 mail: vshafford@lssc.k12.in.us\n\n
LOCATION:Carlisle Elem and Junior High School
SUMMARY:Volleyball (Girls 7 & 8) - Linton-Stockton Jr 
END:VEVENT
BEGIN:VEVENT
DTSTAMP:20260423T145644Z
UID:df8c1198-f47c-4583-9af5-0d65ecc91522
DTSTART:20260929T180000
DTEND:20260929T200000
DESCRIPTION:Start Time: 6:00 PM\nEnd Time: 8:00 PM\nSport: Volleyball\nGend
 er: Girls\nLevel: 8th Grade\nLocation: North Knox Jr.\nOpponent(s)\n North
  Knox Jr.\n\n
LOCATION:North Knox Jr.
SUMMARY:Volleyball (Girls 7 & 8) @ North Knox Jr.
END:VEVENT
BEGIN:VEVENT
DTSTAMP:20260423T145644Z
UID:0ae02bec-d031-4360-9eef-21eb807217a6
DTSTART:20261001T180000
DTEND:20261001T200000
DESCRIPTION:Start Time: 6:00 PM\nEnd Time: 8:00 PM\nSport: Volleyball\nGend
 er: Girls\nLevel: 8th Grade\nLocation: Shakamak Jr/Sr HS \nOpponent(s)\n S
 hakamak Jr/Sr HS\n Ath. Dir: Dylan Collins\n Email: dcollins@shakamak.k12.
 in.us\n\n
LOCATION:Shakamak Jr/Sr HS 
SUMMARY:Volleyball (Girls 7 & 8) @ Shakamak Jr/Sr HS 
END:VEVENT
BEGIN:VEVENT
DTSTAMP:20260423T145644Z
UID:7ed72a96-2f31-40fd-87ee-d00d59cbd3cc
DTSTART:20261005T180000
DTEND:20261005T200000
DESCRIPTION:Start Time: 6:00 PM\nEnd Time: 8:00 PM\nSport: Volleyball\nGend
 er: Girls\nLevel: 8th Grade\nLocation: Dugger\nOpponent(s)\n Dugger\n Ath.
  Dir: Steve Hall\n Email: shall@duggerunionschools.org\n\n
LOCATION:Dugger
SUMMARY:Volleyball (Girls 7 & 8) @ Dugger
END:VEVENT
BEGIN:VEVENT
DTSTAMP:20260423T145644Z
UID:70a94c3f-9ef2-4dbd-b88e-107caa149aa4
DTSTART:20261102T190000
DTEND:20261102T210000
DESCRIPTION:Start Time: 7:00 PM\nEnd Time: 9:00 PM\nSport: Basketball\nGend
 er: Boys\nLevel: 8th Grade\nLocation: PALESTINE HIGH SCHOOL\nOpponent(s)\n
  PALESTINE HIGH SCHOOL\n Ath. Dir: Travis Blank\n Email: travis.blank@pale
 stine-pioneers.net\n\n
LOCATION:PALESTINE HIGH SCHOOL
SUMMARY:BBasketball (Boys 7 & 8) @ PALESTINE HIGH SCHOOL
END:VEVENT
BEGIN:VEVENT
DTSTAMP:20260423T145644Z
UID:68c51a46-233f-4fe3-b098-788feb212500
DTSTART:20261103T190000
DTEND:20261103T210000
DESCRIPTION:Start Time: 7:00 PM\nEnd Time: 9:00 PM\nSport: Basketball\nGend
 er: Boys\nLevel: 8th Grade\nLocation: PALESTINE HIGH SCHOOL\nOpponent(s)\n
  PALESTINE HIGH SCHOOL\n Ath. Dir: Travis Blank\n Email: travis.blank@pale
 stine-pioneers.net\n\n
LOCATION:PALESTINE HIGH SCHOOL
SUMMARY:BBasketball (Boys 7 & 8) @ PALESTINE HIGH SCHOOL
END:VEVENT
BEGIN:VEVENT
DTSTAMP:20260423T145644Z
UID:940907ac-7e35-46d0-82b1-38bb442f0da8
DTSTART:20261104T190000
DTEND:20261104T210000
DESCRIPTION:Start Time: 7:00 PM\nEnd Time: 9:00 PM\nSport: Basketball\nGend
 er: Boys\nLevel: 8th Grade\nLocation: PALESTINE HIGH SCHOOL\nOpponent(s)\n
  PALESTINE HIGH SCHOOL\n Ath. Dir: Travis Blank\n Email: travis.blank@pale
 stine-pioneers.net\n\n
LOCATION:PALESTINE HIGH SCHOOL
SUMMARY:BBasketball (Boys 7 & 8) @ PALESTINE HIGH SCHOOL
END:VEVENT
BEGIN:VEVENT
DTSTAMP:20260423T145644Z
UID:fad1a47a-b7e4-4551-ac17-9ebacb9f5cde
DTSTART:20261119T180000
DTEND:20261119T200000
DESCRIPTION:Start Time: 6:00 PM\nEnd Time: 8:00 PM\nSport: Basketball\nGend
 er: Girls\nLevel: 8th Grade\nLocation: PALESTINE HIGH SCHOOL\nOpponent(s)\
 n PALESTINE HIGH SCHOOL\n Ath. Dir: Travis Blank\n Email: travis.blank@pal
 estine-pioneers.net\n\n
LOCATION:PALESTINE HIGH SCHOOL
SUMMARY:GBasketball (Girls 7 & 8) @ PALESTINE HIGH SCHOOL
END:VEVENT
BEGIN:VEVENT
DTSTAMP:20260423T145644Z
UID:b8b46aa4-35fa-45db-8c2e-ed41622a463c
DTSTART:20261123T180000
DTEND:20261123T200000
DESCRIPTION:Start Time: 6:00 PM\nEnd Time: 8:00 PM\nSport: Basketball\nGend
 er: Boys\nLevel: 8th Grade\nLocation: Carlisle Elem and Junior High School
 \nOpponent(s)\n HUTSONVILLE ELEM AND JR HIGH SCH\n Ath. Dir: Randy Hawkins
 \n Email: robin.karras@hutsonvilletigers.net\n\n
LOCATION:Carlisle Elem and Junior High School
SUMMARY:BBasketball (Boys 7 & 8) - Hutsonville
END:VEVENT
BEGIN:VEVENT
DTSTAMP:20260423T145644Z
UID:9eb1154e-4bc0-4889-9073-97a0777ff85d
DTSTART:20261201T180000
DTEND:20261201T200000
DESCRIPTION:Start Time: 6:00 PM\nEnd Time: 8:00 PM\nSport: Basketball\nGend
 er: Boys\nLevel: 6th Grade\nLocation: Vincennes Rivet High Scho\nOpponent(
 s)\n Vincennes Rivet High Scho\n Ath. Dir: Jill Frey\n Email: jfrey@evdio.
 org\,\n\n
LOCATION:Vincennes Rivet High Scho
SUMMARY:Basketball (Boys 5 & 6) @ Vincennes Rivet High Scho
END:VEVENT
BEGIN:VEVENT
DTSTAMP:20260423T145644Z
UID:3a36cd6b-86d3-4a37-a5b5-0ffb461eee5c
DTSTART:20261202T180000
DTEND:20261202T200000
DESCRIPTION:Start Time: 6:00 PM\nEnd Time: 8:00 PM\nSport: Basketball\nGend
 er: Girls\nLevel: 8th Grade\nLocation: Carlisle Elem and Junior High Schoo
 l\nOpponent(s)\n Dugger\n Ath. Dir: Steve Hall\n Email: shall@duggerunions
 chools.org\n\n
LOCATION:Carlisle Elem and Junior High School
SUMMARY:GBasketball (Girls 7 & 8) - Dugger
END:VEVENT
BEGIN:VEVENT
DTSTAMP:20260423T145644Z
UID:e99a0ce4-0ab1-4de1-b91b-aefe06c19c49
DTSTART:20261203T180000
DTEND:20261203T200000
DESCRIPTION:Start Time: 6:00 PM\nEnd Time: 8:00 PM\nSport: Basketball\nGend
 er: Girls\nLevel: 8th Grade\nLocation: Carlisle JH\nOpponent(s)\n South Kn
 ox Jr. High School\n Ath. Dir: Beth Robinson\n Email: brobinson@sknox.k12.
 in.us\n\n
LOCATION:Carlisle JH
SUMMARY:GBasketball (Girls 7 & 8) - South Knox Jr. High School
END:VEVENT
BEGIN:VEVENT
DTSTAMP:20260423T145644Z
UID:be817548-bc8e-4efe-953a-a5964f5d9dd7
DTSTART:20261207T180000
DTEND:20261207T200000
DESCRIPTION:Start Time: 6:00 PM\nEnd Time: 8:00 PM\nSport: Basketball\nGend
 er: Boys\nLevel: 8th Grade\nLocation: Dugger\nOpponent(s)\n Dugger\n Ath. 
 Dir: Steve Hall\n Email: shall@duggerunionschools.org\n\n
LOCATION:Dugger
SUMMARY:BBasketball (Boys 7 & 8) @ Dugger
END:VEVENT
BEGIN:VEVENT
DTSTAMP:20260423T145644Z
UID:07e774e1-af34-426d-b477-2ebaa8e8cc68
DTSTART:20261209T180000
DTEND:20261209T200000
DESCRIPTION:Start Time: 6:00 PM\nEnd Time: 8:00 PM\nSport: Basketball\nGend
 er: Boys\nLevel: 6th Grade\nLocation: Clay City\nOpponent(s)\n Clay City\n
  Ath. Dir: Harley Skinner\n Email: Skinnerhar@clay.k12.in.us\n\n
LOCATION:Clay City
SUMMARY:Basketball (Boys 5 & 6) @ Clay City
END:VEVENT
BEGIN:VEVENT
DTSTAMP:20260423T145644Z
UID:b9d813b3-0bc7-4756-a755-c47b4e5b33da
DTSTART:20261209T180000
DTEND:20261209T200000
DESCRIPTION:Start Time: 6:00 PM\nEnd Time: 8:00 PM\nSport: Basketball\nGend
 er: Boys\nLevel: 8th Grade\nLocation: Carlisle Elem and Junior High School
 \nOpponent(s)\n South Knox Jr. High School\n Ath. Dir: Beth Robinson\n Ema
 il: brobinson@sknox.k12.in.us\n\n
LOCATION:Carlisle Elem and Junior High School
SUMMARY:BBasketball (Boys 7 & 8) - South Knox Jr. High School 
END:VEVENT
BEGIN:VEVENT
DTSTAMP:20260423T145644Z
UID:a88be356-8a6e-4a58-b69a-5c57cceaa48b
DTSTART:20261210T180000
DTEND:20261210T200000
DESCRIPTION:Start Time: 6:00 PM\nEnd Time: 8:00 PM\nSport: Basketball\nGend
 er: Boys\nLevel: 6th Grade\nLocation: White River Valley - Wort \nOpponent
 (s)\n White River Valley - Wort\n\n
LOCATION:White River Valley - Wort 
SUMMARY:Basketball (Boys 5 & 6) @ White River Valley - Wort 
END:VEVENT
BEGIN:VEVENT
DTSTAMP:20260423T145644Z
UID:2d35da54-29fb-4f31-bd78-ae2f786574de
DTSTART:20261210T180000
DTEND:20261210T200000
DESCRIPTION:Start Time: 6:00 PM\nEnd Time: 8:00 PM\nSport: Basketball\nGend
 er: Girls\nLevel: 8th Grade\nLocation: Carlisle Elem and Junior High Schoo
 l\nOpponent(s)\n Shakamak Jr/Sr HS\n Ath. Dir: Dylan Collins\n Email: dcol
 lins@shakamak.k12.in.us\n\n
LOCATION:Carlisle Elem and Junior High School
SUMMARY:GBasketball (Girls 7 & 8) - Shakamak Jr/Sr HS
END:VEVENT
BEGIN:VEVENT
DTSTAMP:20260423T145644Z
UID:8370cfdb-f172-4c2a-a079-c0a7102b0fcd
DTSTART:20261214T180000
DTEND:20261214T200000
DESCRIPTION:Start Time: 6:00 PM\nEnd Time: 8:00 PM\nSport: Basketball\nGend
 er: Boys\nLevel: 8th Grade\nLocation: Carlisle Elem and Junior High School
 \nOpponent(s)\n White River Valley - Wort\n\n
LOCATION:Carlisle Elem and Junior High School
SUMMARY:BBasketball (Boys 7 & 8) - White River Valley - Lyons
END:VEVENT
BEGIN:VEVENT
DTSTAMP:20260423T145644Z
UID:322ef678-8da8-4453-b67b-0d38b58dc030
DTSTART:20261214T180000
DTEND:20261214T200000
DESCRIPTION:Start Time: 6:00 PM\nEnd Time: 8:00 PM\nSport: Basketball\nGend
 er: Girls\nLevel: 8th Grade\nLocation: White River Valley - Lyons\nOpponen
 t(s)\n White River Valley - Lyons\n Ath. Dir: Dave Zorman\n Email: dzorman
 @wrv.k12.in.us\n\n
LOCATION:White River Valley - Lyons
SUMMARY:GBasketball (Girls 7 & 8) @ White River Valley - Lyons
END:VEVENT
BEGIN:VEVENT
DTSTAMP:20260423T145644Z
UID:f5550a5c-c9d3-4f6d-a2a3-e697ed21261b
DTSTART:20261216T180000
DTEND:20261216T200000
DESCRIPTION:Start Time: 6:00 PM\nEnd Time: 8:00 PM\nSport: Basketball\nGend
 er: Boys\nLevel: 6th Grade\nLocation: St. Patrick School\nOpponent(s)\n St
 . Patrick School\n Ath. Dir: Sara Wallace\n Email: sara.wallace@saintpat.o
 rg\n\n
LOCATION:St. Patrick School
SUMMARY:Basketball (Boys 5 & 6) @ St. Patrick School
END:VEVENT
BEGIN:VEVENT
DTSTAMP:20260423T145644Z
UID:ab8f207b-923e-416a-9cf9-ec6ace4bc92d
DTSTART:20261216T180000
DTEND:20261216T200000
DESCRIPTION:Start Time: 6:00 PM\nEnd Time: 8:00 PM\nSport: Basketball\nGend
 er: Boys\nLevel: 8th Grade\nLocation: St. Patrick School\nOpponent(s)\n St
 . Patrick School\n Ath. Dir: Sara Wallace\n Email: sara.wallace@saintpat.o
 rg\n\n
LOCATION:St. Patrick School
SUMMARY:BBasketball (Boys 7 & 8) @ St. Patrick School
END:VEVENT
BEGIN:VEVENT
DTSTAMP:20260423T145644Z
UID:406a47dc-b26d-4f0b-ba0f-e41dabda4306
DTSTART:20270107T180000
DTEND:20270107T200000
DESCRIPTION:Start Time: 6:00 PM\nEnd Time: 8:00 PM\nSport: Basketball\nGend
 er: Boys\nLevel: 6th Grade\nLocation: Carlisle Elem and Junior High School
 \nOpponent(s)\n Shakamak Jr/Sr HS\n Ath. Dir: Dylan Collins\n Email: dcoll
 ins@shakamak.k12.in.us\n\n
LOCATION:Carlisle Elem and Junior High School
SUMMARY:Basketball (Boys 5 & 6) - Shakamak Jr/Sr HS 
END:VEVENT
BEGIN:VEVENT
DTSTAMP:20260423T145644Z
UID:96230ded-32fc-4f98-b476-bc8f6d1319a8
DTSTART:20270107T180000
DTEND:20270107T200000
DESCRIPTION:Start Time: 6:00 PM\nEnd Time: 8:00 PM\nSport: Basketball\nGend
 er: Girls\nLevel: 8th Grade\nLocation: Linton-Stockton\nOpponent(s)\n Lint
 on-Stockton\n\n
LOCATION:Linton-Stockton
SUMMARY:GBasketball (Girls 7 & 8) @ Linton-Stockton
END:VEVENT
BEGIN:VEVENT
DTSTAMP:20260423T145644Z
UID:99f1f0a9-3f66-41af-97ee-2c966d9fdea2
DTSTART:20270112T180000
DTEND:20270112T200000
DESCRIPTION:Start Time: 6:00 PM\nEnd Time: 8:00 PM\nSport: Basketball\nGend
 er: Girls\nLevel: 8th Grade\nLocation: North Knox Jr-Sr High School\nOppon
 ent(s)\n North Knox\n\n
LOCATION:North Knox Jr-Sr High School
SUMMARY:GBasketball (Girls 7 & 8) @ North Knox
END:VEVENT
BEGIN:VEVENT
DTSTAMP:20260423T145644Z
UID:9094b999-7842-4e2f-8b5e-ee1251301133
DTSTART:20270113T180000
DTEND:20270113T200000
DESCRIPTION:Start Time: 6:00 PM\nEnd Time: 8:00 PM\nSport: Basketball\nGend
 er: Girls\nLevel: 6th Grade\nLocation: St. Patrick School\nOpponent(s)\n S
 t. Patrick School\n Ath. Dir: Sara Wallace\n Email: sara.wallace@saintpat.
 org\n\n
LOCATION:St. Patrick School
SUMMARY:Basketball (Girls 5 & 6) @ St. Patrick School
END:VEVENT
BEGIN:VEVENT
DTSTAMP:20260423T145644Z
UID:b2451159-f971-4f47-896b-50409ae51952
DTSTART:20270113T180000
DTEND:20270113T200000
DESCRIPTION:Start Time: 6:00 PM\nEnd Time: 8:00 PM\nSport: Basketball\nGend
 er: Girls\nLevel: 8th Grade\nLocation: St. Patrick School\nOpponent(s)\n S
 t. Patrick School\n Ath. Dir: Sara Wallace\n Email: sara.wallace@saintpat.
 org\n\n
LOCATION:St. Patrick School
SUMMARY:GBasketball (Girls 7 & 8) @ St. Patrick School
END:VEVENT
BEGIN:VEVENT
DTSTAMP:20260423T145644Z
UID:8752e02a-88be-438f-8c51-bdb2e1b681ad
DTSTART:20270114T180000
DTEND:20270114T200000
DESCRIPTION:Start Time: 6:00 PM\nEnd Time: 8:00 PM\nSport: Basketball\nGend
 er: Boys\nLevel: 8th Grade\nLocation: Clay City \nOpponent(s)\n Clay City\
 n Ath. Dir: Harley Skinner\n Email: Skinnerhar@clay.k12.in.us\n\n
LOCATION:Clay City 
SUMMARY:BBasketball (Boys 7 & 8) @ Clay City 
END:VEVENT
BEGIN:VEVENT
DTSTAMP:20260423T145644Z
UID:5d3772f4-e957-4eac-822e-e2ab4c045560
DTSTART:20270118T180000
DTEND:20270118T200000
DESCRIPTION:Start Time: 6:00 PM\nEnd Time: 8:00 PM\nSport: Basketball\nGend
 er: Boys\nLevel: 6th Grade\nLocation: Carlisle Elem and Junior High School
 \nOpponent(s)\n Sullivan Jr. High\n Ath. Dir: Trent Olson\n Email: tolson@
 swest.k12.in.us\n\n
LOCATION:Carlisle Elem and Junior High School
SUMMARY:Basketball (Boys 5 & 6) - Sullivan Elementary School
END:VEVENT
BEGIN:VEVENT
DTSTAMP:20260423T145644Z
UID:8f40b637-65f5-4015-a591-c323b5615817
DTSTART:20270118T180000
DTEND:20270118T200000
DESCRIPTION:Start Time: 6:00 PM\nEnd Time: 8:00 PM\nSport: Basketball\nGend
 er: Girls\nLevel: 6th Grade\nLocation: White River Valley - Wort\nOpponent
 (s)\n White River Valley - Wort\n\n
LOCATION:White River Valley - Wort
SUMMARY:Basketball (Girls 5 & 6) @ White River Valley - Wort
END:VEVENT
BEGIN:VEVENT
DTSTAMP:20260423T145644Z
UID:ccb8a346-7d4a-4f28-97a2-9386d591051b
DTSTART:20270119T180000
DTEND:20270119T200000
DESCRIPTION:Start Time: 6:00 PM\nEnd Time: 8:00 PM\nSport: Basketball\nGend
 er: Boys\nLevel: 8th Grade\nLocation: New Hebron\nOpponent(s)\n New Hebron
 \n\n
LOCATION:New Hebron
SUMMARY:BBasketball (Boys 7 & 8) @ New Hebron 
END:VEVENT
BEGIN:VEVENT
DTSTAMP:20260423T145644Z
UID:4a27574b-e85c-4b06-a6ad-25e70961e10b
DTSTART:20270120T180000
DTEND:20270120T200000
DESCRIPTION:Start Time: 6:00 PM\nEnd Time: 8:00 PM\nSport: Basketball\nGend
 er: Girls\nLevel: 8th Grade\nLocation: Dugger\nOpponent(s)\n Dugger\n Ath.
  Dir: Steve Hall\n Email: shall@duggerunionschools.org\n\n
LOCATION:Dugger
SUMMARY:GBasketball (Girls 7 & 8) @ Dugger
END:VEVENT
BEGIN:VEVENT
DTSTAMP:20260423T145644Z
UID:daa99e73-e9d5-4ede-a91f-02d7f9b8a9bb
DTSTART:20270121T180000
DTEND:20270121T200000
DESCRIPTION:Start Time: 6:00 PM\nEnd Time: 8:00 PM\nSport: Basketball\nGend
 er: Boys\nLevel: 6th Grade\nLocation: Linton-Stockton\nOpponent(s)\n Linto
 n-Stockton\n\n
LOCATION:Linton-Stockton
SUMMARY:Basketball (Boys 5 & 6) @ Linton-Stockton
END:VEVENT
BEGIN:VEVENT
DTSTAMP:20260423T145644Z
UID:ab9d87af-5f45-45d6-bb68-c05f90333e98
DTSTART:20270121T180000
DTEND:20270121T200000
DESCRIPTION:Start Time: 6:00 PM\nEnd Time: 8:00 PM\nSport: Basketball\nGend
 er: Boys\nLevel: 8th Grade\nLocation: Carlisle Elem and Junior High School
 \nOpponent(s)\n Shakamak Jr/Sr HS\n Ath. Dir: Dylan Collins\n Email: dcoll
 ins@shakamak.k12.in.us\n\n
LOCATION:Carlisle Elem and Junior High School
SUMMARY:BBasketball (Boys 7 & 8) - Shakamak Jr/Sr HS 
END:VEVENT
BEGIN:VEVENT
DTSTAMP:20260423T145644Z
UID:86543c07-65b2-4129-b107-4cc2450a7b0b
DTSTART:20270121T180000
DTEND:20270121T200000
DESCRIPTION:Start Time: 6:00 PM\nEnd Time: 8:00 PM\nSport: Basketball\nGend
 er: Girls\nLevel: 8th Grade\nLocation: Carlisle Elem and Junior High Schoo
 l\nOpponent(s)\n Clay City\n Ath. Dir: Harley Skinner\n Email: Skinnerhar@
 clay.k12.in.us\n\n
LOCATION:Carlisle Elem and Junior High School
SUMMARY:GBasketball (Girls 7 & 8) - Clay City
END:VEVENT
BEGIN:VEVENT
DTSTAMP:20260423T145644Z
UID:2833eb1d-e81f-442d-ad83-204839170312
DTSTART:20270125T180000
DTEND:20270125T200000
DESCRIPTION:Start Time: 6:00 PM\nEnd Time: 8:00 PM\nSport: Basketball\nGend
 er: Boys\nLevel: 8th Grade\nLocation: Linton-Stockton \nOpponent(s)\n Lint
 on-Stockton\n\n
LOCATION:Linton-Stockton 
SUMMARY:BBasketball (Boys 7 & 8) @ Linton-Stockton 
END:VEVENT
BEGIN:VEVENT
DTSTAMP:20260423T145644Z
UID:9fba2d2b-c530-4617-9741-f9d6f025726d
DTSTART:20270126T180000
DTEND:20270126T200000
DESCRIPTION:Start Time: 6:00 PM\nEnd Time: 8:00 PM\nSport: Basketball\nGend
 er: Girls\nLevel: 6th Grade\nLocation: Dugger\nOpponent(s)\n Dugger\n Ath.
  Dir: Steve Hall\n Email: shall@duggerunionschools.org\n\n
LOCATION:Dugger
SUMMARY:Basketball (Girls 5 & 6) @ Dugger
END:VEVENT
BEGIN:VEVENT
DTSTAMP:20260423T145644Z
UID:ece429c5-03ec-4a09-a9eb-fc53a4e0e15d
DTSTART:20270127T180000
DTEND:20270127T200000
DESCRIPTION:Start Time: 6:00 PM\nEnd Time: 8:00 PM\nSport: Basketball\nGend
 er: Girls\nLevel: 6th Grade\nLocation: North Knox Jr-Sr High School\nOppon
 ent(s)\n North Knox\n\n
LOCATION:North Knox Jr-Sr High School
SUMMARY:Basketball (Girls 5 & 6) @ North Knox
END:VEVENT
BEGIN:VEVENT
DTSTAMP:20260423T145644Z
UID:34cdf582-bae7-4ec5-9bbe-a7069c982af3
DTSTART:20270128T180000
DTEND:20270128T200000
DESCRIPTION:Start Time: 6:00 PM\nEnd Time: 8:00 PM\nSport: Basketball\nGend
 er: Boys\nLevel: 8th Grade\nLocation: Carlisle Elem and Junior High School
 \nOpponent(s)\n Dugger\n Ath. Dir: Steve Hall\n Email: shall@duggerunionsc
 hools.org\n\n
LOCATION:Carlisle Elem and Junior High School
SUMMARY:BBasketball (Boys 7 & 8) - Dugger
END:VEVENT
BEGIN:VEVENT
DTSTAMP:20260423T145644Z
UID:0d2b5981-5ca3-4407-8c72-9663c94793aa
DTSTART:20270201T180000
DTEND:20270201T200000
DESCRIPTION:Start Time: 6:00 PM\nEnd Time: 8:00 PM\nSport: Basketball\nGend
 er: Boys\nLevel: 6th Grade\nLocation: PALESTINE HIGH SCHOOL\nOpponent(s)\n
  PALESTINE HIGH SCHOOL\n Ath. Dir: Travis Blank\n Email: travis.blank@pale
 stine-pioneers.net\n\n
LOCATION:PALESTINE HIGH SCHOOL
SUMMARY:Basketball (Boys 5 & 6) @ PALESTINE HIGH SCHOOL
END:VEVENT
BEGIN:VEVENT
DTSTAMP:20260423T145644Z
UID:37955ff9-1377-46b5-97da-ae9e6ab452fd
DTSTART:20270201T180000
DTEND:20270201T200000
DESCRIPTION:Start Time: 6:00 PM\nEnd Time: 8:00 PM\nSport: Basketball\nGend
 er: Girls\nLevel: 6th Grade\nLocation: Carlisle Elem and Junior High Schoo
 l\nOpponent(s)\n HUTSONVILLE ELEM AND JR HIGH SCH\n Ath. Dir: Randy Hawkin
 s\n Email: robin.karras@hutsonvilletigers.net\n\n
LOCATION:Carlisle Elem and Junior High School
SUMMARY:Basketball (Girls 5 & 6) - HUTSONVILLE ELEM AND JR HIGH SCH
END:VEVENT
BEGIN:VEVENT
DTSTAMP:20260423T145644Z
UID:de9a99f5-5604-40c7-a560-041693c95869
DTSTART:20270202T180000
DTEND:20270202T200000
DESCRIPTION:Start Time: 6:00 PM\nEnd Time: 8:00 PM\nSport: Basketball\nGend
 er: Girls\nLevel: 6th Grade\nLocation: Carlisle Elem and Junior High Schoo
 l\nOpponent(s)\n Dugger\n Ath. Dir: Steve Hall\n Email: shall@duggerunions
 chools.org\n\n
LOCATION:Carlisle Elem and Junior High School
SUMMARY:Basketball (Girls 5 & 6) - Dugger
END:VEVENT
BEGIN:VEVENT
DTSTAMP:20260423T145644Z
UID:9e94f1d1-8522-4bf8-af86-221e5b37bffe
DTSTART:20270204T180000
DTEND:20270204T200000
DESCRIPTION:Start Time: 6:00 PM\nEnd Time: 8:00 PM\nSport: Basketball\nGend
 er: Boys\nLevel: 6th Grade\nLocation: Dugger\nOpponent(s)\n Dugger\n Ath. 
 Dir: Steve Hall\n Email: shall@duggerunionschools.org\n\n
LOCATION:Dugger
SUMMARY:Basketball (Boys 5 & 6) @ Dugger
END:VEVENT
BEGIN:VEVENT
DTSTAMP:20260423T145644Z
UID:bc526f8a-f847-454e-b2a3-6994335b7c9e
DTSTART:20270209T180000
DTEND:20270209T200000
DESCRIPTION:Start Time: 6:00 PM\nEnd Time: 8:00 PM\nSport: Basketball\nGend
 er: Girls\nLevel: 6th Grade\nLocation: Vincennes Rivet High Scho\nOpponent
 (s)\n Vincennes Rivet High Scho\n Ath. Dir: Jill Frey\n Email: jfrey@evdio
 .org\,\n\n
LOCATION:Vincennes Rivet High Scho
SUMMARY:Basketball (Girls 5 & 6) @ Vincennes Rivet High Scho
END:VEVENT
BEGIN:VEVENT
DTSTAMP:20260423T145644Z
UID:c4f8ee2a-4f64-4e4a-9f84-e9a2fb659684
DTSTART:20270210T180000
DTEND:20270210T200000
DESCRIPTION:Start Time: 6:00 PM\nEnd Time: 8:00 PM\nSport: Basketball\nGend
 er: Boys\nLevel: 6th Grade\nLocation: Carlisle Elem and Junior High School
 \nOpponent(s)\n New Hebron\n\n
LOCATION:Carlisle Elem and Junior High School
SUMMARY:Basketball (Boys 5 & 6) - New Hebron
END:VEVENT
BEGIN:VEVENT
DTSTAMP:20260423T145644Z
UID:97f6d595-45fb-4fe2-82eb-606ea54e9502
DTSTART:20270218T180000
DTEND:20270218T200000
DESCRIPTION:Start Time: 6:00 PM\nEnd Time: 8:00 PM\nSport: Basketball\nGend
 er: Girls\nLevel: 6th Grade\nLocation: Shakamak Jr/Sr HS\nOpponent(s)\n Ca
 rlisle Elem and Junior High School\n Ath. Dir: Alannah Wolfe\n Email: awol
 fe@swest.k12.in.us\n\n
LOCATION:Shakamak Jr/Sr HS
SUMMARY:Basketball (Girls 5 & 6) @ Shakamak Jr/Sr HS
END:VEVENT
BEGIN:VEVENT
DTSTAMP:20260423T145644Z
UID:3200cbf4-2134-45c5-a065-eb203d9400d8
DTSTART:20270224T180000
DTEND:20270224T200000
DESCRIPTION:Start Time: 6:00 PM\nEnd Time: 8:00 PM\nSport: Basketball\nGend
 er: Girls\nLevel: 6th Grade\nLocation: Carlisle Elem and Junior High Schoo
 l\nOpponent(s)\n Clay City\n Ath. Dir: Harley Skinner\n Email: Skinnerhar@
 clay.k12.in.us\n\n
LOCATION:Carlisle Elem and Junior High School
SUMMARY:Basketball (Girls 5 & 6) - Clay City
END:VEVENT
END:VCALENDAR
