BEGIN:VCALENDAR
VERSION:2.0
PRODID:icalendar-ruby
CALSCALE:GREGORIAN
BEGIN:VTIMEZONE
TZID:America/New_York
BEGIN:DAYLIGHT
DTSTART:20260308T030000
TZOFFSETFROM:-0500
TZOFFSETTO:-0400
RRULE:FREQ=YEARLY;BYDAY=2SU;BYMONTH=3
TZNAME:EDT
END:DAYLIGHT
BEGIN:STANDARD
DTSTART:20261101T010000
TZOFFSETFROM:-0400
TZOFFSETTO:-0500
RRULE:FREQ=YEARLY;BYDAY=1SU;BYMONTH=11
TZNAME:EST
END:STANDARD
END:VTIMEZONE
BEGIN:VEVENT
DTSTAMP:20260423T091552Z
UID:8beca474-6cf1-453d-8c05-98be1ee92016
DTSTART:20260512T183000
DTEND:20260512T193000
DESCRIPTION:
LOCATION:
SUMMARY:Board of Education Budget Hearing
END:VEVENT
BEGIN:VEVENT
DTSTAMP:20260423T091552Z
UID:5c93359d-6a38-40fd-8f97-a2993cb96f09
DTSTART:20260519T120000
DTEND:20260519T200000
DESCRIPTION:
LOCATION:
SUMMARY:Annual District Meeting (Budget Vote/Election)
END:VEVENT
BEGIN:VEVENT
DTSTAMP:20260423T091552Z
UID:7fe620f8-0631-4416-9ae4-d6433ee131b1
DTSTART:20260519T183000
DTEND:20260519T200000
DESCRIPTION:
LOCATION:
SUMMARY:Board of Education Regular Meeting
END:VEVENT
BEGIN:VEVENT
DTSTAMP:20260423T091552Z
UID:2e0b67d5-68e4-4e38-a535-51f4c776e3d4
DTSTART:20260519T200000
DTEND:20260519T210000
DESCRIPTION:<meta http-equiv="Content-Type" content="text/html\; charset=ut
 f-8"><p>Meeting is held to accept the result of the Budget Vote/Election.<
 /p>
LOCATION:
SUMMARY:Board of Education Special  Meeting
END:VEVENT
BEGIN:VEVENT
DTSTAMP:20260423T091552Z
UID:783ced9e-0b3f-439f-8c0d-ab3a5395fd97
DTSTART;VALUE=DATE:20260522
DTEND;VALUE=DATE:20260523
DESCRIPTION:
LOCATION:
SUMMARY:NO SCHOOL
END:VEVENT
BEGIN:VEVENT
DTSTAMP:20260423T091552Z
UID:7134a728-e181-4e65-8295-37b173261240
DTSTART;VALUE=DATE:20260525
DTEND;VALUE=DATE:20260526
DESCRIPTION:
LOCATION:
SUMMARY:Memorial Day - NO SCHOOL
END:VEVENT
BEGIN:VEVENT
DTSTAMP:20260423T091552Z
UID:5218142b-cf7e-4a87-955d-4d8db57d9184
DTSTART:20260609T183000
DTEND:20260609T193000
DESCRIPTION:
LOCATION:
SUMMARY:Board of Education Regular Meeting
END:VEVENT
END:VCALENDAR
