BEGIN:VCALENDAR
VERSION:2.0
PRODID:icalendar-ruby
CALSCALE:GREGORIAN
BEGIN:VTIMEZONE
TZID:America/Los_Angeles
BEGIN:DAYLIGHT
DTSTART:20260308T030000
TZOFFSETFROM:-0800
TZOFFSETTO:-0700
RRULE:FREQ=YEARLY;BYDAY=2SU;BYMONTH=3
TZNAME:PDT
END:DAYLIGHT
BEGIN:STANDARD
DTSTART:20261101T010000
TZOFFSETFROM:-0700
TZOFFSETTO:-0800
RRULE:FREQ=YEARLY;BYDAY=1SU;BYMONTH=11
TZNAME:PST
END:STANDARD
END:VTIMEZONE
BEGIN:VEVENT
DTSTAMP:20260423T133725Z
UID:81ca8276-c9db-4493-9240-f7591ae7474a
DTSTART:20260508T073000
DTEND:20260508T080000
DESCRIPTION:<p>Adult female friends and family are invited to join your Hof
 stetter student(s) for a yummy muffin breakfast.</p>
LOCATION:
SUMMARY:Muffins with Ma'ams
END:VEVENT
BEGIN:VEVENT
DTSTAMP:20260423T133725Z
UID:2135e4c8-5dcf-4c5d-9253-49c482e00f59
DTSTART:20260512T170000
DTEND:20260512T180000
DESCRIPTION:<p>Join us at Yep Kanum Park for Hofstetter's Spring music conc
 ert!</p>
LOCATION:
SUMMARY:Hofstetter Spring Concert
END:VEVENT
BEGIN:VEVENT
DTSTAMP:20260423T133725Z
UID:e19edaf0-0613-4444-9351-ddad06e1a6cd
DTSTART:20260515T073000
DTEND:20260515T080000
DESCRIPTION:<p>Adult male friends and family are invited to join your Hofst
 etter student(s) for a yummy donut breakfast.</p>
LOCATION:
SUMMARY:Donuts with Dudes
END:VEVENT
END:VCALENDAR
