BEGIN:VCALENDAR
VERSION:2.0
PRODID:icalendar-ruby
CALSCALE:GREGORIAN
BEGIN:VTIMEZONE
TZID:America/New_York
BEGIN:DAYLIGHT
DTSTART:20260308T030000
TZOFFSETFROM:-0500
TZOFFSETTO:-0400
RRULE:FREQ=YEARLY;BYDAY=2SU;BYMONTH=3
TZNAME:EDT
END:DAYLIGHT
BEGIN:STANDARD
DTSTART:20261101T010000
TZOFFSETFROM:-0400
TZOFFSETTO:-0500
RRULE:FREQ=YEARLY;BYDAY=1SU;BYMONTH=11
TZNAME:EST
END:STANDARD
END:VTIMEZONE
BEGIN:VEVENT
DTSTAMP:20260420T062058Z
UID:9fe5aca4-98f5-4ee1-8b2a-64351f9de4ce
DTSTART;VALUE=DATE:20260421
DTEND;VALUE=DATE:20260423
DESCRIPTION:
LOCATION:
SUMMARY:NYS ELA Assessments Grades 3-8
END:VEVENT
BEGIN:VEVENT
DTSTAMP:20260420T062058Z
UID:90906d20-93e9-4b98-886f-69f046175189
DTSTART:20260422T180000
DTEND:20260422T193000
DESCRIPTION:
LOCATION:John F. Kennedy Middle School\, 500 Broadway\, Bethpage\, NY 11714
 \, USA
SUMMARY:Tri-M Music Honor Society Induction Ceremony
END:VEVENT
BEGIN:VEVENT
DTSTAMP:20260420T062058Z
UID:38bdf085-578e-4742-861a-7f68dd31ff04
DTSTART:20260430T180000
DTEND:20260430T200000
DESCRIPTION:
LOCATION:John F. Kennedy Middle School\, 500 Broadway\, Bethpage\, NY 11714
 \, USA
SUMMARY:Bounce Into Spring Challenger Dance 
END:VEVENT
BEGIN:VEVENT
DTSTAMP:20260420T062058Z
UID:6a224a6c-42a7-44df-ab95-f9b7d202f150
DTSTART;VALUE=DATE:20260501
DTEND;VALUE=DATE:20260503
DESCRIPTION:**Note: This event will be held at Syosset HS**
LOCATION:Syosset High School\, 70 S Woods Rd\, Syosset\, NY 11791\, USA
SUMMARY:NYSSMA All-State @ Syosset HS
END:VEVENT
BEGIN:VEVENT
DTSTAMP:20260420T062058Z
UID:a13f6668-613d-4f4c-9b0b-d96aae614bc6
DTSTART;VALUE=DATE:20260505
DTEND;VALUE=DATE:20260507
DESCRIPTION:
LOCATION:
SUMMARY:NYS Math Assessments Grades 3-8
END:VEVENT
BEGIN:VEVENT
DTSTAMP:20260420T062058Z
UID:32b3faa9-1f2b-4bfc-88fe-e9a6010f91fb
DTSTART:20260512T190000
DTEND:20260512T203000
DESCRIPTION:**Note: This performance will be held at BHS**
LOCATION:Bethpage High School\, 10 Cherry Ave\, Bethpage\, NY 11714\, USA
SUMMARY:Spring Concert Part I @ BHS
END:VEVENT
BEGIN:VEVENT
DTSTAMP:20260420T062058Z
UID:4a5566ef-265b-41ca-bf12-045e51f7a827
DTSTART;VALUE=DATE:20260513
DTEND;VALUE=DATE:20260514
DESCRIPTION:
LOCATION:John F. Kennedy Middle School\, 500 Broadway\, Bethpage\, NY 11714
 \, USA
SUMMARY:Grades 5 & 8 Science Assessment
END:VEVENT
BEGIN:VEVENT
DTSTAMP:20260420T062058Z
UID:6e879ea4-5b95-436a-9cfb-8634dbce0f93
DTSTART:20260513T190000
DTEND:20260513T203000
DESCRIPTION:**Note: This performance will be held at BHS**
LOCATION:Bethpage High School\, 10 Cherry Ave\, Bethpage\, NY 11714\, USA
SUMMARY:Spring Concert Part II @ BHS
END:VEVENT
BEGIN:VEVENT
DTSTAMP:20260420T062058Z
UID:e67bbb76-ddef-40dc-aaf6-e897cc62e777
DTSTART:20260514T190000
DTEND:20260514T203000
DESCRIPTION:**Note: This performance will be held at JFK Middle School**
LOCATION:John F. Kennedy Middle School\, 500 Broadway\, Bethpage\, NY 11714
 \, USA
SUMMARY:Spring Concert Part III @ JFK
END:VEVENT
BEGIN:VEVENT
DTSTAMP:20260420T062058Z
UID:54bdfe2e-d5d6-43ce-8d35-69579cb5d6b1
DTSTART;VALUE=DATE:20260515
DTEND;VALUE=DATE:20260516
DESCRIPTION:
LOCATION:John F. Kennedy Middle School\, 500 Broadway\, Bethpage\, NY 11714
 \, USA
SUMMARY:Progress Report Period Ends
END:VEVENT
BEGIN:VEVENT
DTSTAMP:20260420T062058Z
UID:fe81e33c-2e54-4c39-87c6-06a1b9b00246
DTSTART;VALUE=DATE:20260520
DTEND;VALUE=DATE:20260521
DESCRIPTION:
LOCATION:John F. Kennedy Middle School\, 500 Broadway\, Bethpage\, NY 11714
 \, USA
SUMMARY:Grade 5 into 6 Parent Orientation
END:VEVENT
BEGIN:VEVENT
DTSTAMP:20260420T062058Z
UID:89544da9-7310-483d-81ee-9a6eed93d71a
DTSTART:20260521T180000
DTEND:20260521T193000
DESCRIPTION:
LOCATION:John F. Kennedy Middle School\, 500 Broadway\, Bethpage\, NY 11714
 \, USA
SUMMARY:Art Show
END:VEVENT
BEGIN:VEVENT
DTSTAMP:20260420T062058Z
UID:0545cda7-e8c1-4af7-9c3c-cfac1f01f4e4
DTSTART;VALUE=DATE:20260525
DTEND;VALUE=DATE:20260526
DESCRIPTION:
LOCATION:
SUMMARY:Memorial Day - Schools Closed
END:VEVENT
BEGIN:VEVENT
DTSTAMP:20260420T062058Z
UID:0867f8b1-9297-46ed-9f4d-1c1ad94075d0
DTSTART:20260529T183000
DTEND:20260529T203000
DESCRIPTION:
LOCATION:John F. Kennedy Middle School\, 500 Broadway\, Bethpage\, NY 11714
 \, USA
SUMMARY:Spring Party 
END:VEVENT
BEGIN:VEVENT
DTSTAMP:20260420T062058Z
UID:b93a3c2d-4af0-4d23-bf7f-c4973c3e24e2
DTSTART:20260604T190000
DTEND:20260604T203000
DESCRIPTION:
LOCATION:John F. Kennedy Middle School\, 500 Broadway\, Bethpage\, NY 11714
 \, USA
SUMMARY:Grade 8 Awards 
END:VEVENT
BEGIN:VEVENT
DTSTAMP:20260420T062058Z
UID:1d868d6e-bced-4c6e-8b97-9398e83eaaf9
DTSTART:20260605T180000
DTEND:20260605T193000
DESCRIPTION:
LOCATION:John F. Kennedy Middle School\, 500 Broadway\, Bethpage\, NY 11714
 \, USA
SUMMARY:Variety Show
END:VEVENT
BEGIN:VEVENT
DTSTAMP:20260420T062058Z
UID:10fe82b6-6c5c-49f9-bdad-42fc05f9b96a
DTSTART;VALUE=DATE:20260612
DTEND;VALUE=DATE:20260613
DESCRIPTION:
LOCATION:John F. Kennedy Middle School\, 500 Broadway\, Bethpage\, NY 11714
 \, USA
SUMMARY:End of 4th Marking Period
END:VEVENT
BEGIN:VEVENT
DTSTAMP:20260420T062058Z
UID:7226df16-1362-41a2-80da-4f8cca369ec3
DTSTART;VALUE=DATE:20260619
DTEND;VALUE=DATE:20260620
DESCRIPTION:
LOCATION:
SUMMARY:Juneteenth - Schools Closed
END:VEVENT
BEGIN:VEVENT
DTSTAMP:20260420T062058Z
UID:5e68a205-63fb-4772-b72d-a3fe54ad957c
DTSTART:20260624T093000
DTEND:20260624T110000
DESCRIPTION:**Note: This event will be held at BHS**
LOCATION:Bethpage High School\, 10 Cherry Ave\, Bethpage\, NY 11714\, USA
SUMMARY:Moving On Ceremony @ BHS
END:VEVENT
BEGIN:VEVENT
DTSTAMP:20260420T062058Z
UID:0ee2bcdc-ee18-4b72-8226-e3a5128c7f7f
DTSTART;VALUE=DATE:20260626
DTEND;VALUE=DATE:20260627
DESCRIPTION:
LOCATION:John F. Kennedy Middle School\, 500 Broadway\, Bethpage\, NY 11714
 \, USA
SUMMARY:Last Day of School 
END:VEVENT
BEGIN:VEVENT
DTSTAMP:20260420T062058Z
UID:f2229da0-e0fb-4f81-9dad-49b037c6de0c
DTSTART;VALUE=DATE:20260824
DTEND;VALUE=DATE:20260825
DESCRIPTION:
LOCATION:John F. Kennedy Middle School\, 500 Broadway\, Bethpage\, NY 11714
 \, USA
SUMMARY:Student Orientation
END:VEVENT
END:VCALENDAR
