BEGIN:VCALENDAR
VERSION:2.0
PRODID:icalendar-ruby
CALSCALE:GREGORIAN
BEGIN:VTIMEZONE
TZID:America/New_York
BEGIN:DAYLIGHT
DTSTART:20260308T030000
TZOFFSETFROM:-0500
TZOFFSETTO:-0400
RRULE:FREQ=YEARLY;BYDAY=2SU;BYMONTH=3
TZNAME:EDT
END:DAYLIGHT
BEGIN:STANDARD
DTSTART:20261101T010000
TZOFFSETFROM:-0400
TZOFFSETTO:-0500
RRULE:FREQ=YEARLY;BYDAY=1SU;BYMONTH=11
TZNAME:EST
END:STANDARD
END:VTIMEZONE
BEGIN:VEVENT
DTSTAMP:20260420T060859Z
UID:f43c938a-ef1b-40aa-a502-59f62c992cfe
DTSTART;VALUE=DATE:20260421
DTEND;VALUE=DATE:20260423
DESCRIPTION:
LOCATION:Kramer Lane Elementary School\, 1 Kramer Ln\, Plainview\, NY 11803
 \, USA
SUMMARY:NYS ELA Assessments Grades 3-8
END:VEVENT
BEGIN:VEVENT
DTSTAMP:20260420T060859Z
UID:5159454e-4627-4100-b777-58bb59b7cd1b
DTSTART:20260422T190000
DTEND:20260422T203000
DESCRIPTION:
LOCATION:Kramer Lane Elementary School\, 1 Kramer Ln\, Plainview\, NY 11803
 \, USA
SUMMARY:PTA Meeting
END:VEVENT
BEGIN:VEVENT
DTSTAMP:20260420T060859Z
UID:abc07a7c-d3da-45d8-8c23-59396cb84092
DTSTART;VALUE=DATE:20260423
DTEND;VALUE=DATE:20260424
DESCRIPTION:
LOCATION:Kramer Lane Elementary School\, 1 Kramer Ln\, Plainview\, NY 11803
 \, USA
SUMMARY:Kindergarten Orientation
END:VEVENT
BEGIN:VEVENT
DTSTAMP:20260420T060859Z
UID:02e20015-5021-447c-b39e-421ca0f85a5d
DTSTART;VALUE=DATE:20260430
DTEND;VALUE=DATE:20260502
DESCRIPTION:
LOCATION:Kramer Lane Elementary School\, 1 Kramer Ln\, Plainview\, NY 11803
 \, USA
SUMMARY:Mother's & Father's Day Boutique
END:VEVENT
BEGIN:VEVENT
DTSTAMP:20260420T060859Z
UID:3ec7c8c2-781c-4f44-9589-f906a1d8c180
DTSTART;VALUE=DATE:20260501
DTEND;VALUE=DATE:20260502
DESCRIPTION:
LOCATION:Kramer Lane Elementary School\, 1 Kramer Ln\, Plainview\, NY 11803
 \, USA
SUMMARY:Kindness Day
END:VEVENT
BEGIN:VEVENT
DTSTAMP:20260420T060859Z
UID:0057850d-df2d-47c1-8c8e-7b38c8ad6197
DTSTART;VALUE=DATE:20260504
DTEND;VALUE=DATE:20260509
DESCRIPTION:
LOCATION:Kramer Lane Elementary School\, 1 Kramer Ln\, Plainview\, NY 11803
 \, USA
SUMMARY:PTA Teacher Appreciation Week
END:VEVENT
BEGIN:VEVENT
DTSTAMP:20260420T060859Z
UID:83607b33-5778-44db-9b9c-525d0bc1de9b
DTSTART;VALUE=DATE:20260505
DTEND;VALUE=DATE:20260507
DESCRIPTION:
LOCATION:Kramer Lane Elementary School\, 1 Kramer Ln\, Plainview\, NY 11803
 \, USA
SUMMARY:NYS Math Assessments Grades 3-8
END:VEVENT
BEGIN:VEVENT
DTSTAMP:20260420T060859Z
UID:80c8622a-58cd-445b-b7f2-b7352e8f036f
DTSTART;VALUE=DATE:20260506
DTEND;VALUE=DATE:20260507
DESCRIPTION:
LOCATION:Kramer Lane Elementary School\, 1 Kramer Ln\, Plainview\, NY 11803
 \, USA
SUMMARY:Family Connect Night
END:VEVENT
BEGIN:VEVENT
DTSTAMP:20260420T060859Z
UID:a3b20c26-5a82-448c-acd3-abf8a3f01f5d
DTSTART;VALUE=DATE:20260507
DTEND;VALUE=DATE:20260508
DESCRIPTION:
LOCATION:Kramer Lane Elementary School\, 1 Kramer Ln\, Plainview\, NY 11803
 \, USA
SUMMARY:Plant Sale Pickup
END:VEVENT
BEGIN:VEVENT
DTSTAMP:20260420T060859Z
UID:ee7cddda-0dfa-4507-97eb-8cbf1d12f507
DTSTART;VALUE=DATE:20260508
DTEND;VALUE=DATE:20260509
DESCRIPTION:
LOCATION:Kramer Lane Elementary School\, 1 Kramer Ln\, Plainview\, NY 11803
 \, USA
SUMMARY:PTA Plant Sale Pickup
END:VEVENT
BEGIN:VEVENT
DTSTAMP:20260420T060859Z
UID:2360fd07-0cf0-492e-ae29-cab77e783d16
DTSTART:20260511T190000
DTEND:20260511T203000
DESCRIPTION:**Note: This performance will be held at BHS**
LOCATION:Bethpage High School\, 10 Cherry Ave\, Bethpage\, NY 11714\, USA
SUMMARY:Spring Concert @ BHS
END:VEVENT
BEGIN:VEVENT
DTSTAMP:20260420T060859Z
UID:9bbafa27-b5cb-4040-82d5-5cfee86cd3bb
DTSTART;VALUE=DATE:20260513
DTEND;VALUE=DATE:20260514
DESCRIPTION:
LOCATION:Kramer Lane Elementary School\, 1 Kramer Ln\, Plainview\, NY 11803
 \, USA
SUMMARY:Grades 5 & 8 Science Assessment
END:VEVENT
BEGIN:VEVENT
DTSTAMP:20260420T060859Z
UID:beb83bec-8ae2-4807-a809-d8e7424547db
DTSTART:20260513T190000
DTEND:20260513T203000
DESCRIPTION:
LOCATION:Kramer Lane Elementary School\, 1 Kramer Ln\, Plainview\, NY 11803
 \, USA
SUMMARY:PTA Meeting
END:VEVENT
BEGIN:VEVENT
DTSTAMP:20260420T060859Z
UID:649b6791-5a55-476d-98f9-eaa1c62ae0d2
DTSTART;VALUE=DATE:20260514
DTEND;VALUE=DATE:20260516
DESCRIPTION:
LOCATION:Kramer Lane Elementary School\, 1 Kramer Ln\, Plainview\, NY 11803
 \, USA
SUMMARY:Kindergarten Screening
END:VEVENT
BEGIN:VEVENT
DTSTAMP:20260420T060859Z
UID:a262c33e-9254-465d-aaae-0170fd1d49c4
DTSTART;VALUE=DATE:20260519
DTEND;VALUE=DATE:20260521
DESCRIPTION:
LOCATION:Kramer Lane Elementary School\, 1 Kramer Ln\, Plainview\, NY 11803
 \, USA
SUMMARY:Book Fair
END:VEVENT
BEGIN:VEVENT
DTSTAMP:20260420T060859Z
UID:2371fb1c-0167-4e11-8d96-cfb5a33408a0
DTSTART;VALUE=DATE:20260520
DTEND;VALUE=DATE:20260521
DESCRIPTION:
LOCATION:Kramer Lane Elementary School\, 1 Kramer Ln\, Plainview\, NY 11803
 \, USA
SUMMARY:Engineers Helping Engineers
END:VEVENT
BEGIN:VEVENT
DTSTAMP:20260420T060859Z
UID:5b999e63-0467-4d46-9a63-7697e53ec8dd
DTSTART:20260520T173000
DTEND:20260520T193000
DESCRIPTION:
LOCATION:Kramer Lane Elementary School\, 1 Kramer Ln\, Plainview\, NY 11803
 \, USA
SUMMARY:Art Show 
END:VEVENT
BEGIN:VEVENT
DTSTAMP:20260420T060859Z
UID:2a3c661f-0196-40ca-99b1-d33ac7a514e7
DTSTART;VALUE=DATE:20260521
DTEND;VALUE=DATE:20260522
DESCRIPTION:**Note: This event will be held at BHS**
LOCATION:Bethpage High School\, 10 Cherry Ave\, Bethpage\, NY 11714\, USA
SUMMARY:Grade 3 Maritime Festival @ BHS
END:VEVENT
BEGIN:VEVENT
DTSTAMP:20260420T060859Z
UID:e0820bd3-d61a-4276-b847-a94694f56dc5
DTSTART:20260521T140000
DTEND:20260521T153000
DESCRIPTION:
LOCATION:Kramer Lane Elementary School\, 1 Kramer Ln\, Plainview\, NY 11803
 \, USA
SUMMARY:Grade 4 International Feast
END:VEVENT
BEGIN:VEVENT
DTSTAMP:20260420T060859Z
UID:41c3eec4-540b-4df3-aee2-e9d865b20c20
DTSTART;VALUE=DATE:20260522
DTEND;VALUE=DATE:20260523
DESCRIPTION:
LOCATION:Kramer Lane Elementary School\, 1 Kramer Ln\, Plainview\, NY 11803
 \, USA
SUMMARY:Kindness Day
END:VEVENT
BEGIN:VEVENT
DTSTAMP:20260420T060859Z
UID:b5477344-a73d-4713-8a02-75b94a12225c
DTSTART;VALUE=DATE:20260525
DTEND;VALUE=DATE:20260526
DESCRIPTION:
LOCATION:
SUMMARY:Memorial Day - Schools Closed
END:VEVENT
BEGIN:VEVENT
DTSTAMP:20260420T060859Z
UID:732310dd-01ff-4f22-bb55-e03b14a7f585
DTSTART:20260528T100000
DTEND:20260528T120000
DESCRIPTION:
LOCATION:John F. Kennedy Middle School\, 500 Broadway\, Bethpage\, NY 11714
 \, USA
SUMMARY:Grade 5 Visit to JFK
END:VEVENT
BEGIN:VEVENT
DTSTAMP:20260420T060859Z
UID:d6127aff-b59f-446d-bedf-48f67873b252
DTSTART:20260529T100000
DTEND:20260529T113000
DESCRIPTION:
LOCATION:Kramer Lane Elementary School\, 1 Kramer Ln\, Plainview\, NY 11803
 \, USA
SUMMARY:Grade 2 Play
END:VEVENT
BEGIN:VEVENT
DTSTAMP:20260420T060859Z
UID:1f9c3a83-79b4-4632-a6b1-30760dcd26ef
DTSTART:20260529T134500
DTEND:20260529T151500
DESCRIPTION:
LOCATION:Kramer Lane Elementary School\, 1 Kramer Ln\, Plainview\, NY 11803
 \, USA
SUMMARY:Field Day
END:VEVENT
BEGIN:VEVENT
DTSTAMP:20260420T060859Z
UID:96a15dae-f375-4ded-be8f-8ceaa1db43ae
DTSTART:20260601T100000
DTEND:20260601T113000
DESCRIPTION:**Note: This event is a RAIN Date)
LOCATION:Kramer Lane Elementary School\, 1 Kramer Ln\, Plainview\, NY 11803
 \, USA
SUMMARY:Grade 2 Play (Rain Date)
END:VEVENT
BEGIN:VEVENT
DTSTAMP:20260420T060859Z
UID:dded933a-ce14-4eb3-bea9-3e60e285c407
DTSTART:20260601T134500
DTEND:20260601T151500
DESCRIPTION:**Note: This event is a RAIN Date**
LOCATION:Kramer Lane Elementary School\, 1 Kramer Ln\, Plainview\, NY 11803
 \, USA
SUMMARY:Field Day (Rain Date)
END:VEVENT
BEGIN:VEVENT
DTSTAMP:20260420T060859Z
UID:7647b31d-e9df-4ef0-bfe8-cf3bad183b83
DTSTART;VALUE=DATE:20260602
DTEND;VALUE=DATE:20260603
DESCRIPTION:**Note: This event will be held at JFK Middle School**
LOCATION:John F. Kennedy Middle School\, 500 Broadway\, Bethpage\, NY 11714
 \, USA
SUMMARY:Grade 5 Team Building Day @ JFK 
END:VEVENT
BEGIN:VEVENT
DTSTAMP:20260420T060859Z
UID:cdee1c25-e3ee-47a4-9325-e310a270e6c9
DTSTART;VALUE=DATE:20260603
DTEND;VALUE=DATE:20260604
DESCRIPTION:
LOCATION:Kramer Lane Elementary School\, 1 Kramer Ln\, Plainview\, NY 11803
 \, USA
SUMMARY:Family Connect Night
END:VEVENT
BEGIN:VEVENT
DTSTAMP:20260420T060859Z
UID:3f2534f0-661a-45ae-a49e-38d25c8837eb
DTSTART;VALUE=DATE:20260603
DTEND;VALUE=DATE:20260604
DESCRIPTION:**Note: This is a RAIN Date and will be held at JFK Middle Scho
 ol**
LOCATION:John F. Kennedy Middle School\, 500 Broadway\, Bethpage\, NY 11714
 \, USA
SUMMARY: Grade 5 Team Building Day @ JFK (Rain Date)
END:VEVENT
BEGIN:VEVENT
DTSTAMP:20260420T060859Z
UID:17e76c2d-0a76-4322-ad89-76a5099e0bcc
DTSTART:20260603T180000
DTEND:20260603T193000
DESCRIPTION:**Note: This event will be held at JFK Middle School**
LOCATION:John F. Kennedy Middle School\, 500 Broadway\, Bethpage\, NY 11714
 \, USA
SUMMARY:Beginner Concert @ JFK
END:VEVENT
BEGIN:VEVENT
DTSTAMP:20260420T060859Z
UID:b7767162-31f2-4263-883f-50ddbf837a43
DTSTART:20260605T190000
DTEND:20260605T203000
DESCRIPTION:
LOCATION:Kramer Lane Elementary School\, 1 Kramer Ln\, Plainview\, NY 11803
 \, USA
SUMMARY:Grade 5 Party
END:VEVENT
BEGIN:VEVENT
DTSTAMP:20260420T060859Z
UID:add61ec4-cc09-42e4-8d8e-d47acc4300a6
DTSTART:20260611T190000
DTEND:20260611T203000
DESCRIPTION:**Note: This performance will be held at BHS**
LOCATION:Bethpage High School\, 10 Cherry Ave\, Bethpage\, NY 11714\, USA
SUMMARY:Elementary Masquers Guild Production @ BHS
END:VEVENT
BEGIN:VEVENT
DTSTAMP:20260420T060859Z
UID:43fadbe2-efe9-4bc1-a647-e3130c4219b1
DTSTART:20260612T100000
DTEND:20260612T113000
DESCRIPTION:
LOCATION:Kramer Lane Elementary School\, 1 Kramer Ln\, Plainview\, NY 11803
 \, USA
SUMMARY:Flag Day/First Responder & law Enforcement Parade & Celebration
END:VEVENT
BEGIN:VEVENT
DTSTAMP:20260420T060859Z
UID:3eed4eed-9640-4945-9df7-cd6e4db6dfad
DTSTART:20260612T190000
DTEND:20260612T203000
DESCRIPTION:**Note: This performance will be held at BHS**
LOCATION:Bethpage High School\, 10 Cherry Ave\, Bethpage\, NY 11714\, USA
SUMMARY: Elementary Masquers Guild Production @ BHS
END:VEVENT
BEGIN:VEVENT
DTSTAMP:20260420T060859Z
UID:1f2e3518-c240-46d8-a79d-36ebaa11f3d5
DTSTART:20260613T120000
DTEND:20260613T133000
DESCRIPTION:**Note: This performance is a MATINEE and will be held at BHS**
LOCATION:Bethpage High School\, 10 Cherry Ave\, Bethpage\, NY 11714\, USA
SUMMARY: Elementary Masquers Guild Production @ BHS
END:VEVENT
BEGIN:VEVENT
DTSTAMP:20260420T060859Z
UID:694b50a9-78f6-482c-aa5e-2e1315c629ed
DTSTART:20260613T190000
DTEND:20260613T203000
DESCRIPTION:**Note: This performance will be held at BHS**
LOCATION:Bethpage High School\, 10 Cherry Ave\, Bethpage\, NY 11714\, USA
SUMMARY: Elementary Masquers Guild Production @ BHS
END:VEVENT
BEGIN:VEVENT
DTSTAMP:20260420T060859Z
UID:136708a7-8149-41d6-9125-86a61ce50ff2
DTSTART;VALUE=DATE:20260616
DTEND;VALUE=DATE:20260617
DESCRIPTION:
LOCATION:
SUMMARY:Grade 5 Trip
END:VEVENT
BEGIN:VEVENT
DTSTAMP:20260420T060859Z
UID:17a98264-ed4a-4481-8a3d-c0fe0102801b
DTSTART;VALUE=DATE:20260617
DTEND;VALUE=DATE:20260618
DESCRIPTION:**Note: This is a RAIN Date**
LOCATION:
SUMMARY:Grade 5 Trip (Rain Date)
END:VEVENT
BEGIN:VEVENT
DTSTAMP:20260420T060859Z
UID:b1e38ceb-6546-4c5b-b85d-7830fc6b595d
DTSTART;VALUE=DATE:20260618
DTEND;VALUE=DATE:20260619
DESCRIPTION:
LOCATION:Kramer Lane Elementary School\, 1 Kramer Ln\, Plainview\, NY 11803
 \, USA
SUMMARY:End of Elementary 3rd Marking Period
END:VEVENT
BEGIN:VEVENT
DTSTAMP:20260420T060859Z
UID:b611c881-0977-4c9b-b3ab-b673a596a66b
DTSTART:20260618T140000
DTEND:20260618T153000
DESCRIPTION:
LOCATION:Kramer Lane Elementary School\, 1 Kramer Ln\, Plainview\, NY 11803
 \, USA
SUMMARY:Grade 5 Yearbook Signing 
END:VEVENT
BEGIN:VEVENT
DTSTAMP:20260420T060859Z
UID:da63a5cd-2298-4d99-991d-161295100577
DTSTART;VALUE=DATE:20260619
DTEND;VALUE=DATE:20260620
DESCRIPTION:
LOCATION:
SUMMARY:Juneteenth - Schools Closed
END:VEVENT
BEGIN:VEVENT
DTSTAMP:20260420T060859Z
UID:6a1251e0-29f9-47af-9fee-d746a23458f3
DTSTART;VALUE=DATE:20260625
DTEND;VALUE=DATE:20260626
DESCRIPTION:
LOCATION:Kramer Lane Elementary School\, 1 Kramer Ln\, Plainview\, NY 11803
 \, USA
SUMMARY:Early Dismissal @ 12:30 PM
END:VEVENT
BEGIN:VEVENT
DTSTAMP:20260420T060859Z
UID:85f03fc3-4fbe-4e04-8878-4528adff214e
DTSTART:20260625T130000
DTEND:20260625T143000
DESCRIPTION:**Note: This event will be held at BHS**
LOCATION:Bethpage High School\, 10 Cherry Ave\, Bethpage\, NY 11714\, USA
SUMMARY:Moving Up Ceremony @ BHS
END:VEVENT
BEGIN:VEVENT
DTSTAMP:20260420T060859Z
UID:51792ffa-679f-4391-933b-80fc00ccbea6
DTSTART;VALUE=DATE:20260626
DTEND;VALUE=DATE:20260627
DESCRIPTION:
LOCATION:Kramer Lane Elementary School\, 1 Kramer Ln\, Plainview\, NY 11803
 \, USA
SUMMARY:Early Dismissal @ 10:30 PM
END:VEVENT
BEGIN:VEVENT
DTSTAMP:20260420T060859Z
UID:8e49d040-fcff-4834-ad0a-2f1c54993bdf
DTSTART;VALUE=DATE:20260626
DTEND;VALUE=DATE:20260627
DESCRIPTION:
LOCATION:Kramer Lane Elementary School\, 1 Kramer Ln\, Plainview\, NY 11803
 \, USA
SUMMARY:Last Day of School
END:VEVENT
END:VCALENDAR
