BEGIN:VCALENDAR
VERSION:2.0
PRODID:icalendar-ruby
CALSCALE:GREGORIAN
BEGIN:VTIMEZONE
TZID:America/Chicago
BEGIN:DAYLIGHT
DTSTART:20260308T030000
TZOFFSETFROM:-0600
TZOFFSETTO:-0500
RRULE:FREQ=YEARLY;BYDAY=2SU;BYMONTH=3
TZNAME:CDT
END:DAYLIGHT
BEGIN:STANDARD
DTSTART:20261101T010000
TZOFFSETFROM:-0500
TZOFFSETTO:-0600
RRULE:FREQ=YEARLY;BYDAY=1SU;BYMONTH=11
TZNAME:CST
END:STANDARD
END:VTIMEZONE
BEGIN:VEVENT
DTSTAMP:20260419T174116Z
UID:54b0483c-ffd9-41e2-88ef-ccf65fe1b597
DTSTART:20260420T081500
DTEND:20260420T091500
DESCRIPTION:
LOCATION:
SUMMARY:NHS Induction Ceremony
END:VEVENT
BEGIN:VEVENT
DTSTAMP:20260419T174116Z
UID:24db7d63-dff1-4ab2-a412-2a8630747e94
DTSTART:20260420T190000
DTEND:20260420T200000
DESCRIPTION:
LOCATION:
SUMMARY:School Board Meeting
END:VEVENT
BEGIN:VEVENT
DTSTAMP:20260419T174116Z
UID:35efefc7-94d7-433c-b469-eed9c3c0c4ab
DTSTART:20260422T090000
DTEND:20260422T100000
DESCRIPTION:
LOCATION:
SUMMARY:TBC Art Clinic @ Wahoo
END:VEVENT
BEGIN:VEVENT
DTSTAMP:20260419T174116Z
UID:a9e9e8ff-c0e0-4349-8674-b2675d4febe6
DTSTART;VALUE=DATE:20260423
DTEND;VALUE=DATE:20260424
DESCRIPTION:8:15am - Leave Malcolm\n9:30am - Arrive at Edgerton Museum\n9:3
 0am - 11:30am - Play Zone and Demonstrations\nTBD: Lunch in basement of th
 e Edgerton\n12:00pm - 1:00pm - Demonstrations and Play Zone\n1:00pm - 2:00
 pm - Play at the park nearby (14th & C) - weather permitting or will head 
 back to Malcolm sooner. \n2:00pm - Drive back to Malcolm\n3:15pm - Arrive
  back at Malcolm
LOCATION:
SUMMARY:3rd Grade Field Trip
END:VEVENT
BEGIN:VEVENT
DTSTAMP:20260419T174116Z
UID:8cf2e76d-d359-4250-8a29-7de0854983c9
DTSTART:20260424T122700
DTEND:20260424T122700
DESCRIPTION:
LOCATION:
SUMMARY:K-12 EARLY DISMISSAL
END:VEVENT
BEGIN:VEVENT
DTSTAMP:20260419T174116Z
UID:bcafe50b-3e45-458d-9dc9-b159ec499aac
DTSTART:20260424T122700
DTEND:20260424T154800
DESCRIPTION:
LOCATION:
SUMMARY:Teacher In-service
END:VEVENT
BEGIN:VEVENT
DTSTAMP:20260419T174116Z
UID:7baeb791-f80b-4c1e-b964-4b9d80846695
DTSTART;VALUE=DATE:20260428
DTEND;VALUE=DATE:20260429
DESCRIPTION:845AM - Leave School\n9:05AM - Take class picture at Antelope C
 reek Park\n9:10AM - 11:00AM Antelope Creek Park\n11:00AM - 11:20AM Load Bu
 s/Zoo Check-In\n11:20AM - 12:15PM Freely Explore Lincoln Children's Zoo\n1
 2:15PM - 12:45PM Lunch (Everyone meet to eat lunch together across from th
 e EAGLE's Habitat.)\n12:45PM - 2:30PM Freely Explore the Zoo\n2:30PM - 2:4
 0PM Load Bus/Check Out\n2:40PM - Leave Zoo\n3:30PM - Arrive at the school
LOCATION:
SUMMARY:1st Grade Field Trip - Lincoln Children's Zoo
END:VEVENT
BEGIN:VEVENT
DTSTAMP:20260419T174116Z
UID:cd0cb41d-091e-4747-9a82-412f53fdc0a8
DTSTART:20260429T120000
DTEND:20260429T170000
DESCRIPTION:
LOCATION:Malcolm Public Schools\, 10004 NW 112th St\, Malcolm\, NE 68402\, 
 USA
SUMMARY:Blood Drive
END:VEVENT
BEGIN:VEVENT
DTSTAMP:20260419T174116Z
UID:785b5a52-d84d-4c2c-9e88-456c77370f65
DTSTART:20260429T190000
DTEND:20260429T190000
DESCRIPTION:
LOCATION:
SUMMARY:Athletic Recognition Night
END:VEVENT
BEGIN:VEVENT
DTSTAMP:20260419T174116Z
UID:7d23074a-301b-4bf0-9ded-7ba4af870789
DTSTART;VALUE=DATE:20260430
DTEND;VALUE=DATE:20260501
DESCRIPTION:Location: Branched Oak Lake (Liebers Point area)\n9:00(ish) - 3
 :00
LOCATION:
SUMMARY:5th Grade Field Trip
END:VEVENT
BEGIN:VEVENT
DTSTAMP:20260419T174116Z
UID:90baa7ec-3d93-4f48-8674-862474a4d5bc
DTSTART;VALUE=DATE:20260430
DTEND;VALUE=DATE:20260501
DESCRIPTION:8:30-10:00 PK & Kindergarten\n10:15 - 11:45 3rd & 4th\n1:00 - 2
 :30 1st & 2nd
LOCATION:
SUMMARY:Elementary Ag Day
END:VEVENT
BEGIN:VEVENT
DTSTAMP:20260419T174116Z
UID:7b6ed064-0758-4f3b-8f45-6d5f5e52121e
DTSTART:20260430T180000
DTEND:20260430T193000
DESCRIPTION:6:00 K-2 Concert \n\n6:45 3-5 Concert
LOCATION:
SUMMARY:Elementary Music Concert (1-5)
END:VEVENT
BEGIN:VEVENT
DTSTAMP:20260419T174116Z
UID:55115113-c353-4418-acb0-7a0145224002
DTSTART:20260506T190000
DTEND:20260506T210000
DESCRIPTION:
LOCATION:
SUMMARY:Academic Awards Night
END:VEVENT
BEGIN:VEVENT
DTSTAMP:20260419T174116Z
UID:649108a0-38d0-4409-acb3-9203912eb4e3
DTSTART:20260510T140000
DTEND:20260510T150000
DESCRIPTION:
LOCATION:
SUMMARY:Graduation
END:VEVENT
BEGIN:VEVENT
DTSTAMP:20260419T174116Z
UID:088d4dda-0676-45d6-bd43-c87e7fd247e1
DTSTART;VALUE=DATE:20260511
DTEND;VALUE=DATE:20260512
DESCRIPTION:
LOCATION:
SUMMARY:6th - 8th Vocal & Instrumental Concert
END:VEVENT
BEGIN:VEVENT
DTSTAMP:20260419T174116Z
UID:18e2465d-f6c3-4571-b971-da966d605f2f
DTSTART;VALUE=DATE:20260512
DTEND;VALUE=DATE:20260513
DESCRIPTION:Pioneers Park & Heidtbrink Dairy Farm\n\n9:20: Depart Malcolm t
 o Lynn Johnson Nature Education Building at Pioneers Park\n11:30 - 12:30: 
 Lunch and recess time at the Pioneers Park playground\n12:30: Depart to Tr
 iple H Heidtbrink Dairy Farm\n1:00 - 2:45: Tour Triple H Heidtbrink Dairy 
 Farm\n2:45: Depart to Malcolm \n3:00: Arrive at school
LOCATION:
SUMMARY:Kindergarten Field Trip
END:VEVENT
BEGIN:VEVENT
DTSTAMP:20260419T174116Z
UID:295749a1-202a-4b73-b22c-9a421d6a96bd
DTSTART:20260512T183000
DTEND:20260512T203000
DESCRIPTION:
LOCATION:
SUMMARY:SKills USA Banquet
END:VEVENT
BEGIN:VEVENT
DTSTAMP:20260419T174116Z
UID:e8aca5cd-0e88-496f-be98-5a52f9d4e3e4
DTSTART;VALUE=DATE:20260515
DTEND;VALUE=DATE:20260516
DESCRIPTION:
LOCATION:
SUMMARY:Elementary Track and Field & Fun Day
END:VEVENT
BEGIN:VEVENT
DTSTAMP:20260419T174116Z
UID:9e5ff33f-f9ef-4e00-9f37-84c2e9853a3e
DTSTART:20260518T190000
DTEND:20260518T200000
DESCRIPTION:
LOCATION:
SUMMARY:School Board Meeting
END:VEVENT
BEGIN:VEVENT
DTSTAMP:20260419T174116Z
UID:9e5e7572-209c-4569-be9c-759772f05ead
DTSTART:20260519T145000
DTEND:20260519T153000
DESCRIPTION:
LOCATION:
SUMMARY:8th Grade Promotion-HS Gym
END:VEVENT
BEGIN:VEVENT
DTSTAMP:20260419T174116Z
UID:12dec023-e68a-481a-b7c7-4239b0065ed0
DTSTART;VALUE=DATE:20260520
DTEND;VALUE=DATE:20260521
DESCRIPTION:
LOCATION:
SUMMARY:End of 4th Quarter
END:VEVENT
BEGIN:VEVENT
DTSTAMP:20260419T174116Z
UID:464ce008-88e3-49f3-880e-f0af8a2bd5a0
DTSTART:20260520T122700
DTEND:20260520T154800
DESCRIPTION:
LOCATION:
SUMMARY:K-12 EARLY DISMISSAL
END:VEVENT
BEGIN:VEVENT
DTSTAMP:20260419T174116Z
UID:83048638-3223-4cd1-9227-79dcacce16ee
DTSTART:20260520T122700
DTEND:20260520T154800
DESCRIPTION:
LOCATION:
SUMMARY:Teacher In-service
END:VEVENT
BEGIN:VEVENT
DTSTAMP:20260419T174116Z
UID:032338a9-973c-49cc-af47-12fef2a7b36d
DTSTART;VALUE=DATE:20260521
DTEND;VALUE=DATE:20260522
DESCRIPTION:
LOCATION:
SUMMARY:Teacher Inservice
END:VEVENT
BEGIN:VEVENT
DTSTAMP:20260419T174116Z
UID:763a0203-b141-4e37-85d8-bf276c8a6e25
DTSTART:20260526T090000
DTEND:20260526T140000
DESCRIPTION:
LOCATION:Malcolm Public Schools\, 10004 NW 112th St\, Malcolm\, NE 68402\, 
 USA
SUMMARY:Driver Education
END:VEVENT
BEGIN:VEVENT
DTSTAMP:20260419T174116Z
UID:3fc63ad6-02ac-4055-a82b-c1d99fe67fea
DTSTART:20260527T090000
DTEND:20260527T140000
DESCRIPTION:
LOCATION:Malcolm Public Schools\, 10004 NW 112th St\, Malcolm\, NE 68402\, 
 USA
SUMMARY:Driver Education
END:VEVENT
BEGIN:VEVENT
DTSTAMP:20260419T174116Z
UID:c4c0641f-b0e2-41df-9bb6-7b056151fae4
DTSTART:20260528T090000
DTEND:20260528T140000
DESCRIPTION:
LOCATION:Malcolm Public Schools\, 10004 NW 112th St\, Malcolm\, NE 68402\, 
 USA
SUMMARY:Driver Education
END:VEVENT
BEGIN:VEVENT
DTSTAMP:20260419T174116Z
UID:a75dc8b8-238e-4054-891e-6af8ef63bd23
DTSTART:20260529T090000
DTEND:20260529T140000
DESCRIPTION:
LOCATION:Malcolm Public Schools\, 10004 NW 112th St\, Malcolm\, NE 68402\, 
 USA
SUMMARY:Driver Education
END:VEVENT
BEGIN:VEVENT
DTSTAMP:20260419T174116Z
UID:60157a98-e1a5-4293-8a37-f7d23f181875
DTSTART;VALUE=DATE:20260531
DTEND;VALUE=DATE:20260603
DESCRIPTION:
LOCATION:
SUMMARY:Wrestling Camp
END:VEVENT
BEGIN:VEVENT
DTSTAMP:20260419T174116Z
UID:4bf28521-c8fb-4371-9ed1-bb027ed52ec7
DTSTART:20260603T130000
DTEND:20260603T160000
DESCRIPTION:
LOCATION:Malcolm Public Schools\, 10004 NW 112th St\, Malcolm\, NE 68402\, 
 USA
SUMMARY:Youth Volleyball/Basketball Camps
END:VEVENT
BEGIN:VEVENT
DTSTAMP:20260419T174116Z
UID:657ddb2a-4afa-4859-8612-23c2732de439
DTSTART:20260604T130000
DTEND:20260604T160000
DESCRIPTION:
LOCATION:Malcolm Public Schools\, 10004 NW 112th St\, Malcolm\, NE 68402\, 
 USA
SUMMARY:Youth Volleyball/Basketball Camps
END:VEVENT
BEGIN:VEVENT
DTSTAMP:20260419T174116Z
UID:75622e55-f668-4099-bc00-7bf06174af7a
DTSTART:20260605T130000
DTEND:20260605T160000
DESCRIPTION:
LOCATION:Malcolm Public Schools\, 10004 NW 112th St\, Malcolm\, NE 68402\, 
 USA
SUMMARY:Youth Volleyball/Basketball Camps
END:VEVENT
BEGIN:VEVENT
DTSTAMP:20260419T174116Z
UID:a83d1baa-5c28-40f1-8181-8f4e5cd64031
DTSTART;VALUE=DATE:20260609
DTEND;VALUE=DATE:20260612
DESCRIPTION:
LOCATION:Malcolm Public Schools\, 10004 NW 112th St\, Malcolm\, NE 68402\, 
 USA
SUMMARY:Youth Football/Basketball Camp
END:VEVENT
BEGIN:VEVENT
DTSTAMP:20260419T174116Z
UID:cb82919e-5b91-48be-988a-a9ed4f54a908
DTSTART:20260615T190000
DTEND:20260615T200000
DESCRIPTION:
LOCATION:
SUMMARY:School Board Meeting
END:VEVENT
BEGIN:VEVENT
DTSTAMP:20260419T174116Z
UID:fbdd1fda-ad7d-4bbe-aba2-60d5865022be
DTSTART:20260720T190000
DTEND:20260720T200000
DESCRIPTION:
LOCATION:
SUMMARY:School Board Meeting
END:VEVENT
BEGIN:VEVENT
DTSTAMP:20260419T174116Z
UID:4f3000d5-fa70-48a3-987a-22bc233f8b0a
DTSTART;VALUE=DATE:20260806
DTEND;VALUE=DATE:20260807
DESCRIPTION:
LOCATION:
SUMMARY:Teacher Inservice
END:VEVENT
BEGIN:VEVENT
DTSTAMP:20260419T174116Z
UID:746637f7-0f80-4aba-857c-7099d904a7f0
DTSTART:20260806T183000
DTEND:20260806T183000
DESCRIPTION:
LOCATION:
SUMMARY:7th-12th Grades Fall Sports Parent Meeting
END:VEVENT
BEGIN:VEVENT
DTSTAMP:20260419T174116Z
UID:e7b2ad53-ed0a-4753-9eca-5d0c4ff05d83
DTSTART;VALUE=DATE:20260807
DTEND;VALUE=DATE:20260808
DESCRIPTION:
LOCATION:
SUMMARY:Teacher Inservice
END:VEVENT
BEGIN:VEVENT
DTSTAMP:20260419T174116Z
UID:23756876-ef10-46e7-91f4-39afeee6e409
DTSTART;VALUE=DATE:20260810
DTEND;VALUE=DATE:20260811
DESCRIPTION:
LOCATION:
SUMMARY:First Day of Fall Sports Practice 9-12th grades
END:VEVENT
BEGIN:VEVENT
DTSTAMP:20260419T174116Z
UID:5c04e33d-4c3a-4f7a-8dd6-07f1f3a83a85
DTSTART;VALUE=DATE:20260810
DTEND;VALUE=DATE:20260811
DESCRIPTION:
LOCATION:
SUMMARY:Teacher Inservice
END:VEVENT
BEGIN:VEVENT
DTSTAMP:20260419T174116Z
UID:bee9431c-e0a6-4732-8ab6-9c76923b8397
DTSTART;VALUE=DATE:20260811
DTEND;VALUE=DATE:20260812
DESCRIPTION:
LOCATION:
SUMMARY:Teacher Inservice
END:VEVENT
BEGIN:VEVENT
DTSTAMP:20260419T174116Z
UID:0e2b55fc-a305-498c-8857-cf1b713b331a
DTSTART;VALUE=DATE:20260812
DTEND;VALUE=DATE:20260813
DESCRIPTION:
LOCATION:
SUMMARY:Teacher Inservice
END:VEVENT
BEGIN:VEVENT
DTSTAMP:20260419T174116Z
UID:bd74166a-2079-42dc-bea2-e1f722ed2a37
DTSTART;VALUE=DATE:20260813
DTEND;VALUE=DATE:20260814
DESCRIPTION:
LOCATION:
SUMMARY:K-12 First Student Day
END:VEVENT
BEGIN:VEVENT
DTSTAMP:20260419T174116Z
UID:fe1266f3-18cb-4090-aeaa-6dd1ef07eb22
DTSTART:20260817T190000
DTEND:20260817T200000
DESCRIPTION:
LOCATION:
SUMMARY:School Board Meeting
END:VEVENT
BEGIN:VEVENT
DTSTAMP:20260419T174116Z
UID:fa1f694f-ffcb-498e-9668-31d7b708d8b3
DTSTART;VALUE=DATE:20260820
DTEND;VALUE=DATE:20260821
DESCRIPTION:
LOCATION:
SUMMARY:PK-11 Picture Day
END:VEVENT
BEGIN:VEVENT
DTSTAMP:20260419T174116Z
UID:ad5f0c03-0a49-4079-8090-d51d1909e8cd
DTSTART;VALUE=DATE:20260907
DTEND;VALUE=DATE:20260908
DESCRIPTION:
LOCATION:
SUMMARY:PK-12 NO SCHOOL
END:VEVENT
BEGIN:VEVENT
DTSTAMP:20260419T174116Z
UID:220d3b33-d5ce-4d2f-a41e-64bdc7fb7e06
DTSTART;VALUE=DATE:20260914
DTEND;VALUE=DATE:20260915
DESCRIPTION:
LOCATION:
SUMMARY:PK-12 NO SCHOOL
END:VEVENT
BEGIN:VEVENT
DTSTAMP:20260419T174116Z
UID:8c50fb2d-7933-4adc-9fcb-4335c0e70c4c
DTSTART;VALUE=DATE:20260914
DTEND;VALUE=DATE:20260915
DESCRIPTION:
LOCATION:
SUMMARY:Teacher Inservice
END:VEVENT
BEGIN:VEVENT
DTSTAMP:20260419T174116Z
UID:1818e579-f57b-4472-88e2-eb33722d604f
DTSTART;VALUE=DATE:20260918
DTEND;VALUE=DATE:20260919
DESCRIPTION:
LOCATION:
SUMMARY:Homecoming
END:VEVENT
BEGIN:VEVENT
DTSTAMP:20260419T174116Z
UID:7af83589-59da-41e9-9df4-76d39dd36363
DTSTART:20260921T190000
DTEND:20260921T200000
DESCRIPTION:
LOCATION:
SUMMARY:School Board Meeting
END:VEVENT
BEGIN:VEVENT
DTSTAMP:20260419T174116Z
UID:48ccf280-e424-464c-a0fe-937170e85d34
DTSTART:20260922T122700
DTEND:20260922T122700
DESCRIPTION:
LOCATION:
SUMMARY:K-12 EARLY DISMISSAL
END:VEVENT
BEGIN:VEVENT
DTSTAMP:20260419T174116Z
UID:c5a18470-617f-48ec-9332-2a19d76cc4ee
DTSTART:20260922T122700
DTEND:20260922T154800
DESCRIPTION:
LOCATION:
SUMMARY:Teacher In-service
END:VEVENT
BEGIN:VEVENT
DTSTAMP:20260419T174116Z
UID:c76481dd-e6a0-42e8-8097-6df7a2a985b5
DTSTART;VALUE=DATE:20260923
DTEND;VALUE=DATE:20260924
DESCRIPTION:
LOCATION:
SUMMARY:PK-12 NO SCHOOL
END:VEVENT
BEGIN:VEVENT
DTSTAMP:20260419T174116Z
UID:0b634796-5932-44ee-b828-a2d6d5f4c9a7
DTSTART:20260923T100000
DTEND:20260923T183000
DESCRIPTION:Teachers will break for lunch from 12:00-1:00
LOCATION:
SUMMARY:PT Conferences-Teacher Lunch 12:00-1:00
END:VEVENT
BEGIN:VEVENT
DTSTAMP:20260419T174116Z
UID:a05cef05-a7d5-4544-a61e-2f5276dce1da
DTSTART;VALUE=DATE:20261001
DTEND;VALUE=DATE:20261002
DESCRIPTION:
LOCATION:
SUMMARY:PK-11 Picture Retakes
END:VEVENT
BEGIN:VEVENT
DTSTAMP:20260419T174116Z
UID:76ebb4fd-6dda-461f-bcf5-dde03bdc23e5
DTSTART;VALUE=DATE:20261002
DTEND;VALUE=DATE:20261003
DESCRIPTION:
LOCATION:
SUMMARY:PK-6 NO SCHOOL-Teacher In-service
END:VEVENT
BEGIN:VEVENT
DTSTAMP:20260419T174116Z
UID:65bf0053-c383-489e-b0a6-6724aa933a7d
DTSTART:20261002T122700
DTEND:20261002T122700
DESCRIPTION:
LOCATION:
SUMMARY:7-12 EARLY DISMISSAL
END:VEVENT
BEGIN:VEVENT
DTSTAMP:20260419T174116Z
UID:86ca8f9d-833c-45b2-babf-9899a29616b8
DTSTART:20261002T122700
DTEND:20261002T154800
DESCRIPTION:
LOCATION:
SUMMARY:Teacher In-service
END:VEVENT
BEGIN:VEVENT
DTSTAMP:20260419T174116Z
UID:359ac901-481f-4faa-aa25-28bc743076f9
DTSTART:20261015T122700
DTEND:20261015T122700
DESCRIPTION:
LOCATION:
SUMMARY:K-12 EARLY DISMISSAL
END:VEVENT
BEGIN:VEVENT
DTSTAMP:20260419T174116Z
UID:7dc31f9a-2e97-47a0-90d3-3d8b6a1155e0
DTSTART:20261015T122700
DTEND:20261015T154800
DESCRIPTION:
LOCATION:
SUMMARY:Teacher In-service
END:VEVENT
BEGIN:VEVENT
DTSTAMP:20260419T174116Z
UID:eed930e0-7223-44a7-9f23-025acd916f0a
DTSTART;VALUE=DATE:20261016
DTEND;VALUE=DATE:20261017
DESCRIPTION:
LOCATION:
SUMMARY:PK-12 NO SCHOOL
END:VEVENT
BEGIN:VEVENT
DTSTAMP:20260419T174116Z
UID:d590ef1b-0eea-4920-a08f-0fa472dc6dcf
DTSTART:20261019T190000
DTEND:20261019T200000
DESCRIPTION:
LOCATION:
SUMMARY:School Board Meeting
END:VEVENT
BEGIN:VEVENT
DTSTAMP:20260419T174116Z
UID:03ba9668-de07-42a0-9cf1-3e4e8efc1798
DTSTART:20261030T122700
DTEND:20261030T122700
DESCRIPTION:
LOCATION:
SUMMARY:K-12 EARLY DISMISSAL
END:VEVENT
BEGIN:VEVENT
DTSTAMP:20260419T174116Z
UID:e4ee0d96-4aaa-4dc2-9cf2-f6df0420d25d
DTSTART:20261030T122700
DTEND:20261030T154800
DESCRIPTION:
LOCATION:
SUMMARY:Teacher In-service
END:VEVENT
BEGIN:VEVENT
DTSTAMP:20260419T174116Z
UID:cef8fcfb-c126-47ea-a736-b899ae6137c8
DTSTART;VALUE=DATE:20261113
DTEND;VALUE=DATE:20261114
DESCRIPTION:
LOCATION:
SUMMARY:PK-6 NO SCHOOL-Teacher In-service
END:VEVENT
BEGIN:VEVENT
DTSTAMP:20260419T174116Z
UID:dce49a4b-a1fd-41fe-abe8-f54c8eab8d38
DTSTART;VALUE=DATE:20261116
DTEND;VALUE=DATE:20261117
DESCRIPTION:
LOCATION:
SUMMARY:Winter Sports Practice Begins
END:VEVENT
BEGIN:VEVENT
DTSTAMP:20260419T174116Z
UID:7d25a890-9709-48c5-a1b9-8badf62c30b6
DTSTART;VALUE=DATE:20261125
DTEND;VALUE=DATE:20261126
DESCRIPTION:
LOCATION:
SUMMARY:PK-12 NO SCHOOL
END:VEVENT
BEGIN:VEVENT
DTSTAMP:20260419T174116Z
UID:70277a0d-6165-4717-a297-59a0934615c3
DTSTART;VALUE=DATE:20261126
DTEND;VALUE=DATE:20261127
DESCRIPTION:
LOCATION:
SUMMARY:PK-12 NO SCHOOL
END:VEVENT
BEGIN:VEVENT
DTSTAMP:20260419T174116Z
UID:290b922b-26c3-4897-b856-cd9a43e14127
DTSTART;VALUE=DATE:20261127
DTEND;VALUE=DATE:20261128
DESCRIPTION:
LOCATION:
SUMMARY:PK-12 NO SCHOOL
END:VEVENT
BEGIN:VEVENT
DTSTAMP:20260419T174116Z
UID:896b7447-17dd-42c5-8855-2147552d2469
DTSTART;VALUE=DATE:20261207
DTEND;VALUE=DATE:20261208
DESCRIPTION:
LOCATION:Sun Valley Lanes & Games\, 321 Victory Ln\, Lincoln\, NE 68528\, U
 SA
SUMMARY:NSAA Unified Bowling Championships-Lincoln
END:VEVENT
BEGIN:VEVENT
DTSTAMP:20260419T174116Z
UID:1240dbfd-cb94-4385-aaa7-6633ae993406
DTSTART;VALUE=DATE:20261211
DTEND;VALUE=DATE:20261212
DESCRIPTION:
LOCATION:
SUMMARY:PK-6 NO SCHOOL-Teacher In-service
END:VEVENT
BEGIN:VEVENT
DTSTAMP:20260419T174116Z
UID:006fda74-2c75-4b38-b890-b84d50c0cb8d
DTSTART:20261211T122700
DTEND:20261211T122700
DESCRIPTION:
LOCATION:
SUMMARY:7-12 EARLY DISMISSAL
END:VEVENT
BEGIN:VEVENT
DTSTAMP:20260419T174116Z
UID:93b61b7d-1558-43d4-84fb-2853bcb60c06
DTSTART:20261211T122700
DTEND:20261211T154800
DESCRIPTION:
LOCATION:
SUMMARY:Teacher In-service
END:VEVENT
BEGIN:VEVENT
DTSTAMP:20260419T174116Z
UID:a28118e6-2f2a-4708-9ada-a2b9eb24e91a
DTSTART;VALUE=DATE:20261218
DTEND;VALUE=DATE:20261219
DESCRIPTION:
LOCATION:
SUMMARY:End of 2nd Quarter
END:VEVENT
BEGIN:VEVENT
DTSTAMP:20260419T174116Z
UID:e1446bfe-51fc-46a6-b740-d87319a9d265
DTSTART;VALUE=DATE:20261221
DTEND;VALUE=DATE:20261222
DESCRIPTION:
LOCATION:
SUMMARY:PK-12 NO SCHOOL
END:VEVENT
BEGIN:VEVENT
DTSTAMP:20260419T174116Z
UID:d01f55d4-b1ae-4676-89b8-02aa7b12cfd8
DTSTART;VALUE=DATE:20261222
DTEND;VALUE=DATE:20261223
DESCRIPTION:
LOCATION:
SUMMARY:PK-12 NO SCHOOL
END:VEVENT
BEGIN:VEVENT
DTSTAMP:20260419T174116Z
UID:a0c2a20b-44c6-43b6-b0dc-abb417be0772
DTSTART;VALUE=DATE:20261223
DTEND;VALUE=DATE:20261224
DESCRIPTION:
LOCATION:
SUMMARY:PK-12 NO SCHOOL
END:VEVENT
BEGIN:VEVENT
DTSTAMP:20260419T174116Z
UID:cee73611-67c9-4b77-a349-e84e74985b3f
DTSTART;VALUE=DATE:20261223
DTEND;VALUE=DATE:20261228
DESCRIPTION:
LOCATION:
SUMMARY:Practice Moratorium
END:VEVENT
BEGIN:VEVENT
DTSTAMP:20260419T174116Z
UID:ee93ec21-0bc8-4c0c-a8be-a3991b60dbd8
DTSTART;VALUE=DATE:20261224
DTEND;VALUE=DATE:20261225
DESCRIPTION:
LOCATION:
SUMMARY:PK-12 NO SCHOOL
END:VEVENT
BEGIN:VEVENT
DTSTAMP:20260419T174116Z
UID:68362d88-1acd-4150-9218-43825bd4c5f6
DTSTART;VALUE=DATE:20261225
DTEND;VALUE=DATE:20261226
DESCRIPTION:
LOCATION:
SUMMARY:PK-12 NO SCHOOL
END:VEVENT
BEGIN:VEVENT
DTSTAMP:20260419T174116Z
UID:d0b0c3ee-7cab-4fa5-88b9-8c5fc33a9530
DTSTART;VALUE=DATE:20261228
DTEND;VALUE=DATE:20261229
DESCRIPTION:
LOCATION:
SUMMARY:PK-12 NO SCHOOL
END:VEVENT
BEGIN:VEVENT
DTSTAMP:20260419T174116Z
UID:7af27110-1297-48a9-9983-629bb34716b1
DTSTART;VALUE=DATE:20261229
DTEND;VALUE=DATE:20261230
DESCRIPTION:
LOCATION:
SUMMARY:PK-12 NO SCHOOL
END:VEVENT
BEGIN:VEVENT
DTSTAMP:20260419T174116Z
UID:118a0dc7-9de4-4c75-ab3e-a0387a9c11e1
DTSTART;VALUE=DATE:20261230
DTEND;VALUE=DATE:20261231
DESCRIPTION:
LOCATION:
SUMMARY:PK-12 NO SCHOOL
END:VEVENT
BEGIN:VEVENT
DTSTAMP:20260419T174116Z
UID:8f4e2f92-f967-4697-b914-ca1a55640e1e
DTSTART;VALUE=DATE:20261231
DTEND;VALUE=DATE:20270101
DESCRIPTION:
LOCATION:
SUMMARY:PK-12 NO SCHOOL
END:VEVENT
BEGIN:VEVENT
DTSTAMP:20260419T174116Z
UID:bdffa5fd-16e5-4024-bf2e-032a20683d8d
DTSTART;VALUE=DATE:20270101
DTEND;VALUE=DATE:20270102
DESCRIPTION:
LOCATION:
SUMMARY:PK-12 NO SCHOOL
END:VEVENT
BEGIN:VEVENT
DTSTAMP:20260419T174116Z
UID:f1004531-9ce2-41c0-9ec2-4883761060f4
DTSTART;VALUE=DATE:20270104
DTEND;VALUE=DATE:20270105
DESCRIPTION:
LOCATION:
SUMMARY:PK-12 No School Teacher In-service
END:VEVENT
BEGIN:VEVENT
DTSTAMP:20260419T174116Z
UID:63be75e9-9494-476e-b5c8-2a8bbd9aeb6d
DTSTART;VALUE=DATE:20270105
DTEND;VALUE=DATE:20270106
DESCRIPTION:
LOCATION:
SUMMARY:7-12 SCHOOL RESUMES
END:VEVENT
BEGIN:VEVENT
DTSTAMP:20260419T174116Z
UID:4442f9cb-27be-4ea4-8f0a-9f2c40c1393b
DTSTART;VALUE=DATE:20270105
DTEND;VALUE=DATE:20270106
DESCRIPTION:
LOCATION:
SUMMARY:PK-6 NO SCHOOL-Teacher In-service
END:VEVENT
BEGIN:VEVENT
DTSTAMP:20260419T174116Z
UID:a1741751-ce23-4680-9045-9036c9032b9d
DTSTART;VALUE=DATE:20270106
DTEND;VALUE=DATE:20270107
DESCRIPTION:
LOCATION:
SUMMARY:PK-6 SCHOOL RESUMES
END:VEVENT
BEGIN:VEVENT
DTSTAMP:20260419T174116Z
UID:298bf335-c55b-4c7a-a324-00994f84405f
DTSTART;VALUE=DATE:20270129
DTEND;VALUE=DATE:20270130
DESCRIPTION:
LOCATION:
SUMMARY:PK-6 NO SCHOOL-Teacher In-service
END:VEVENT
BEGIN:VEVENT
DTSTAMP:20260419T174116Z
UID:d766894d-1294-4f7f-999e-3c1cbea91bf3
DTSTART:20270129T122700
DTEND:20270129T122700
DESCRIPTION:
LOCATION:
SUMMARY:7-12 EARLY DISMISSAL
END:VEVENT
BEGIN:VEVENT
DTSTAMP:20260419T174116Z
UID:301651bc-e814-48b8-9a44-da728874be87
DTSTART:20270129T122700
DTEND:20270129T154800
DESCRIPTION:
LOCATION:
SUMMARY:Teacher In-service
END:VEVENT
BEGIN:VEVENT
DTSTAMP:20260419T174116Z
UID:83f2f6fc-ddc7-443c-9ccc-959c6279bf9b
DTSTART:20270210T122700
DTEND:20270210T122700
DESCRIPTION:
LOCATION:
SUMMARY:K-12 EARLY DISMISSAL
END:VEVENT
BEGIN:VEVENT
DTSTAMP:20260419T174116Z
UID:5fcb1a6f-c850-4ab8-b133-64767b683eb2
DTSTART:20270210T122700
DTEND:20270210T154800
DESCRIPTION:
LOCATION:
SUMMARY:Teacher In-service
END:VEVENT
BEGIN:VEVENT
DTSTAMP:20260419T174116Z
UID:c8855af2-0e29-4b2d-938e-4ad9388dff5a
DTSTART:20270211T100000
DTEND:20270211T183000
DESCRIPTION:Teachers will break for lunch from 12:00-1:00
LOCATION:
SUMMARY:PT Conferences-Teacher Lunch 12:00-1:00
END:VEVENT
BEGIN:VEVENT
DTSTAMP:20260419T174116Z
UID:a6323807-8934-4735-baca-d2303910d7ae
DTSTART;VALUE=DATE:20270212
DTEND;VALUE=DATE:20270213
DESCRIPTION:
LOCATION:
SUMMARY:PK-12 NO SCHOOL
END:VEVENT
BEGIN:VEVENT
DTSTAMP:20260419T174116Z
UID:5b963307-6c6e-4fa0-89e2-2d19877e82b4
DTSTART;VALUE=DATE:20270305
DTEND;VALUE=DATE:20270306
DESCRIPTION:
LOCATION:
SUMMARY:PK-12 NO SCHOOL
END:VEVENT
BEGIN:VEVENT
DTSTAMP:20260419T174116Z
UID:8fcf939d-280c-4a6d-96e2-da7672a12c42
DTSTART;VALUE=DATE:20270312
DTEND;VALUE=DATE:20270313
DESCRIPTION:
LOCATION:
SUMMARY:End of 3rd Quarter
END:VEVENT
BEGIN:VEVENT
DTSTAMP:20260419T174116Z
UID:a68b8c2a-303f-4860-837b-10f643a374e1
DTSTART;VALUE=DATE:20270312
DTEND;VALUE=DATE:20270313
DESCRIPTION:
LOCATION:
SUMMARY:PK-12 NO SCHOOL
END:VEVENT
BEGIN:VEVENT
DTSTAMP:20260419T174116Z
UID:df92f44b-9c71-4f20-a19f-25c7ba23de28
DTSTART;VALUE=DATE:20270318
DTEND;VALUE=DATE:20270319
DESCRIPTION:
LOCATION:
SUMMARY:PK-6 NO SCHOOL-Teacher In-service
END:VEVENT
BEGIN:VEVENT
DTSTAMP:20260419T174116Z
UID:17ab5299-21eb-4c9b-acc6-46fa133739ea
DTSTART:20270318T122700
DTEND:20270318T122700
DESCRIPTION:
LOCATION:
SUMMARY:7-12 EARLY DISMISSAL
END:VEVENT
BEGIN:VEVENT
DTSTAMP:20260419T174116Z
UID:3989f093-2d21-4ae5-a119-fbb576315720
DTSTART:20270318T122700
DTEND:20270318T154800
DESCRIPTION:
LOCATION:
SUMMARY:Teacher In-service
END:VEVENT
BEGIN:VEVENT
DTSTAMP:20260419T174116Z
UID:ebf11a66-d717-4860-a794-b55883af48d7
DTSTART;VALUE=DATE:20270319
DTEND;VALUE=DATE:20270320
DESCRIPTION:
LOCATION:
SUMMARY:PK-12 NO SCHOOL
END:VEVENT
BEGIN:VEVENT
DTSTAMP:20260419T174116Z
UID:7e3a0bcc-33fd-4003-a3a5-7c2a60e60c54
DTSTART;VALUE=DATE:20270326
DTEND;VALUE=DATE:20270327
DESCRIPTION:
LOCATION:
SUMMARY:PK-12 NO SCHOOL
END:VEVENT
BEGIN:VEVENT
DTSTAMP:20260419T174116Z
UID:e0eace16-8284-4289-b0d2-d877000b8991
DTSTART;VALUE=DATE:20270329
DTEND;VALUE=DATE:20270330
DESCRIPTION:
LOCATION:
SUMMARY:PK-12 NO SCHOOL
END:VEVENT
BEGIN:VEVENT
DTSTAMP:20260419T174116Z
UID:89dbc8c1-8669-4a53-bb2b-88a766c32585
DTSTART;VALUE=DATE:20270410
DTEND;VALUE=DATE:20270411
DESCRIPTION:Grand March is at 8:00PM
LOCATION:
SUMMARY:JR/SR Prom 
END:VEVENT
BEGIN:VEVENT
DTSTAMP:20260419T174116Z
UID:6f22e5f6-0469-43e1-92fc-cab68132d5fa
DTSTART;VALUE=DATE:20270416
DTEND;VALUE=DATE:20270417
DESCRIPTION:
LOCATION:
SUMMARY:PK-6 NO SCHOOL-Teacher In-service
END:VEVENT
BEGIN:VEVENT
DTSTAMP:20260419T174116Z
UID:fed9d1e3-2c0b-4bd8-8153-55f95462aa08
DTSTART:20270423T122700
DTEND:20270423T122700
DESCRIPTION:
LOCATION:
SUMMARY:K-12 EARLY DISMISSAL
END:VEVENT
BEGIN:VEVENT
DTSTAMP:20260419T174116Z
UID:42efe170-9537-4613-bf55-04b609d72d46
DTSTART:20270423T122700
DTEND:20270423T154800
DESCRIPTION:
LOCATION:
SUMMARY:Teacher In-service
END:VEVENT
BEGIN:VEVENT
DTSTAMP:20260419T174116Z
UID:da6d04b1-87bc-4e52-8445-4da8f1d98daa
DTSTART;VALUE=DATE:20270426
DTEND;VALUE=DATE:20270427
DESCRIPTION:
LOCATION:
SUMMARY:PK-6 NO SCHOOL-Teacher In-service
END:VEVENT
BEGIN:VEVENT
DTSTAMP:20260419T174116Z
UID:3bfbfa3c-6263-49fc-831e-314e7aa82803
DTSTART:20270509T140000
DTEND:20270509T150000
DESCRIPTION:
LOCATION:
SUMMARY:Graduation
END:VEVENT
BEGIN:VEVENT
DTSTAMP:20260419T174116Z
UID:80e9f891-fd3a-454e-be3a-0992e19dd412
DTSTART;VALUE=DATE:20270519
DTEND;VALUE=DATE:20270520
DESCRIPTION:
LOCATION:
SUMMARY:End of 4th Quarter
END:VEVENT
BEGIN:VEVENT
DTSTAMP:20260419T174116Z
UID:485a2c02-6a9c-40a1-bd6c-c131d63f6539
DTSTART:20270519T122700
DTEND:20270519T122700
DESCRIPTION:
LOCATION:
SUMMARY:K-12 EARLY DISMISSAL
END:VEVENT
BEGIN:VEVENT
DTSTAMP:20260419T174116Z
UID:3670b8c7-edc6-4cf5-9cea-0fe94ae2e1bb
DTSTART;VALUE=DATE:20270520
DTEND;VALUE=DATE:20270521
DESCRIPTION:
LOCATION:
SUMMARY:Teacher Inservice
END:VEVENT
END:VCALENDAR
