BEGIN:VCALENDAR
VERSION:2.0
PRODID:icalendar-ruby
CALSCALE:GREGORIAN
BEGIN:VTIMEZONE
TZID:America/New_York
BEGIN:DAYLIGHT
DTSTART:20260308T030000
TZOFFSETFROM:-0500
TZOFFSETTO:-0400
RRULE:FREQ=YEARLY;BYDAY=2SU;BYMONTH=3
TZNAME:EDT
END:DAYLIGHT
BEGIN:STANDARD
DTSTART:20261101T010000
TZOFFSETFROM:-0400
TZOFFSETTO:-0500
RRULE:FREQ=YEARLY;BYDAY=1SU;BYMONTH=11
TZNAME:EST
END:STANDARD
END:VTIMEZONE
BEGIN:VEVENT
DTSTAMP:20260426T004034Z
UID:06dc6680-7a3d-4719-a0e8-da77b87fda7f
DTSTART:20260427T153000
DTEND:20260427T163000
DESCRIPTION:
LOCATION:
SUMMARY:Sports Club 2/3rd grade
END:VEVENT
BEGIN:VEVENT
DTSTAMP:20260426T004034Z
UID:d7b0db59-e18c-4ebc-bbce-7a35042747b6
DTSTART;VALUE=DATE:20260428
DTEND;VALUE=DATE:20260429
DESCRIPTION:
LOCATION:
SUMMARY:Reading SOL 4th & 5th
END:VEVENT
BEGIN:VEVENT
DTSTAMP:20260426T004034Z
UID:329b2fea-d80f-4c76-b565-c487c6b939dc
DTSTART;VALUE=DATE:20260429
DTEND;VALUE=DATE:20260430
DESCRIPTION:
LOCATION:
SUMMARY:Reading SOL 3rd Grade
END:VEVENT
BEGIN:VEVENT
DTSTAMP:20260426T004034Z
UID:62c2692b-6bc5-4f3c-9765-5fa52a6717e1
DTSTART:20260429T153000
DTEND:20260429T163000
DESCRIPTION:
LOCATION:
SUMMARY:Sports Club 4/5 grade
END:VEVENT
BEGIN:VEVENT
DTSTAMP:20260426T004034Z
UID:e10bae5a-f8d6-4348-ad79-470c9e2c76de
DTSTART;VALUE=DATE:20260501
DTEND;VALUE=DATE:20260502
DESCRIPTION:
LOCATION:
SUMMARY:Reading SOL Retakes
END:VEVENT
BEGIN:VEVENT
DTSTAMP:20260426T004034Z
UID:83a1b51b-2537-4cd6-89ed-f82bf2ead4d8
DTSTART:20260504T170000
DTEND:20260504T190000
DESCRIPTION:
LOCATION:Culpeper Middle School\, 14300 Achievement Dr\, Culpeper\, VA 2270
 1\, USA
SUMMARY:5th Grade Combine Band Rehearsal
END:VEVENT
BEGIN:VEVENT
DTSTAMP:20260426T004034Z
UID:dbd52271-f2b7-44cc-87c4-c204d162d35a
DTSTART;VALUE=DATE:20260505
DTEND;VALUE=DATE:20260506
DESCRIPTION:
LOCATION:
SUMMARY:Math SOL Grades 4th & 5th
END:VEVENT
BEGIN:VEVENT
DTSTAMP:20260426T004034Z
UID:50464d5c-6825-4c43-91f9-1fff57d4600e
DTSTART;VALUE=DATE:20260506
DTEND;VALUE=DATE:20260507
DESCRIPTION:
LOCATION:
SUMMARY:Math SOL Grade 3
END:VEVENT
BEGIN:VEVENT
DTSTAMP:20260426T004034Z
UID:508ca89e-a309-46c8-bdd3-0eac4093afcc
DTSTART;VALUE=DATE:20260508
DTEND;VALUE=DATE:20260509
DESCRIPTION:
LOCATION:
SUMMARY:VA Studies/Science SOL
END:VEVENT
BEGIN:VEVENT
DTSTAMP:20260426T004034Z
UID:4ae720c7-b202-439f-a21a-5c077f0e83a8
DTSTART;VALUE=DATE:20260511
DTEND;VALUE=DATE:20260512
DESCRIPTION:
LOCATION:
SUMMARY:1st grade to Messick's Farm
END:VEVENT
BEGIN:VEVENT
DTSTAMP:20260426T004034Z
UID:f2ffc3e4-ff24-4a87-a5a9-db49a4d7d550
DTSTART;VALUE=DATE:20260512
DTEND;VALUE=DATE:20260513
DESCRIPTION:
LOCATION:
SUMMARY:Math SOL Retakes
END:VEVENT
BEGIN:VEVENT
DTSTAMP:20260426T004034Z
UID:283d4297-1110-475d-ae73-b5ef2cf2af62
DTSTART;VALUE=DATE:20260513
DTEND;VALUE=DATE:20260514
DESCRIPTION:
LOCATION:
SUMMARY:Science/VA Studies SOL Retakes
END:VEVENT
BEGIN:VEVENT
DTSTAMP:20260426T004034Z
UID:dd71bc13-de51-4a96-bd62-cd86ebc166e4
DTSTART;VALUE=DATE:20260514
DTEND;VALUE=DATE:20260515
DESCRIPTION:
LOCATION:
SUMMARY:2nd Grade to Messicks Farm
END:VEVENT
BEGIN:VEVENT
DTSTAMP:20260426T004034Z
UID:467165e4-89c1-415f-baf3-d3b46ad2aec6
DTSTART;VALUE=DATE:20260515
DTEND;VALUE=DATE:20260516
DESCRIPTION:
LOCATION:
SUMMARY:Field Day
END:VEVENT
BEGIN:VEVENT
DTSTAMP:20260426T004034Z
UID:d0ff762d-12c1-41fc-9054-016ed6de1d2c
DTSTART:20260519T183000
DTEND:20260519T193000
DESCRIPTION:
LOCATION:Culpeper County High School\, 14240 Achievement Dr\, Culpeper\, VA
  22701\, USA
SUMMARY:5th Grade Promotion
END:VEVENT
BEGIN:VEVENT
DTSTAMP:20260426T004034Z
UID:11091fd3-001e-4e58-8070-fc2d0acb7069
DTSTART;VALUE=DATE:20260521
DTEND;VALUE=DATE:20260522
DESCRIPTION:
LOCATION:
SUMMARY:End of 4th Grading Period - Last Day of School for Students
END:VEVENT
BEGIN:VEVENT
DTSTAMP:20260426T004034Z
UID:7e459770-d1b1-40a8-b818-98febc67e436
DTSTART:20260521T093000
DTEND:20260521T103000
DESCRIPTION:
LOCATION:
SUMMARY:End of Year Awards 3-5
END:VEVENT
BEGIN:VEVENT
DTSTAMP:20260426T004034Z
UID:e3df4891-b4c2-45cf-b5e2-4f206177df35
DTSTART:20260521T103000
DTEND:20260521T113000
DESCRIPTION:
LOCATION:
SUMMARY:End of Year Awards K-2
END:VEVENT
BEGIN:VEVENT
DTSTAMP:20260426T004034Z
UID:3e70d8be-4c82-4b4d-8821-a0eafebb1708
DTSTART:20260521T120000
DTEND:20260521T130000
DESCRIPTION:
LOCATION:
SUMMARY:Kindergarten Aloha 
END:VEVENT
BEGIN:VEVENT
DTSTAMP:20260426T004034Z
UID:5f05e2eb-b533-4a7d-aba9-c8e48ecf8cd3
DTSTART;VALUE=DATE:20260522
DTEND;VALUE=DATE:20260523
DESCRIPTION:
LOCATION:
SUMMARY:Staff Work Day
END:VEVENT
BEGIN:VEVENT
DTSTAMP:20260426T004034Z
UID:e37cef57-a3ec-4f69-9796-5e21ad01b2f7
DTSTART;VALUE=DATE:20260525
DTEND;VALUE=DATE:20260526
DESCRIPTION:
LOCATION:
SUMMARY:Memorial Day - Holiday for Staff
END:VEVENT
BEGIN:VEVENT
DTSTAMP:20260426T004034Z
UID:5dacea75-3d6d-4af0-8fd3-175df4a44363
DTSTART;VALUE=DATE:20260720
DTEND;VALUE=DATE:20260721
DESCRIPTION:
LOCATION:
SUMMARY:New Teacher Start Day
END:VEVENT
BEGIN:VEVENT
DTSTAMP:20260426T004034Z
UID:d2eed8ac-59d2-467b-9091-30f5b5693f98
DTSTART;VALUE=DATE:20260721
DTEND;VALUE=DATE:20260724
DESCRIPTION:
LOCATION:
SUMMARY:New Teacher Work Days
END:VEVENT
BEGIN:VEVENT
DTSTAMP:20260426T004034Z
UID:ae7b419a-2855-4a39-a357-892ba0d2af19
DTSTART;VALUE=DATE:20260727
DTEND;VALUE=DATE:20260728
DESCRIPTION:
LOCATION:
SUMMARY:10 Month Staff Start
END:VEVENT
BEGIN:VEVENT
DTSTAMP:20260426T004034Z
UID:0f8bf00b-d6d1-4773-ad82-73dd06be643a
DTSTART:20260803T130000
DTEND:20260803T180000
DESCRIPTION:
LOCATION:
SUMMARY:Meet the Teacher
END:VEVENT
BEGIN:VEVENT
DTSTAMP:20260426T004034Z
UID:b66e3332-9d2b-4b99-805b-5d1817c4413d
DTSTART;VALUE=DATE:20260805
DTEND;VALUE=DATE:20260806
DESCRIPTION:
LOCATION:
SUMMARY:1st Day of School
END:VEVENT
BEGIN:VEVENT
DTSTAMP:20260426T004034Z
UID:10d26a5e-5595-4844-ab28-77e80185a593
DTSTART;VALUE=DATE:20260901
DTEND;VALUE=DATE:20260902
DESCRIPTION:
LOCATION:
SUMMARY:Fall Picture Day
END:VEVENT
BEGIN:VEVENT
DTSTAMP:20260426T004034Z
UID:ddadee2b-0d2f-4a4b-b0c4-d726ffe7f555
DTSTART;VALUE=DATE:20260904
DTEND;VALUE=DATE:20260908
DESCRIPTION:
LOCATION:
SUMMARY:Labor Day Weekend No School for Staff and Students
END:VEVENT
BEGIN:VEVENT
DTSTAMP:20260426T004034Z
UID:1559532f-90c2-4a42-b3c0-c6f106972f1c
DTSTART;VALUE=DATE:20261008
DTEND;VALUE=DATE:20261009
DESCRIPTION:
LOCATION:
SUMMARY:End of 1st Grading Period
END:VEVENT
BEGIN:VEVENT
DTSTAMP:20260426T004034Z
UID:a95db614-e391-4da9-bde6-3ae1e2d94c52
DTSTART;VALUE=DATE:20261009
DTEND;VALUE=DATE:20261010
DESCRIPTION:
LOCATION:
SUMMARY:Teacher Work Day No School for Students
END:VEVENT
BEGIN:VEVENT
DTSTAMP:20260426T004034Z
UID:fd3d250e-3aa0-43ef-a45f-5eb7f41edc70
DTSTART;VALUE=DATE:20261012
DTEND;VALUE=DATE:20261013
DESCRIPTION:
LOCATION:
SUMMARY:Begin 2nd Marking Period
END:VEVENT
BEGIN:VEVENT
DTSTAMP:20260426T004034Z
UID:9727eba6-0e4a-46a5-a4a3-c02a97da73eb
DTSTART;VALUE=DATE:20261013
DTEND;VALUE=DATE:20261014
DESCRIPTION:
LOCATION:
SUMMARY:Fall Picture Retake Day
END:VEVENT
BEGIN:VEVENT
DTSTAMP:20260426T004034Z
UID:ff251d45-ba6f-4d29-8b88-ce5aab2f895d
DTSTART;VALUE=DATE:20261103
DTEND;VALUE=DATE:20261104
DESCRIPTION:
LOCATION:
SUMMARY:Election Day\, No School For Students/Professional Development
END:VEVENT
BEGIN:VEVENT
DTSTAMP:20260426T004034Z
UID:14e3c433-b782-4780-b172-a63c72a53820
DTSTART;VALUE=DATE:20261125
DTEND;VALUE=DATE:20261128
DESCRIPTION:
LOCATION:
SUMMARY:Thanksgiving Break - No School for Staff and Students
END:VEVENT
BEGIN:VEVENT
DTSTAMP:20260426T004034Z
UID:e7d435bb-826f-48d9-9d39-1247cf37c489
DTSTART;VALUE=DATE:20261217
DTEND;VALUE=DATE:20261218
DESCRIPTION:
LOCATION:
SUMMARY:End of 2nd Grading Period
END:VEVENT
BEGIN:VEVENT
DTSTAMP:20260426T004034Z
UID:4a783973-9790-4de8-bead-baa60b1e3cdf
DTSTART;VALUE=DATE:20261218
DTEND;VALUE=DATE:20270104
DESCRIPTION:
LOCATION:
SUMMARY:Winter Break\, No School for Staff and Students
END:VEVENT
BEGIN:VEVENT
DTSTAMP:20260426T004034Z
UID:3d9e7ea5-3c55-449e-b6f1-9d114a8022ce
DTSTART;VALUE=DATE:20270104
DTEND;VALUE=DATE:20270105
DESCRIPTION:
LOCATION:
SUMMARY:Staff Work Day - No School for Students
END:VEVENT
BEGIN:VEVENT
DTSTAMP:20260426T004034Z
UID:68187cfb-665d-404e-8c6a-67d87bfd42e6
DTSTART;VALUE=DATE:20270105
DTEND;VALUE=DATE:20270106
DESCRIPTION:
LOCATION:
SUMMARY:Begin 3rd Grading Period
END:VEVENT
BEGIN:VEVENT
DTSTAMP:20260426T004034Z
UID:243862bb-1d9f-4b99-9e66-5ffcb0dc1935
DTSTART;VALUE=DATE:20270118
DTEND;VALUE=DATE:20270119
DESCRIPTION:
LOCATION:
SUMMARY:MLK Jr Holiday No School for Staff and Students
END:VEVENT
BEGIN:VEVENT
DTSTAMP:20260426T004034Z
UID:a325eeaa-cb8f-492b-9f6b-a82dc05655d6
DTSTART;VALUE=DATE:20270215
DTEND;VALUE=DATE:20270216
DESCRIPTION:
LOCATION:
SUMMARY:President's Day Holiday No School for Staff and Students
END:VEVENT
BEGIN:VEVENT
DTSTAMP:20260426T004034Z
UID:057714a1-e080-4d2a-9e6c-57b356a9cf20
DTSTART;VALUE=DATE:20270301
DTEND;VALUE=DATE:20270309
DESCRIPTION:
LOCATION:
SUMMARY:Book Fair
END:VEVENT
BEGIN:VEVENT
DTSTAMP:20260426T004034Z
UID:3a99c8f5-7fce-4cce-963a-87d89f6cdd06
DTSTART;VALUE=DATE:20270310
DTEND;VALUE=DATE:20270311
DESCRIPTION:
LOCATION:
SUMMARY:End of 3rd Grading Period
END:VEVENT
BEGIN:VEVENT
DTSTAMP:20260426T004034Z
UID:71070291-6326-4dd1-8df2-b2d3fa3446fe
DTSTART;VALUE=DATE:20270311
DTEND;VALUE=DATE:20270312
DESCRIPTION:
LOCATION:
SUMMARY:Begin 4th Grading Period
END:VEVENT
BEGIN:VEVENT
DTSTAMP:20260426T004034Z
UID:672a3dec-a469-439d-9e1a-38bc8c36bd88
DTSTART;VALUE=DATE:20270312
DTEND;VALUE=DATE:20270313
DESCRIPTION:
LOCATION:
SUMMARY:Teacher Work Day No School For Students
END:VEVENT
BEGIN:VEVENT
DTSTAMP:20260426T004034Z
UID:70552ece-12f1-4a62-acbc-ac6ea9097f86
DTSTART;VALUE=DATE:20270324
DTEND;VALUE=DATE:20270325
DESCRIPTION:
LOCATION:
SUMMARY:Spring Class Picture Day
END:VEVENT
BEGIN:VEVENT
DTSTAMP:20260426T004034Z
UID:5a340b65-d5ea-4f2e-9929-a88946d7f9b0
DTSTART;VALUE=DATE:20270329
DTEND;VALUE=DATE:20270403
DESCRIPTION:
LOCATION:
SUMMARY:Spring Break No School for Staff and Students
END:VEVENT
BEGIN:VEVENT
DTSTAMP:20260426T004034Z
UID:caf90695-9ca4-48ee-ad50-b1685822c765
DTSTART;VALUE=DATE:20270520
DTEND;VALUE=DATE:20270521
DESCRIPTION:
LOCATION:
SUMMARY:End of 4th Grading Period/Last Day of School
END:VEVENT
BEGIN:VEVENT
DTSTAMP:20260426T004034Z
UID:904011c9-0fc0-47f8-8083-4d46f2d79dde
DTSTART;VALUE=DATE:20270531
DTEND;VALUE=DATE:20270601
DESCRIPTION:
LOCATION:
SUMMARY:Memorial Day Staff Holiday
END:VEVENT
END:VCALENDAR
