BEGIN:VCALENDAR
VERSION:2.0
PRODID:icalendar-ruby
CALSCALE:GREGORIAN
BEGIN:VTIMEZONE
TZID:America/New_York
BEGIN:DAYLIGHT
DTSTART:20260308T030000
TZOFFSETFROM:-0500
TZOFFSETTO:-0400
RRULE:FREQ=YEARLY;BYDAY=2SU;BYMONTH=3
TZNAME:EDT
END:DAYLIGHT
BEGIN:STANDARD
DTSTART:20261101T010000
TZOFFSETFROM:-0400
TZOFFSETTO:-0500
RRULE:FREQ=YEARLY;BYDAY=1SU;BYMONTH=11
TZNAME:EST
END:STANDARD
END:VTIMEZONE
BEGIN:VEVENT
DTSTAMP:20260421T204610Z
UID:c4fbefe6-f349-4a20-875b-44f4358590f9
DTSTART;VALUE=DATE:20260421
DTEND;VALUE=DATE:20260422
DESCRIPTION:
LOCATION:
SUMMARY:B day
END:VEVENT
BEGIN:VEVENT
DTSTAMP:20260421T204610Z
UID:841b9b4d-cb68-4855-a434-055790d5c774
DTSTART;VALUE=DATE:20260422
DTEND;VALUE=DATE:20260423
DESCRIPTION:
LOCATION:
SUMMARY:C day
END:VEVENT
BEGIN:VEVENT
DTSTAMP:20260421T204610Z
UID:3b4c2a85-9f10-45cf-b259-d96f15327888
DTSTART;VALUE=DATE:20260423
DTEND;VALUE=DATE:20260424
DESCRIPTION:
LOCATION:
SUMMARY:A day
END:VEVENT
BEGIN:VEVENT
DTSTAMP:20260421T204610Z
UID:654b0b91-44e3-43c8-9462-a397eb849a2f
DTSTART;VALUE=DATE:20260424
DTEND;VALUE=DATE:20260425
DESCRIPTION:
LOCATION:
SUMMARY:B day
END:VEVENT
BEGIN:VEVENT
DTSTAMP:20260421T204610Z
UID:a4e66ea5-8282-4266-8df2-c7a7a53d0e5e
DTSTART;VALUE=DATE:20260427
DTEND;VALUE=DATE:20260428
DESCRIPTION:
LOCATION:
SUMMARY:C day
END:VEVENT
BEGIN:VEVENT
DTSTAMP:20260421T204610Z
UID:d12d842e-3b48-48d7-96a8-ce2adc83fe42
DTSTART;VALUE=DATE:20260428
DTEND;VALUE=DATE:20260429
DESCRIPTION:
LOCATION:
SUMMARY:A day
END:VEVENT
BEGIN:VEVENT
DTSTAMP:20260421T204610Z
UID:1179eca8-cd9a-4d5d-bf2a-476697513bac
DTSTART;VALUE=DATE:20260429
DTEND;VALUE=DATE:20260430
DESCRIPTION:
LOCATION:
SUMMARY:B day
END:VEVENT
BEGIN:VEVENT
DTSTAMP:20260421T204610Z
UID:98d18675-35e4-4992-8878-62a670b92a37
DTSTART:20260429T190000
DTEND:20260429T203000
DESCRIPTION:
LOCATION:
SUMMARY:Spring Concert
END:VEVENT
BEGIN:VEVENT
DTSTAMP:20260421T204610Z
UID:906bf1ae-d7d1-4d38-9b28-bd5286b38b74
DTSTART;VALUE=DATE:20260430
DTEND;VALUE=DATE:20260501
DESCRIPTION:
LOCATION:
SUMMARY:C day
END:VEVENT
BEGIN:VEVENT
DTSTAMP:20260421T204610Z
UID:c0b15bac-c2b6-4c58-8938-f32c6dbb4133
DTSTART;VALUE=DATE:20260501
DTEND;VALUE=DATE:20260502
DESCRIPTION:
LOCATION:
SUMMARY:A day
END:VEVENT
BEGIN:VEVENT
DTSTAMP:20260421T204610Z
UID:a5eb07c8-9d46-4ed5-85b3-278b6adb608e
DTSTART:20261121T083000
DTEND:20261121T103000
DESCRIPTION:
LOCATION:
SUMMARY:Tim Shoemaker Vaping Presentation
END:VEVENT
END:VCALENDAR
